BEGIN:VCALENDAR
VERSION:2.0
PRODID:-//Hippisch Centrum Exloo - ECPv6.15.17.1//NONSGML v1.0//EN
CALSCALE:GREGORIAN
METHOD:PUBLISH
X-WR-CALNAME:Hippisch Centrum Exloo
X-ORIGINAL-URL:https://www.hippischcentrumexloo.nl
X-WR-CALDESC:Evenementen voor Hippisch Centrum Exloo
REFRESH-INTERVAL;VALUE=DURATION:PT1H
X-Robots-Tag:noindex
X-PUBLISHED-TTL:PT1H
BEGIN:VTIMEZONE
TZID:Europe/Amsterdam
BEGIN:DAYLIGHT
TZOFFSETFROM:+0100
TZOFFSETTO:+0200
TZNAME:CEST
DTSTART:20200329T010000
END:DAYLIGHT
BEGIN:STANDARD
TZOFFSETFROM:+0200
TZOFFSETTO:+0100
TZNAME:CET
DTSTART:20201025T010000
END:STANDARD
BEGIN:DAYLIGHT
TZOFFSETFROM:+0100
TZOFFSETTO:+0200
TZNAME:CEST
DTSTART:20210328T010000
END:DAYLIGHT
BEGIN:STANDARD
TZOFFSETFROM:+0200
TZOFFSETTO:+0100
TZNAME:CET
DTSTART:20211031T010000
END:STANDARD
BEGIN:DAYLIGHT
TZOFFSETFROM:+0100
TZOFFSETTO:+0200
TZNAME:CEST
DTSTART:20220327T010000
END:DAYLIGHT
BEGIN:STANDARD
TZOFFSETFROM:+0200
TZOFFSETTO:+0100
TZNAME:CET
DTSTART:20221030T010000
END:STANDARD
END:VTIMEZONE
BEGIN:VEVENT
DTSTART;VALUE=DATE:20210804
DTEND;VALUE=DATE:20210805
DTSTAMP:20260419T180535
CREATED:20201029T151501Z
LAST-MODIFIED:20201029T151501Z
UID:9537-1628035200-1628121599@www.hippischcentrumexloo.nl
SUMMARY:Springwedstrijd!
DESCRIPTION:Springwedstrijd!! \nVan BB tot 1.40m  voor paarden en pony’s! \nBuiten banen bezet! \nopgave via Diny Blom: wedstrijdenexloo@gmail.com
URL:https://www.hippischcentrumexloo.nl/evenement/springwedstrijd-4-2021-08-04/
LOCATION:Hippisch Centrum Exloo\, Valtherweg 27A\, Exloo\, Drenthe\, 7875 TA\, Nederland
ORGANIZER;CN="Hippisch Centrum Exloo":MAILTO:info@hippischcentrumexloo.nl
END:VEVENT
BEGIN:VEVENT
DTSTART;TZID=Europe/Amsterdam:20210806T080000
DTEND;TZID=Europe/Amsterdam:20210808T170000
DTSTAMP:20260419T180535
CREATED:20210426T073548Z
LAST-MODIFIED:20210426T073548Z
UID:9856-1628236800-1628442000@www.hippischcentrumexloo.nl
SUMMARY:WR Wedstrijd YRN
DESCRIPTION:bezetting ovaalbaan en deel buiten terrein
URL:https://www.hippischcentrumexloo.nl/evenement/wr-wedstrijd-yrn/
END:VEVENT
BEGIN:VEVENT
DTSTART;VALUE=DATE:20210811
DTEND;VALUE=DATE:20210812
DTSTAMP:20260419T180535
CREATED:20201029T150744Z
LAST-MODIFIED:20201029T150744Z
UID:9521-1628640000-1628726399@www.hippischcentrumexloo.nl
SUMMARY:Springwedstrijd!
DESCRIPTION:Springwedstrijd!! \nVan BB to ZZ voor paarden en pony’s! \nBuiten banen bezet! \nopgave via Diny Blom: wedstrijdenexloo@gmail.com
URL:https://www.hippischcentrumexloo.nl/evenement/springwedstrijd-3-2021-08-11/
LOCATION:Hippisch Centrum Exloo\, Valtherweg 27A\, Exloo\, Drenthe\, 7875 TA\, Nederland
ORGANIZER;CN="Hippisch Centrum Exloo":MAILTO:info@hippischcentrumexloo.nl
END:VEVENT
BEGIN:VEVENT
DTSTART;TZID=Europe/Amsterdam:20210814T080000
DTEND;TZID=Europe/Amsterdam:20210815T170000
DTSTAMP:20260419T180535
CREATED:20201026T134431Z
LAST-MODIFIED:20210705T083431Z
UID:9463-1628928000-1629046800@www.hippischcentrumexloo.nl
SUMMARY:Hippisch Actief Subtop en Basiswedstrijd
DESCRIPTION:Zaterdag: \npaarden Z tm ZZ zwaar \nZondag: \nChildren\, Junioren\, Young Riders\, U25\, Lichte Tour\, Zware Tour \n  \nvoor opgave via mijnknhs.nl en voor info: wedstrijden@hippischactief.nl
URL:https://www.hippischcentrumexloo.nl/evenement/hippisch-actief-subtop-en-basiswedstrijd-2021-08-21/
LOCATION:Hippisch Centrum Exloo\, Valtherweg 27A\, Exloo\, Drenthe\, 7875 TA\, Nederland
ORGANIZER;CN="Hippisch Centrum Exloo":MAILTO:info@hippischcentrumexloo.nl
END:VEVENT
BEGIN:VEVENT
DTSTART;VALUE=DATE:20210818
DTEND;VALUE=DATE:20210819
DTSTAMP:20260419T180535
CREATED:20201029T150744Z
LAST-MODIFIED:20201029T150744Z
UID:9522-1629244800-1629331199@www.hippischcentrumexloo.nl
SUMMARY:Springwedstrijd!
DESCRIPTION:Springwedstrijd!! \nVan BB to ZZ voor paarden en pony’s! \nBuiten banen bezet! \nopgave via Diny Blom: wedstrijdenexloo@gmail.com
URL:https://www.hippischcentrumexloo.nl/evenement/springwedstrijd-3-2021-08-18/
LOCATION:Hippisch Centrum Exloo\, Valtherweg 27A\, Exloo\, Drenthe\, 7875 TA\, Nederland
ORGANIZER;CN="Hippisch Centrum Exloo":MAILTO:info@hippischcentrumexloo.nl
END:VEVENT
BEGIN:VEVENT
DTSTART;VALUE=DATE:20210820
DTEND;VALUE=DATE:20210821
DTSTAMP:20260419T180535
CREATED:20201029T151805Z
LAST-MODIFIED:20201029T151900Z
UID:9543-1629417600-1629503999@www.hippischcentrumexloo.nl
SUMMARY:Basis Dressuur wedstrijd!
DESCRIPTION:Paarden en Pony’s van B tm M2 \nBuiten! \nopgave via: mijnknhs \nvragen via: dressuurexloo@gmail.com
URL:https://www.hippischcentrumexloo.nl/evenement/basis-dressuur-wedstrijd-2021-08-20/
LOCATION:Hippisch Centrum Exloo\, Valtherweg 27A\, Exloo\, Drenthe\, 7875 TA\, Nederland
ORGANIZER;CN="Hippisch Centrum Exloo":MAILTO:info@hippischcentrumexloo.nl
END:VEVENT
BEGIN:VEVENT
DTSTART;TZID=Europe/Amsterdam:20210820T130000
DTEND;TZID=Europe/Amsterdam:20210820T163000
DTSTAMP:20260419T180535
CREATED:20210416T141012Z
LAST-MODIFIED:20210416T141012Z
UID:9786-1629464400-1629477000@www.hippischcentrumexloo.nl
SUMMARY:De weg naar Gp bov’n Grunn
DESCRIPTION:Dressuur talenten binnen bak bezet
URL:https://www.hippischcentrumexloo.nl/evenement/de-weg-naar-gp-bovn-grunn-4/
END:VEVENT
BEGIN:VEVENT
DTSTART;VALUE=DATE:20210825
DTEND;VALUE=DATE:20210826
DTSTAMP:20260419T180535
CREATED:20201029T150744Z
LAST-MODIFIED:20201029T150744Z
UID:9523-1629849600-1629935999@www.hippischcentrumexloo.nl
SUMMARY:Springwedstrijd!
DESCRIPTION:Springwedstrijd!! \nVan BB to ZZ voor paarden en pony’s! \nBuiten banen bezet! \nopgave via Diny Blom: wedstrijdenexloo@gmail.com
URL:https://www.hippischcentrumexloo.nl/evenement/springwedstrijd-3-2021-08-25/
LOCATION:Hippisch Centrum Exloo\, Valtherweg 27A\, Exloo\, Drenthe\, 7875 TA\, Nederland
ORGANIZER;CN="Hippisch Centrum Exloo":MAILTO:info@hippischcentrumexloo.nl
END:VEVENT
BEGIN:VEVENT
DTSTART;VALUE=DATE:20210828
DTEND;VALUE=DATE:20210829
DTSTAMP:20260419T180535
CREATED:20210416T142722Z
LAST-MODIFIED:20210416T142825Z
UID:9798-1630108800-1630195199@www.hippischcentrumexloo.nl
SUMMARY:Tuigpaarden Concours
DESCRIPTION:buiten terreinen bezet
URL:https://www.hippischcentrumexloo.nl/evenement/tuigpaard-concours/
END:VEVENT
BEGIN:VEVENT
DTSTART;VALUE=DATE:20210829
DTEND;VALUE=DATE:20210830
DTSTAMP:20260419T180535
CREATED:20201029T150744Z
LAST-MODIFIED:20201029T150744Z
UID:9524-1630195200-1630281599@www.hippischcentrumexloo.nl
SUMMARY:Springwedstrijd!
DESCRIPTION:Springwedstrijd!! \nVan BB to ZZ voor paarden en pony’s! \nBuiten banen bezet! \nopgave via Diny Blom: wedstrijdenexloo@gmail.com
URL:https://www.hippischcentrumexloo.nl/evenement/springwedstrijd-3-2021-08-29/
LOCATION:Hippisch Centrum Exloo\, Valtherweg 27A\, Exloo\, Drenthe\, 7875 TA\, Nederland
ORGANIZER;CN="Hippisch Centrum Exloo":MAILTO:info@hippischcentrumexloo.nl
END:VEVENT
BEGIN:VEVENT
DTSTART;TZID=Europe/Amsterdam:20210831T080000
DTEND;TZID=Europe/Amsterdam:20210904T170000
DTSTAMP:20260419T180535
CREATED:20210416T141217Z
LAST-MODIFIED:20210416T141217Z
UID:9788-1630396800-1630774800@www.hippischcentrumexloo.nl
SUMMARY:CSI
DESCRIPTION:alle banen bezet \ninfo Op de website onder CSI
URL:https://www.hippischcentrumexloo.nl/evenement/csi-2/
END:VEVENT
END:VCALENDAR