BEGIN:VCALENDAR
VERSION:2.0
PRODID:-//Hippisch Centrum Exloo - ECPv6.15.17.1//NONSGML v1.0//EN
CALSCALE:GREGORIAN
METHOD:PUBLISH
X-WR-CALNAME:Hippisch Centrum Exloo
X-ORIGINAL-URL:https://www.hippischcentrumexloo.nl
X-WR-CALDESC:Evenementen voor Hippisch Centrum Exloo
REFRESH-INTERVAL;VALUE=DURATION:PT1H
X-Robots-Tag:noindex
X-PUBLISHED-TTL:PT1H
BEGIN:VTIMEZONE
TZID:Europe/Amsterdam
BEGIN:DAYLIGHT
TZOFFSETFROM:+0100
TZOFFSETTO:+0200
TZNAME:CEST
DTSTART:20200329T010000
END:DAYLIGHT
BEGIN:STANDARD
TZOFFSETFROM:+0200
TZOFFSETTO:+0100
TZNAME:CET
DTSTART:20201025T010000
END:STANDARD
BEGIN:DAYLIGHT
TZOFFSETFROM:+0100
TZOFFSETTO:+0200
TZNAME:CEST
DTSTART:20210328T010000
END:DAYLIGHT
BEGIN:STANDARD
TZOFFSETFROM:+0200
TZOFFSETTO:+0100
TZNAME:CET
DTSTART:20211031T010000
END:STANDARD
BEGIN:DAYLIGHT
TZOFFSETFROM:+0100
TZOFFSETTO:+0200
TZNAME:CEST
DTSTART:20220327T010000
END:DAYLIGHT
BEGIN:STANDARD
TZOFFSETFROM:+0200
TZOFFSETTO:+0100
TZNAME:CET
DTSTART:20221030T010000
END:STANDARD
END:VTIMEZONE
BEGIN:VEVENT
DTSTART;VALUE=DATE:20210503
DTEND;VALUE=DATE:20210504
DTSTAMP:20260419T232758
CREATED:20210323T142957Z
LAST-MODIFIED:20210416T131714Z
UID:9658-1620000000-1620086399@www.hippischcentrumexloo.nl
SUMMARY:Ibob
DESCRIPTION:nadere info volgt \nbeide binnen bakken bezet
URL:https://www.hippischcentrumexloo.nl/evenement/ibob/
LOCATION:Hippisch Centrum Exloo\, Valtherweg 27A\, Exloo\, Drenthe\, 7875 TA\, Nederland
ORGANIZER;CN="Hippisch Centrum Exloo":MAILTO:info@hippischcentrumexloo.nl
END:VEVENT
BEGIN:VEVENT
DTSTART;TZID=Europe/Amsterdam:20210504T080000
DTEND;TZID=Europe/Amsterdam:20210509T170000
DTSTAMP:20260419T232758
CREATED:20210416T132204Z
LAST-MODIFIED:20210416T132204Z
UID:9752-1620115200-1620579600@www.hippischcentrumexloo.nl
SUMMARY:CDI
DESCRIPTION:Info zie CDI website
URL:https://www.hippischcentrumexloo.nl/evenement/cdi/
CATEGORIES:Dressuur
END:VEVENT
BEGIN:VEVENT
DTSTART;TZID=Europe/Amsterdam:20210511T080000
DTEND;TZID=Europe/Amsterdam:20210515T170000
DTSTAMP:20260419T232758
CREATED:20210416T132313Z
LAST-MODIFIED:20210416T132313Z
UID:9755-1620720000-1621098000@www.hippischcentrumexloo.nl
SUMMARY:CSI
DESCRIPTION:Info zie CSI Website
URL:https://www.hippischcentrumexloo.nl/evenement/csi/
CATEGORIES:Springen
END:VEVENT
BEGIN:VEVENT
DTSTART;TZID=Europe/Amsterdam:20210516T080000
DTEND;TZID=Europe/Amsterdam:20210516T170000
DTSTAMP:20260419T232758
CREATED:20210416T144616Z
LAST-MODIFIED:20210416T144616Z
UID:9813-1621152000-1621184400@www.hippischcentrumexloo.nl
SUMMARY:Sanne Bijermans
DESCRIPTION:Ijslanderbaan
URL:https://www.hippischcentrumexloo.nl/evenement/sanne-bijermans/
END:VEVENT
BEGIN:VEVENT
DTSTART;TZID=Europe/Amsterdam:20210521T080000
DTEND;TZID=Europe/Amsterdam:20210523T170000
DTSTAMP:20260419T232758
CREATED:20201208T101335Z
LAST-MODIFIED:20210517T091714Z
UID:9574-1621584000-1621789200@www.hippischcentrumexloo.nl
SUMMARY:Pinkster weekend YRN AFGELAST!!
DESCRIPTION:ovaal baan en velden eromheen en gedeelte buitenbaan voor inrijden
URL:https://www.hippischcentrumexloo.nl/evenement/pinkster-weekend-yrn/
LOCATION:Hippisch Centrum Exloo\, Valtherweg 27A\, Exloo\, Drenthe\, 7875 TA\, Nederland
CATEGORIES:IJRN
ORGANIZER;CN="Hippisch Centrum Exloo":MAILTO:info@hippischcentrumexloo.nl
END:VEVENT
BEGIN:VEVENT
DTSTART;TZID=Europe/Amsterdam:20210521T130000
DTEND;TZID=Europe/Amsterdam:20210521T163000
DTSTAMP:20260419T232758
CREATED:20210416T133028Z
LAST-MODIFIED:20210416T133028Z
UID:9766-1621602000-1621614600@www.hippischcentrumexloo.nl
SUMMARY:De weg naar Gp bov'n Grunn
DESCRIPTION:dressuur training top talenten \nbezetting: grote bak binnen
URL:https://www.hippischcentrumexloo.nl/evenement/de-weg-naar-gp-bovn-grunn/
END:VEVENT
BEGIN:VEVENT
DTSTART;VALUE=DATE:20210526
DTEND;VALUE=DATE:20210527
DTSTAMP:20260419T232758
CREATED:20201029T150744Z
LAST-MODIFIED:20201029T150744Z
UID:9508-1621987200-1622073599@www.hippischcentrumexloo.nl
SUMMARY:Springwedstrijd!
DESCRIPTION:Springwedstrijd!! \nVan BB to ZZ voor paarden en pony’s! \nBuiten banen bezet! \nopgave via Diny Blom: wedstrijdenexloo@gmail.com
URL:https://www.hippischcentrumexloo.nl/evenement/springwedstrijd-3-2021-05-26/
LOCATION:Hippisch Centrum Exloo\, Valtherweg 27A\, Exloo\, Drenthe\, 7875 TA\, Nederland
ORGANIZER;CN="Hippisch Centrum Exloo":MAILTO:info@hippischcentrumexloo.nl
END:VEVENT
BEGIN:VEVENT
DTSTART;VALUE=DATE:20210530
DTEND;VALUE=DATE:20210531
DTSTAMP:20260419T232758
CREATED:20201029T150744Z
LAST-MODIFIED:20201029T150744Z
UID:9509-1622332800-1622419199@www.hippischcentrumexloo.nl
SUMMARY:Springwedstrijd!
DESCRIPTION:Springwedstrijd!! \nVan BB to ZZ voor paarden en pony’s! \nBuiten banen bezet! \nopgave via Diny Blom: wedstrijdenexloo@gmail.com
URL:https://www.hippischcentrumexloo.nl/evenement/springwedstrijd-3-2021-05-30/
LOCATION:Hippisch Centrum Exloo\, Valtherweg 27A\, Exloo\, Drenthe\, 7875 TA\, Nederland
ORGANIZER;CN="Hippisch Centrum Exloo":MAILTO:info@hippischcentrumexloo.nl
END:VEVENT
END:VCALENDAR