BEGIN:VCALENDAR
VERSION:2.0
PRODID:-//Hippisch Centrum Exloo - ECPv6.15.17.1//NONSGML v1.0//EN
CALSCALE:GREGORIAN
METHOD:PUBLISH
X-WR-CALNAME:Hippisch Centrum Exloo
X-ORIGINAL-URL:https://www.hippischcentrumexloo.nl
X-WR-CALDESC:Evenementen voor Hippisch Centrum Exloo
REFRESH-INTERVAL;VALUE=DURATION:PT1H
X-Robots-Tag:noindex
X-PUBLISHED-TTL:PT1H
BEGIN:VTIMEZONE
TZID:Europe/Amsterdam
BEGIN:DAYLIGHT
TZOFFSETFROM:+0100
TZOFFSETTO:+0200
TZNAME:CEST
DTSTART:20200329T010000
END:DAYLIGHT
BEGIN:STANDARD
TZOFFSETFROM:+0200
TZOFFSETTO:+0100
TZNAME:CET
DTSTART:20201025T010000
END:STANDARD
BEGIN:DAYLIGHT
TZOFFSETFROM:+0100
TZOFFSETTO:+0200
TZNAME:CEST
DTSTART:20210328T010000
END:DAYLIGHT
BEGIN:STANDARD
TZOFFSETFROM:+0200
TZOFFSETTO:+0100
TZNAME:CET
DTSTART:20211031T010000
END:STANDARD
BEGIN:DAYLIGHT
TZOFFSETFROM:+0100
TZOFFSETTO:+0200
TZNAME:CEST
DTSTART:20220327T010000
END:DAYLIGHT
BEGIN:STANDARD
TZOFFSETFROM:+0200
TZOFFSETTO:+0100
TZNAME:CET
DTSTART:20221030T010000
END:STANDARD
END:VTIMEZONE
BEGIN:VEVENT
DTSTART;VALUE=DATE:20210203
DTEND;VALUE=DATE:20210204
DTSTAMP:20260420T045449
CREATED:20200930T141854Z
LAST-MODIFIED:20200930T141854Z
UID:9352-1612310400-1612396799@www.hippischcentrumexloo.nl
SUMMARY:Springwedstijd!
DESCRIPTION:Springwedstrijd!! \nVan BB to ZZ voor paarden en pony’s! \nBinnen Bakken bezet!! \nopgave via Diny Blom: wedstrijdenexloo@gmail.com
URL:https://www.hippischcentrumexloo.nl/evenement/springwedstijd-2021-02-03/
LOCATION:Hippisch Centrum Exloo\, Valtherweg 27A\, Exloo\, Drenthe\, 7875 TA\, Nederland
CATEGORIES:Springen
ORGANIZER;CN="Hippisch Centrum Exloo":MAILTO:info@hippischcentrumexloo.nl
END:VEVENT
BEGIN:VEVENT
DTSTART;TZID=Europe/Amsterdam:20210204T080000
DTEND;TZID=Europe/Amsterdam:20210205T170000
DTSTAMP:20260420T045449
CREATED:20201211T104118Z
LAST-MODIFIED:20210114T083245Z
UID:9580-1612425600-1612544400@www.hippischcentrumexloo.nl
SUMMARY:Selectie voor de Drentse Kampioenschappen AFGELAST!!!
DESCRIPTION:nadere info volgt
URL:https://www.hippischcentrumexloo.nl/evenement/selectie-voor-de-drentse-kampioenschappen/
LOCATION:Hippisch Centrum Exloo\, Valtherweg 27A\, Exloo\, Drenthe\, 7875 TA\, Nederland
CATEGORIES:Dressuur
ORGANIZER;CN="Hippisch Centrum Exloo":MAILTO:info@hippischcentrumexloo.nl
END:VEVENT
BEGIN:VEVENT
DTSTART;TZID=Europe/Amsterdam:20210205T080000
DTEND;TZID=Europe/Amsterdam:20210205T170000
DTSTAMP:20260420T045449
CREATED:20200930T150401Z
LAST-MODIFIED:20201029T143218Z
UID:9397-1612512000-1612544400@www.hippischcentrumexloo.nl
SUMMARY:Basis dressuurwedstijd
DESCRIPTION:Paarden en Pony’s van B tm M2 \nBinnen \nopgave via: mijnknhs en vragen via: dressuurexloo@gmail.com
URL:https://www.hippischcentrumexloo.nl/evenement/basis-dressuurwedstijd-2021-02-05/
LOCATION:Hippisch Centrum Exloo\, Valtherweg 27A\, Exloo\, Drenthe\, 7875 TA\, Nederland
CATEGORIES:Dressuur
ORGANIZER;CN="Hippisch Centrum Exloo":MAILTO:info@hippischcentrumexloo.nl
END:VEVENT
BEGIN:VEVENT
DTSTART;VALUE=DATE:20210206
DTEND;VALUE=DATE:20210207
DTSTAMP:20260420T045449
CREATED:20201112T124401Z
LAST-MODIFIED:20201112T124401Z
UID:9553-1612569600-1612655999@www.hippischcentrumexloo.nl
SUMMARY:Training Ijslanders
DESCRIPTION:Training op de Ijslander baan
URL:https://www.hippischcentrumexloo.nl/evenement/training-ijslanders-2021-02-06/
LOCATION:Hippisch Centrum Exloo\, Valtherweg 27A\, Exloo\, Drenthe\, 7875 TA\, Nederland
CATEGORIES:IJRN
ORGANIZER;CN="Hippisch Centrum Exloo":MAILTO:info@hippischcentrumexloo.nl
END:VEVENT
BEGIN:VEVENT
DTSTART;TZID=Europe/Amsterdam:20210206T080000
DTEND;TZID=Europe/Amsterdam:20210207T200000
DTSTAMP:20260420T045449
CREATED:20200708T080905Z
LAST-MODIFIED:20210114T084603Z
UID:8926-1612598400-1612728000@www.hippischcentrumexloo.nl
SUMMARY:Hippisch Actief Subtop en basis wedstrijden AFGELAST!!!
DESCRIPTION:  \nZaterdag: \npaarden Z tm ZZL \nZondag: \nSubtop \nvoor opgave via mijnknhs.nl en voor info: wedstrijden@hippischactief.nl \n 
URL:https://www.hippischcentrumexloo.nl/evenement/hippisch-actief-subtop-wedstrijd-5/
LOCATION:Hippisch Centrum Exloo\, Valtherweg 27A\, Exloo\, Drenthe\, 7875 TA\, Nederland
CATEGORIES:Dressuur,Subtop
ORGANIZER;CN="Hippisch Centrum Exloo":MAILTO:info@hippischcentrumexloo.nl
END:VEVENT
BEGIN:VEVENT
DTSTART;TZID=Europe/Amsterdam:20210208T080000
DTEND;TZID=Europe/Amsterdam:20210209T170000
DTSTAMP:20260420T045449
CREATED:20201211T104217Z
LAST-MODIFIED:20210114T083210Z
UID:9582-1612771200-1612890000@www.hippischcentrumexloo.nl
SUMMARY:Selectie voor de Drentse Kampioenschappen AFGELAST!!
DESCRIPTION:nadere info volgt
URL:https://www.hippischcentrumexloo.nl/evenement/selectie-voor-de-drentse-kampioenschappen-2/
LOCATION:Hippisch Centrum Exloo\, Valtherweg 27A\, Exloo\, Drenthe\, 7875 TA\, Nederland
CATEGORIES:Dressuur
ORGANIZER;CN="Hippisch Centrum Exloo":MAILTO:info@hippischcentrumexloo.nl
END:VEVENT
BEGIN:VEVENT
DTSTART;VALUE=DATE:20210210
DTEND;VALUE=DATE:20210211
DTSTAMP:20260420T045449
CREATED:20200930T141854Z
LAST-MODIFIED:20200930T141854Z
UID:9354-1612915200-1613001599@www.hippischcentrumexloo.nl
SUMMARY:Springwedstijd!
DESCRIPTION:Springwedstrijd!! \nVan BB to ZZ voor paarden en pony’s! \nBinnen Bakken bezet!! \nopgave via Diny Blom: wedstrijdenexloo@gmail.com
URL:https://www.hippischcentrumexloo.nl/evenement/springwedstijd-2021-02-10/
LOCATION:Hippisch Centrum Exloo\, Valtherweg 27A\, Exloo\, Drenthe\, 7875 TA\, Nederland
CATEGORIES:Springen
ORGANIZER;CN="Hippisch Centrum Exloo":MAILTO:info@hippischcentrumexloo.nl
END:VEVENT
BEGIN:VEVENT
DTSTART;TZID=Europe/Amsterdam:20210211T080000
DTEND;TZID=Europe/Amsterdam:20210213T170000
DTSTAMP:20260420T045449
CREATED:20201002T100546Z
LAST-MODIFIED:20210114T084514Z
UID:9411-1613030400-1613235600@www.hippischcentrumexloo.nl
SUMMARY:Hippisch Noord en Oost Nederland AFGELAST!!!!
DESCRIPTION:nadere info volgt
URL:https://www.hippischcentrumexloo.nl/evenement/nationale-springwedstrijd/
LOCATION:Hippisch Centrum Exloo\, Valtherweg 27A\, Exloo\, Drenthe\, 7875 TA\, Nederland
CATEGORIES:Springen
ORGANIZER;CN="Hippisch Centrum Exloo":MAILTO:info@hippischcentrumexloo.nl
END:VEVENT
BEGIN:VEVENT
DTSTART;VALUE=DATE:20210214
DTEND;VALUE=DATE:20210215
DTSTAMP:20260420T045449
CREATED:20200930T141854Z
LAST-MODIFIED:20210114T084440Z
UID:9355-1613260800-1613347199@www.hippischcentrumexloo.nl
SUMMARY:KNHS topsport jeugd competitie en Hartog competitie AFGELAST!!!
DESCRIPTION:opgeven via mijn KNHS \nnadere info volgt
URL:https://www.hippischcentrumexloo.nl/evenement/springwedstijd-2021-02-14/
LOCATION:Hippisch Centrum Exloo\, Valtherweg 27A\, Exloo\, Drenthe\, 7875 TA\, Nederland
CATEGORIES:Springen
ORGANIZER;CN="Hippisch Centrum Exloo":MAILTO:info@hippischcentrumexloo.nl
END:VEVENT
BEGIN:VEVENT
DTSTART;VALUE=DATE:20210217
DTEND;VALUE=DATE:20210218
DTSTAMP:20260420T045449
CREATED:20200930T141854Z
LAST-MODIFIED:20200930T141854Z
UID:9356-1613520000-1613606399@www.hippischcentrumexloo.nl
SUMMARY:Springwedstijd!
DESCRIPTION:Springwedstrijd!! \nVan BB to ZZ voor paarden en pony’s! \nBinnen Bakken bezet!! \nopgave via Diny Blom: wedstrijdenexloo@gmail.com
URL:https://www.hippischcentrumexloo.nl/evenement/springwedstijd-2021-02-17/
LOCATION:Hippisch Centrum Exloo\, Valtherweg 27A\, Exloo\, Drenthe\, 7875 TA\, Nederland
CATEGORIES:Springen
ORGANIZER;CN="Hippisch Centrum Exloo":MAILTO:info@hippischcentrumexloo.nl
END:VEVENT
BEGIN:VEVENT
DTSTART;VALUE=DATE:20210221
DTEND;VALUE=DATE:20210222
DTSTAMP:20260420T045449
CREATED:20200930T141854Z
LAST-MODIFIED:20200930T141854Z
UID:9357-1613865600-1613951999@www.hippischcentrumexloo.nl
SUMMARY:Springwedstijd!
DESCRIPTION:Springwedstrijd!! \nVan BB to ZZ voor paarden en pony’s! \nBinnen Bakken bezet!! \nopgave via Diny Blom: wedstrijdenexloo@gmail.com
URL:https://www.hippischcentrumexloo.nl/evenement/springwedstijd-2021-02-21/
LOCATION:Hippisch Centrum Exloo\, Valtherweg 27A\, Exloo\, Drenthe\, 7875 TA\, Nederland
CATEGORIES:Springen
ORGANIZER;CN="Hippisch Centrum Exloo":MAILTO:info@hippischcentrumexloo.nl
END:VEVENT
BEGIN:VEVENT
DTSTART;VALUE=DATE:20210224
DTEND;VALUE=DATE:20210225
DTSTAMP:20260420T045449
CREATED:20200930T141854Z
LAST-MODIFIED:20200930T141854Z
UID:9358-1614124800-1614211199@www.hippischcentrumexloo.nl
SUMMARY:Springwedstijd!
DESCRIPTION:Springwedstrijd!! \nVan BB to ZZ voor paarden en pony’s! \nBinnen Bakken bezet!! \nopgave via Diny Blom: wedstrijdenexloo@gmail.com
URL:https://www.hippischcentrumexloo.nl/evenement/springwedstijd-2021-02-24/
LOCATION:Hippisch Centrum Exloo\, Valtherweg 27A\, Exloo\, Drenthe\, 7875 TA\, Nederland
CATEGORIES:Springen
ORGANIZER;CN="Hippisch Centrum Exloo":MAILTO:info@hippischcentrumexloo.nl
END:VEVENT
BEGIN:VEVENT
DTSTART;TZID=Europe/Amsterdam:20210227T080000
DTEND;TZID=Europe/Amsterdam:20210228T170000
DTSTAMP:20260420T045449
CREATED:20201015T073245Z
LAST-MODIFIED:20210114T084358Z
UID:9435-1614412800-1614531600@www.hippischcentrumexloo.nl
SUMMARY:In en Outdoor Eventing AFGELAST!!!
DESCRIPTION:info volgt
URL:https://www.hippischcentrumexloo.nl/evenement/in-en-outdoor-eventing/
LOCATION:Hippisch Centrum Exloo\, Valtherweg 27A\, Exloo\, Drenthe\, 7875 TA\, Nederland
ORGANIZER;CN="Hippisch Centrum Exloo":MAILTO:info@hippischcentrumexloo.nl
END:VEVENT
BEGIN:VEVENT
DTSTART;VALUE=DATE:20210228
DTEND;VALUE=DATE:20210301
DTSTAMP:20260420T045449
CREATED:20200930T141854Z
LAST-MODIFIED:20200930T141854Z
UID:9359-1614470400-1614556799@www.hippischcentrumexloo.nl
SUMMARY:Springwedstijd!
DESCRIPTION:Springwedstrijd!! \nVan BB to ZZ voor paarden en pony’s! \nBinnen Bakken bezet!! \nopgave via Diny Blom: wedstrijdenexloo@gmail.com
URL:https://www.hippischcentrumexloo.nl/evenement/springwedstijd-2021-02-28/
LOCATION:Hippisch Centrum Exloo\, Valtherweg 27A\, Exloo\, Drenthe\, 7875 TA\, Nederland
CATEGORIES:Springen
ORGANIZER;CN="Hippisch Centrum Exloo":MAILTO:info@hippischcentrumexloo.nl
END:VEVENT
END:VCALENDAR