BEGIN:VCALENDAR
VERSION:2.0
PRODID:-//Hippisch Centrum Exloo - ECPv6.15.17.1//NONSGML v1.0//EN
CALSCALE:GREGORIAN
METHOD:PUBLISH
X-WR-CALNAME:Hippisch Centrum Exloo
X-ORIGINAL-URL:https://www.hippischcentrumexloo.nl
X-WR-CALDESC:Evenementen voor Hippisch Centrum Exloo
REFRESH-INTERVAL;VALUE=DURATION:PT1H
X-Robots-Tag:noindex
X-PUBLISHED-TTL:PT1H
BEGIN:VTIMEZONE
TZID:Europe/Amsterdam
BEGIN:DAYLIGHT
TZOFFSETFROM:+0100
TZOFFSETTO:+0200
TZNAME:CEST
DTSTART:20200329T010000
END:DAYLIGHT
BEGIN:STANDARD
TZOFFSETFROM:+0200
TZOFFSETTO:+0100
TZNAME:CET
DTSTART:20201025T010000
END:STANDARD
BEGIN:DAYLIGHT
TZOFFSETFROM:+0100
TZOFFSETTO:+0200
TZNAME:CEST
DTSTART:20210328T010000
END:DAYLIGHT
BEGIN:STANDARD
TZOFFSETFROM:+0200
TZOFFSETTO:+0100
TZNAME:CET
DTSTART:20211031T010000
END:STANDARD
BEGIN:DAYLIGHT
TZOFFSETFROM:+0100
TZOFFSETTO:+0200
TZNAME:CEST
DTSTART:20220327T010000
END:DAYLIGHT
BEGIN:STANDARD
TZOFFSETFROM:+0200
TZOFFSETTO:+0100
TZNAME:CET
DTSTART:20221030T010000
END:STANDARD
END:VTIMEZONE
BEGIN:VEVENT
DTSTART;VALUE=DATE:20210102
DTEND;VALUE=DATE:20210103
DTSTAMP:20260420T065031
CREATED:20201112T124401Z
LAST-MODIFIED:20201112T124401Z
UID:9552-1609545600-1609631999@www.hippischcentrumexloo.nl
SUMMARY:Training Ijslanders
DESCRIPTION:Training op de Ijslander baan
URL:https://www.hippischcentrumexloo.nl/evenement/training-ijslanders-2021-01-02/
LOCATION:Hippisch Centrum Exloo\, Valtherweg 27A\, Exloo\, Drenthe\, 7875 TA\, Nederland
CATEGORIES:IJRN
ORGANIZER;CN="Hippisch Centrum Exloo":MAILTO:info@hippischcentrumexloo.nl
END:VEVENT
BEGIN:VEVENT
DTSTART;VALUE=DATE:20210103
DTEND;VALUE=DATE:20210104
DTSTAMP:20260420T065031
CREATED:20200930T141854Z
LAST-MODIFIED:20200930T141854Z
UID:9343-1609632000-1609718399@www.hippischcentrumexloo.nl
SUMMARY:Springwedstijd!
DESCRIPTION:Springwedstrijd!! \nVan BB to ZZ voor paarden en pony’s! \nBinnen Bakken bezet!! \nopgave via Diny Blom: wedstrijdenexloo@gmail.com
URL:https://www.hippischcentrumexloo.nl/evenement/springwedstijd-2021-01-03/
LOCATION:Hippisch Centrum Exloo\, Valtherweg 27A\, Exloo\, Drenthe\, 7875 TA\, Nederland
CATEGORIES:Springen
ORGANIZER;CN="Hippisch Centrum Exloo":MAILTO:info@hippischcentrumexloo.nl
END:VEVENT
BEGIN:VEVENT
DTSTART;VALUE=DATE:20210106
DTEND;VALUE=DATE:20210107
DTSTAMP:20260420T065031
CREATED:20200930T141854Z
LAST-MODIFIED:20200930T141854Z
UID:9344-1609891200-1609977599@www.hippischcentrumexloo.nl
SUMMARY:Springwedstijd!
DESCRIPTION:Springwedstrijd!! \nVan BB to ZZ voor paarden en pony’s! \nBinnen Bakken bezet!! \nopgave via Diny Blom: wedstrijdenexloo@gmail.com
URL:https://www.hippischcentrumexloo.nl/evenement/springwedstijd-2021-01-06/
LOCATION:Hippisch Centrum Exloo\, Valtherweg 27A\, Exloo\, Drenthe\, 7875 TA\, Nederland
CATEGORIES:Springen
ORGANIZER;CN="Hippisch Centrum Exloo":MAILTO:info@hippischcentrumexloo.nl
END:VEVENT
BEGIN:VEVENT
DTSTART;TZID=Europe/Amsterdam:20210108T080000
DTEND;TZID=Europe/Amsterdam:20210108T170000
DTSTAMP:20260420T065031
CREATED:20200930T150401Z
LAST-MODIFIED:20201029T143218Z
UID:9396-1610092800-1610125200@www.hippischcentrumexloo.nl
SUMMARY:Basis dressuurwedstijd
DESCRIPTION:Paarden en Pony’s van B tm M2 \nBinnen \nopgave via: mijnknhs en vragen via: dressuurexloo@gmail.com
URL:https://www.hippischcentrumexloo.nl/evenement/basis-dressuurwedstijd-2021-01-08/
LOCATION:Hippisch Centrum Exloo\, Valtherweg 27A\, Exloo\, Drenthe\, 7875 TA\, Nederland
CATEGORIES:Dressuur
ORGANIZER;CN="Hippisch Centrum Exloo":MAILTO:info@hippischcentrumexloo.nl
END:VEVENT
BEGIN:VEVENT
DTSTART;TZID=Europe/Amsterdam:20210109T080000
DTEND;TZID=Europe/Amsterdam:20210110T200000
DTSTAMP:20260420T065031
CREATED:20200708T080802Z
LAST-MODIFIED:20200930T145951Z
UID:8924-1610179200-1610308800@www.hippischcentrumexloo.nl
SUMMARY:Hippisch Actief Subtop en Basis wedstrijden
DESCRIPTION:  \nZaterdag: \npaarden Z tm ZZL \nZondag: \nSubtop \nvoor opgave via mijnknhs.nl en voor info: wedstrijden@hippischactief.nl
URL:https://www.hippischcentrumexloo.nl/evenement/hippisch-actief-subtop-wedstrijd-4/
LOCATION:Hippisch Centrum Exloo\, Valtherweg 27A\, Exloo\, Drenthe\, 7875 TA\, Nederland
CATEGORIES:Subtop
ORGANIZER;CN="Hippisch Centrum Exloo":MAILTO:info@hippischcentrumexloo.nl
END:VEVENT
BEGIN:VEVENT
DTSTART;VALUE=DATE:20210112
DTEND;VALUE=DATE:20210113
DTSTAMP:20260420T065031
CREATED:20201112T124635Z
LAST-MODIFIED:20201223T185058Z
UID:9555-1610409600-1610495999@www.hippischcentrumexloo.nl
SUMMARY:IBOP AFGELAST!!
DESCRIPTION:IBOP Springen en Dressuur
URL:https://www.hippischcentrumexloo.nl/evenement/ibop-5/
LOCATION:Hippisch Centrum Exloo\, Valtherweg 27A\, Exloo\, Drenthe\, 7875 TA\, Nederland
ORGANIZER;CN="Hippisch Centrum Exloo":MAILTO:info@hippischcentrumexloo.nl
END:VEVENT
BEGIN:VEVENT
DTSTART;VALUE=DATE:20210113
DTEND;VALUE=DATE:20210114
DTSTAMP:20260420T065031
CREATED:20200930T141854Z
LAST-MODIFIED:20200930T141854Z
UID:9346-1610496000-1610582399@www.hippischcentrumexloo.nl
SUMMARY:Springwedstijd!
DESCRIPTION:Springwedstrijd!! \nVan BB to ZZ voor paarden en pony’s! \nBinnen Bakken bezet!! \nopgave via Diny Blom: wedstrijdenexloo@gmail.com
URL:https://www.hippischcentrumexloo.nl/evenement/springwedstijd-2021-01-13/
LOCATION:Hippisch Centrum Exloo\, Valtherweg 27A\, Exloo\, Drenthe\, 7875 TA\, Nederland
CATEGORIES:Springen
ORGANIZER;CN="Hippisch Centrum Exloo":MAILTO:info@hippischcentrumexloo.nl
END:VEVENT
BEGIN:VEVENT
DTSTART;VALUE=DATE:20210117
DTEND;VALUE=DATE:20210118
DTSTAMP:20260420T065031
CREATED:20200930T141854Z
LAST-MODIFIED:20200930T141854Z
UID:9347-1610841600-1610927999@www.hippischcentrumexloo.nl
SUMMARY:Springwedstijd!
DESCRIPTION:Springwedstrijd!! \nVan BB to ZZ voor paarden en pony’s! \nBinnen Bakken bezet!! \nopgave via Diny Blom: wedstrijdenexloo@gmail.com
URL:https://www.hippischcentrumexloo.nl/evenement/springwedstijd-2021-01-17/
LOCATION:Hippisch Centrum Exloo\, Valtherweg 27A\, Exloo\, Drenthe\, 7875 TA\, Nederland
CATEGORIES:Springen
ORGANIZER;CN="Hippisch Centrum Exloo":MAILTO:info@hippischcentrumexloo.nl
END:VEVENT
BEGIN:VEVENT
DTSTART;VALUE=DATE:20210120
DTEND;VALUE=DATE:20210121
DTSTAMP:20260420T065031
CREATED:20200930T141854Z
LAST-MODIFIED:20200930T141854Z
UID:9348-1611100800-1611187199@www.hippischcentrumexloo.nl
SUMMARY:Springwedstijd!
DESCRIPTION:Springwedstrijd!! \nVan BB to ZZ voor paarden en pony’s! \nBinnen Bakken bezet!! \nopgave via Diny Blom: wedstrijdenexloo@gmail.com
URL:https://www.hippischcentrumexloo.nl/evenement/springwedstijd-2021-01-20/
LOCATION:Hippisch Centrum Exloo\, Valtherweg 27A\, Exloo\, Drenthe\, 7875 TA\, Nederland
CATEGORIES:Springen
ORGANIZER;CN="Hippisch Centrum Exloo":MAILTO:info@hippischcentrumexloo.nl
END:VEVENT
BEGIN:VEVENT
DTSTART;TZID=Europe/Amsterdam:20210123T080000
DTEND;TZID=Europe/Amsterdam:20210124T170000
DTSTAMP:20260420T065031
CREATED:20200917T073350Z
LAST-MODIFIED:20210114T085139Z
UID:9286-1611388800-1611507600@www.hippischcentrumexloo.nl
SUMMARY:WE Wedstrijd AFGELAST!!!!
DESCRIPTION:binnen bezetting beide binnen bakken \nnadere info volgt!
URL:https://www.hippischcentrumexloo.nl/evenement/we-wedstrijd/
LOCATION:Hippisch Centrum Exloo\, Valtherweg 27A\, Exloo\, Drenthe\, 7875 TA\, Nederland
CATEGORIES:Working equitation
ORGANIZER;CN="Hippisch Centrum Exloo":MAILTO:info@hippischcentrumexloo.nl
END:VEVENT
BEGIN:VEVENT
DTSTART;VALUE=DATE:20210127
DTEND;VALUE=DATE:20210128
DTSTAMP:20260420T065031
CREATED:20200930T141854Z
LAST-MODIFIED:20200930T141854Z
UID:9350-1611705600-1611791999@www.hippischcentrumexloo.nl
SUMMARY:Springwedstijd!
DESCRIPTION:Springwedstrijd!! \nVan BB to ZZ voor paarden en pony’s! \nBinnen Bakken bezet!! \nopgave via Diny Blom: wedstrijdenexloo@gmail.com
URL:https://www.hippischcentrumexloo.nl/evenement/springwedstijd-2021-01-27/
LOCATION:Hippisch Centrum Exloo\, Valtherweg 27A\, Exloo\, Drenthe\, 7875 TA\, Nederland
CATEGORIES:Springen
ORGANIZER;CN="Hippisch Centrum Exloo":MAILTO:info@hippischcentrumexloo.nl
END:VEVENT
BEGIN:VEVENT
DTSTART;VALUE=DATE:20210131
DTEND;VALUE=DATE:20210201
DTSTAMP:20260420T065031
CREATED:20200930T141854Z
LAST-MODIFIED:20200930T141854Z
UID:9351-1612051200-1612137599@www.hippischcentrumexloo.nl
SUMMARY:Springwedstijd!
DESCRIPTION:Springwedstrijd!! \nVan BB to ZZ voor paarden en pony’s! \nBinnen Bakken bezet!! \nopgave via Diny Blom: wedstrijdenexloo@gmail.com
URL:https://www.hippischcentrumexloo.nl/evenement/springwedstijd-2021-01-31/
LOCATION:Hippisch Centrum Exloo\, Valtherweg 27A\, Exloo\, Drenthe\, 7875 TA\, Nederland
CATEGORIES:Springen
ORGANIZER;CN="Hippisch Centrum Exloo":MAILTO:info@hippischcentrumexloo.nl
END:VEVENT
END:VCALENDAR