BEGIN:VCALENDAR
VERSION:2.0
PRODID:-//Hippisch Centrum Exloo - ECPv6.15.17.1//NONSGML v1.0//EN
CALSCALE:GREGORIAN
METHOD:PUBLISH
X-WR-CALNAME:Hippisch Centrum Exloo
X-ORIGINAL-URL:https://www.hippischcentrumexloo.nl
X-WR-CALDESC:Evenementen voor Hippisch Centrum Exloo
REFRESH-INTERVAL;VALUE=DURATION:PT1H
X-Robots-Tag:noindex
X-PUBLISHED-TTL:PT1H
BEGIN:VTIMEZONE
TZID:Europe/Amsterdam
BEGIN:DAYLIGHT
TZOFFSETFROM:+0100
TZOFFSETTO:+0200
TZNAME:CEST
DTSTART:20180325T010000
END:DAYLIGHT
BEGIN:STANDARD
TZOFFSETFROM:+0200
TZOFFSETTO:+0100
TZNAME:CET
DTSTART:20181028T010000
END:STANDARD
BEGIN:DAYLIGHT
TZOFFSETFROM:+0100
TZOFFSETTO:+0200
TZNAME:CEST
DTSTART:20190331T010000
END:DAYLIGHT
BEGIN:STANDARD
TZOFFSETFROM:+0200
TZOFFSETTO:+0100
TZNAME:CET
DTSTART:20191027T010000
END:STANDARD
BEGIN:DAYLIGHT
TZOFFSETFROM:+0100
TZOFFSETTO:+0200
TZNAME:CEST
DTSTART:20200329T010000
END:DAYLIGHT
BEGIN:STANDARD
TZOFFSETFROM:+0200
TZOFFSETTO:+0100
TZNAME:CET
DTSTART:20201025T010000
END:STANDARD
END:VTIMEZONE
BEGIN:VEVENT
DTSTART;TZID=Europe/Amsterdam:20190801T080000
DTEND;TZID=Europe/Amsterdam:20190803T210000
DTSTAMP:20260421T133331
CREATED:20180928T094913Z
LAST-MODIFIED:20190227T160958Z
UID:6942-1564646400-1564866000@www.hippischcentrumexloo.nl
SUMMARY:Regio Kampioenschappen Drenthe Dressuur
DESCRIPTION:Alle buitenterreinen bezet. \nopgave via paardensportdrenthe.nl
URL:https://www.hippischcentrumexloo.nl/evenement/regio-kampioenschappen-drenthe-dressuur-2/
LOCATION:Hippisch Centrum Exloo\, Valtherweg 27A\, Exloo\, Drenthe\, 7875 TA\, Nederland
ORGANIZER;CN="Hippisch Centrum Exloo":MAILTO:info@hippischcentrumexloo.nl
END:VEVENT
BEGIN:VEVENT
DTSTART;TZID=Europe/Amsterdam:20190805T190000
DTEND;TZID=Europe/Amsterdam:20190805T200000
DTSTAMP:20260421T133331
CREATED:20190715T081604Z
LAST-MODIFIED:20190715T081604Z
UID:7932-1565031600-1565035200@www.hippischcentrumexloo.nl
SUMMARY:Springles Marleen Meijer
DESCRIPTION:Van 19.00 tot 20.00 uur is er springles in her parcours of opgezet parcours buiten.
URL:https://www.hippischcentrumexloo.nl/evenement/springles-marleen-meijer-2-2019-08-05/
LOCATION:Hippisch Centrum Exloo\, Valtherweg 27A\, Exloo\, Drenthe\, 7875 TA\, Nederland
CATEGORIES:Springtraining
ORGANIZER;CN="Hippisch Centrum Exloo":MAILTO:info@hippischcentrumexloo.nl
END:VEVENT
BEGIN:VEVENT
DTSTART;TZID=Europe/Amsterdam:20190807T080000
DTEND;TZID=Europe/Amsterdam:20190807T210000
DTSTAMP:20260421T133331
CREATED:20190225T134630Z
LAST-MODIFIED:20190715T083942Z
UID:7612-1565164800-1565211600@www.hippischcentrumexloo.nl
SUMMARY:Springwedstrijd
DESCRIPTION:Springwedstrijd!! \nVan BB to ZZ voor paarden en pony’s! \nbuitenbaan bezet \nopgave via Diny Blom: wedstrijdenexloo@gmail.com
URL:https://www.hippischcentrumexloo.nl/evenement/springwedstrijd-2-2019-07-31/
LOCATION:Hippisch Centrum Exloo\, Valtherweg 27A\, Exloo\, Drenthe\, 7875 TA\, Nederland
CATEGORIES:Springen
ORGANIZER;CN="Hippisch Centrum Exloo":MAILTO:info@hippischcentrumexloo.nl
END:VEVENT
BEGIN:VEVENT
DTSTART;TZID=Europe/Amsterdam:20190808T080000
DTEND;TZID=Europe/Amsterdam:20190810T210000
DTSTAMP:20260421T133331
CREATED:20180928T094726Z
LAST-MODIFIED:20190227T161057Z
UID:6940-1565251200-1565470800@www.hippischcentrumexloo.nl
SUMMARY:Regio Kampioenschappen Drenthe Springen
DESCRIPTION:Alle buiten terreinen worden dan gebruikt.
URL:https://www.hippischcentrumexloo.nl/evenement/regio-kampioenschappen-drenthe-springen-2/
LOCATION:Hippisch Centrum Exloo\, Valtherweg 27A\, Exloo\, Drenthe\, 7875 TA\, Nederland
CATEGORIES:Springen
ORGANIZER;CN="Hippisch Centrum Exloo":MAILTO:info@hippischcentrumexloo.nl
END:VEVENT
BEGIN:VEVENT
DTSTART;TZID=Europe/Amsterdam:20190812T190000
DTEND;TZID=Europe/Amsterdam:20190812T200000
DTSTAMP:20260421T133331
CREATED:20190715T081604Z
LAST-MODIFIED:20190715T081604Z
UID:7933-1565636400-1565640000@www.hippischcentrumexloo.nl
SUMMARY:Springles Marleen Meijer
DESCRIPTION:Van 19.00 tot 20.00 uur is er springles in her parcours of opgezet parcours buiten.
URL:https://www.hippischcentrumexloo.nl/evenement/springles-marleen-meijer-2-2019-08-12/
LOCATION:Hippisch Centrum Exloo\, Valtherweg 27A\, Exloo\, Drenthe\, 7875 TA\, Nederland
CATEGORIES:Springtraining
ORGANIZER;CN="Hippisch Centrum Exloo":MAILTO:info@hippischcentrumexloo.nl
END:VEVENT
BEGIN:VEVENT
DTSTART;TZID=Europe/Amsterdam:20190814T080000
DTEND;TZID=Europe/Amsterdam:20190814T210000
DTSTAMP:20260421T133331
CREATED:20190225T134630Z
LAST-MODIFIED:20190225T134630Z
UID:7614-1565769600-1565816400@www.hippischcentrumexloo.nl
SUMMARY:Springwedstrijd
DESCRIPTION:Springwedstrijd!! \nVan BB to ZZ voor paarden en pony’s! \nbuitenbaan bezet \nopgave via Diny Blom: wedstrijdenexloo@gmail.com
URL:https://www.hippischcentrumexloo.nl/evenement/springwedstrijd-2-2019-08-14/
LOCATION:Hippisch Centrum Exloo\, Valtherweg 27A\, Exloo\, Drenthe\, 7875 TA\, Nederland
CATEGORIES:Springen
ORGANIZER;CN="Hippisch Centrum Exloo":MAILTO:info@hippischcentrumexloo.nl
END:VEVENT
BEGIN:VEVENT
DTSTART;TZID=Europe/Amsterdam:20190815T090000
DTEND;TZID=Europe/Amsterdam:20190815T120000
DTSTAMP:20260421T133331
CREATED:20190814T130910Z
LAST-MODIFIED:20190814T130910Z
UID:7981-1565859600-1565870400@www.hippischcentrumexloo.nl
SUMMARY:oefenparcours bezet!
DESCRIPTION:Prive gebruik!!
URL:https://www.hippischcentrumexloo.nl/evenement/oefenparcours-bezet/
LOCATION:Hippisch Centrum Exloo\, Valtherweg 27A\, Exloo\, Drenthe\, 7875 TA\, Nederland
ORGANIZER;CN="Hippisch Centrum Exloo":MAILTO:info@hippischcentrumexloo.nl
END:VEVENT
BEGIN:VEVENT
DTSTART;TZID=Europe/Amsterdam:20190816T090000
DTEND;TZID=Europe/Amsterdam:20190816T120000
DTSTAMP:20260421T133331
CREATED:20190814T130910Z
LAST-MODIFIED:20190814T130910Z
UID:7983-1565946000-1565956800@www.hippischcentrumexloo.nl
SUMMARY:oefenparcours bezet!
DESCRIPTION:Prive gebruik!!
URL:https://www.hippischcentrumexloo.nl/evenement/oefenparcours-bezet-2019-08-16/
LOCATION:Hippisch Centrum Exloo\, Valtherweg 27A\, Exloo\, Drenthe\, 7875 TA\, Nederland
ORGANIZER;CN="Hippisch Centrum Exloo":MAILTO:info@hippischcentrumexloo.nl
END:VEVENT
BEGIN:VEVENT
DTSTART;TZID=Europe/Amsterdam:20190819T190000
DTEND;TZID=Europe/Amsterdam:20190819T200000
DTSTAMP:20260421T133331
CREATED:20190715T081604Z
LAST-MODIFIED:20190715T081604Z
UID:7934-1566241200-1566244800@www.hippischcentrumexloo.nl
SUMMARY:Springles Marleen Meijer
DESCRIPTION:Van 19.00 tot 20.00 uur is er springles in her parcours of opgezet parcours buiten.
URL:https://www.hippischcentrumexloo.nl/evenement/springles-marleen-meijer-2-2019-08-19/
LOCATION:Hippisch Centrum Exloo\, Valtherweg 27A\, Exloo\, Drenthe\, 7875 TA\, Nederland
CATEGORIES:Springtraining
ORGANIZER;CN="Hippisch Centrum Exloo":MAILTO:info@hippischcentrumexloo.nl
END:VEVENT
BEGIN:VEVENT
DTSTART;TZID=Europe/Amsterdam:20190820T190000
DTEND;TZID=Europe/Amsterdam:20190820T210000
DTSTAMP:20260421T133331
CREATED:20190814T130608Z
LAST-MODIFIED:20190923T083105Z
UID:7962-1566327600-1566334800@www.hippischcentrumexloo.nl
SUMMARY:Lessen Floor Vos
DESCRIPTION:er is les in de middelste binnen hal. \n  \n19.00 uur tot 21.00 uur.
URL:https://www.hippischcentrumexloo.nl/evenement/lessen-floor-vos-2/
LOCATION:Hippisch Centrum Exloo\, Valtherweg 27A\, Exloo\, Drenthe\, 7875 TA\, Nederland
ORGANIZER;CN="Hippisch Centrum Exloo":MAILTO:info@hippischcentrumexloo.nl
END:VEVENT
BEGIN:VEVENT
DTSTART;TZID=Europe/Amsterdam:20190821T080000
DTEND;TZID=Europe/Amsterdam:20190821T210000
DTSTAMP:20260421T133331
CREATED:20190225T134630Z
LAST-MODIFIED:20190225T134630Z
UID:7615-1566374400-1566421200@www.hippischcentrumexloo.nl
SUMMARY:Springwedstrijd
DESCRIPTION:Springwedstrijd!! \nVan BB to ZZ voor paarden en pony’s! \nbuitenbaan bezet \nopgave via Diny Blom: wedstrijdenexloo@gmail.com
URL:https://www.hippischcentrumexloo.nl/evenement/springwedstrijd-2-2019-08-21/
LOCATION:Hippisch Centrum Exloo\, Valtherweg 27A\, Exloo\, Drenthe\, 7875 TA\, Nederland
CATEGORIES:Springen
ORGANIZER;CN="Hippisch Centrum Exloo":MAILTO:info@hippischcentrumexloo.nl
END:VEVENT
BEGIN:VEVENT
DTSTART;VALUE=DATE:20190823
DTEND;VALUE=DATE:20190824
DTSTAMP:20260421T133331
CREATED:20181218T151526Z
LAST-MODIFIED:20200124T145229Z
UID:7306-1566518400-1566604799@www.hippischcentrumexloo.nl
SUMMARY:Hippisch Actief Subtop wedstrijd
DESCRIPTION:Subtop wedstrijd \nvoor opgave en info startlijsten.nl
URL:https://www.hippischcentrumexloo.nl/evenement/subtop-wedstrijd-8/
LOCATION:Hippisch Centrum Exloo\, Valtherweg 27A\, Exloo\, Drenthe\, 7875 TA\, Nederland
CATEGORIES:Subtop
ORGANIZER;CN="Hippisch Centrum Exloo":MAILTO:info@hippischcentrumexloo.nl
END:VEVENT
BEGIN:VEVENT
DTSTART;TZID=Europe/Amsterdam:20190826T190000
DTEND;TZID=Europe/Amsterdam:20190826T210000
DTSTAMP:20260421T133331
CREATED:20190826T071417Z
LAST-MODIFIED:20190826T071417Z
UID:7999-1566846000-1566853200@www.hippischcentrumexloo.nl
SUMMARY:Spring les Marleen Meijer
DESCRIPTION:Er is spring les van 19.00 tot 21.00 in de piste of als het slecht weer is in een van de binnen bakken.
URL:https://www.hippischcentrumexloo.nl/evenement/spring-les-marleen-meijer/
LOCATION:Hippisch Centrum Exloo\, Valtherweg 27A\, Exloo\, Drenthe\, 7875 TA\, Nederland
CATEGORIES:Springtraining
ORGANIZER;CN="Hippisch Centrum Exloo":MAILTO:info@hippischcentrumexloo.nl
END:VEVENT
BEGIN:VEVENT
DTSTART;TZID=Europe/Amsterdam:20190827T190000
DTEND;TZID=Europe/Amsterdam:20190827T210000
DTSTAMP:20260421T133331
CREATED:20190814T130608Z
LAST-MODIFIED:20190923T083105Z
UID:7964-1566932400-1566939600@www.hippischcentrumexloo.nl
SUMMARY:Lessen Floor Vos
DESCRIPTION:er is les in de middelste binnen hal. \n  \n19.00 uur tot 21.00 uur.
URL:https://www.hippischcentrumexloo.nl/evenement/lessen-floor-vos-2-2019-08-27/
LOCATION:Hippisch Centrum Exloo\, Valtherweg 27A\, Exloo\, Drenthe\, 7875 TA\, Nederland
ORGANIZER;CN="Hippisch Centrum Exloo":MAILTO:info@hippischcentrumexloo.nl
END:VEVENT
BEGIN:VEVENT
DTSTART;TZID=Europe/Amsterdam:20190828T080000
DTEND;TZID=Europe/Amsterdam:20190828T210000
DTSTAMP:20260421T133331
CREATED:20190225T134630Z
LAST-MODIFIED:20190225T134630Z
UID:7616-1566979200-1567026000@www.hippischcentrumexloo.nl
SUMMARY:Springwedstrijd
DESCRIPTION:Springwedstrijd!! \nVan BB to ZZ voor paarden en pony’s! \nbuitenbaan bezet \nopgave via Diny Blom: wedstrijdenexloo@gmail.com
URL:https://www.hippischcentrumexloo.nl/evenement/springwedstrijd-2-2019-08-28/
LOCATION:Hippisch Centrum Exloo\, Valtherweg 27A\, Exloo\, Drenthe\, 7875 TA\, Nederland
CATEGORIES:Springen
ORGANIZER;CN="Hippisch Centrum Exloo":MAILTO:info@hippischcentrumexloo.nl
END:VEVENT
END:VCALENDAR