BEGIN:VCALENDAR
VERSION:2.0
PRODID:-//Hippisch Centrum Exloo - ECPv6.15.17.1//NONSGML v1.0//EN
CALSCALE:GREGORIAN
METHOD:PUBLISH
X-WR-CALNAME:Hippisch Centrum Exloo
X-ORIGINAL-URL:https://www.hippischcentrumexloo.nl
X-WR-CALDESC:Evenementen voor Hippisch Centrum Exloo
REFRESH-INTERVAL;VALUE=DURATION:PT1H
X-Robots-Tag:noindex
X-PUBLISHED-TTL:PT1H
BEGIN:VTIMEZONE
TZID:Europe/Amsterdam
BEGIN:DAYLIGHT
TZOFFSETFROM:+0100
TZOFFSETTO:+0200
TZNAME:CEST
DTSTART:20180325T010000
END:DAYLIGHT
BEGIN:STANDARD
TZOFFSETFROM:+0200
TZOFFSETTO:+0100
TZNAME:CET
DTSTART:20181028T010000
END:STANDARD
BEGIN:DAYLIGHT
TZOFFSETFROM:+0100
TZOFFSETTO:+0200
TZNAME:CEST
DTSTART:20190331T010000
END:DAYLIGHT
BEGIN:STANDARD
TZOFFSETFROM:+0200
TZOFFSETTO:+0100
TZNAME:CET
DTSTART:20191027T010000
END:STANDARD
BEGIN:DAYLIGHT
TZOFFSETFROM:+0100
TZOFFSETTO:+0200
TZNAME:CEST
DTSTART:20200329T010000
END:DAYLIGHT
BEGIN:STANDARD
TZOFFSETFROM:+0200
TZOFFSETTO:+0100
TZNAME:CET
DTSTART:20201025T010000
END:STANDARD
END:VTIMEZONE
BEGIN:VEVENT
DTSTART;TZID=Europe/Amsterdam:20190724T080000
DTEND;TZID=Europe/Amsterdam:20190724T210000
DTSTAMP:20260422T014836
CREATED:20190225T134630Z
LAST-MODIFIED:20190225T134630Z
UID:7611-1563955200-1564002000@www.hippischcentrumexloo.nl
SUMMARY:Springwedstrijd
DESCRIPTION:Springwedstrijd!! \nVan BB to ZZ voor paarden en pony’s! \nbuitenbaan bezet \nopgave via Diny Blom: wedstrijdenexloo@gmail.com
URL:https://www.hippischcentrumexloo.nl/evenement/springwedstrijd-2-2019-07-24/
LOCATION:Hippisch Centrum Exloo\, Valtherweg 27A\, Exloo\, Drenthe\, 7875 TA\, Nederland
CATEGORIES:Springen
ORGANIZER;CN="Hippisch Centrum Exloo":MAILTO:info@hippischcentrumexloo.nl
END:VEVENT
BEGIN:VEVENT
DTSTART;TZID=Europe/Amsterdam:20190723T190000
DTEND;TZID=Europe/Amsterdam:20190723T210000
DTSTAMP:20260422T014836
CREATED:20190501T101724Z
LAST-MODIFIED:20190501T101724Z
UID:7825-1563908400-1563915600@www.hippischcentrumexloo.nl
SUMMARY:Lessen Floor Vos
DESCRIPTION:specialisatie lessen Floor Vos
URL:https://www.hippischcentrumexloo.nl/evenement/lessen-floor-vos-2019-07-23/
LOCATION:Hippisch Centrum Exloo\, Valtherweg 27A\, Exloo\, Drenthe\, 7875 TA\, Nederland
CATEGORIES:Dressuur
ORGANIZER;CN="Hippisch Centrum Exloo":MAILTO:info@hippischcentrumexloo.nl
END:VEVENT
BEGIN:VEVENT
DTSTART;TZID=Europe/Amsterdam:20190719T183000
DTEND;TZID=Europe/Amsterdam:20190719T213000
DTSTAMP:20260422T014836
CREATED:20190521T123617Z
LAST-MODIFIED:20190708T083811Z
UID:7860-1563561000-1563571800@www.hippischcentrumexloo.nl
SUMMARY:meertallen training
DESCRIPTION:er is een training in een 20×60 ring voor de meertallen. dit is een prive training.
URL:https://www.hippischcentrumexloo.nl/evenement/meertallen-training/
LOCATION:Hippisch Centrum Exloo\, Valtherweg 27A\, Exloo\, Drenthe\, 7875 TA\, Nederland
ORGANIZER;CN="Hippisch Centrum Exloo":MAILTO:info@hippischcentrumexloo.nl
END:VEVENT
BEGIN:VEVENT
DTSTART;TZID=Europe/Amsterdam:20190717T190000
DTEND;TZID=Europe/Amsterdam:20190717T210000
DTSTAMP:20260422T014836
CREATED:20190527T081340Z
LAST-MODIFIED:20190527T081340Z
UID:7881-1563390000-1563397200@www.hippischcentrumexloo.nl
SUMMARY:training afdelingsdressuur
DESCRIPTION:op de baan binnen de ovaalbaan
URL:https://www.hippischcentrumexloo.nl/evenement/training-afdelingsdressuur-2019-07-17/
LOCATION:Hippisch Centrum Exloo\, Valtherweg 27A\, Exloo\, Drenthe\, 7875 TA\, Nederland
CATEGORIES:Dressuur
ORGANIZER;CN="Hippisch Centrum Exloo":MAILTO:info@hippischcentrumexloo.nl
END:VEVENT
BEGIN:VEVENT
DTSTART;TZID=Europe/Amsterdam:20190717T080000
DTEND;TZID=Europe/Amsterdam:20190717T210000
DTSTAMP:20260422T014836
CREATED:20190225T134630Z
LAST-MODIFIED:20190225T134630Z
UID:7610-1563350400-1563397200@www.hippischcentrumexloo.nl
SUMMARY:Springwedstrijd
DESCRIPTION:Springwedstrijd!! \nVan BB to ZZ voor paarden en pony’s! \nbuitenbaan bezet \nopgave via Diny Blom: wedstrijdenexloo@gmail.com
URL:https://www.hippischcentrumexloo.nl/evenement/springwedstrijd-2-2019-07-17/
LOCATION:Hippisch Centrum Exloo\, Valtherweg 27A\, Exloo\, Drenthe\, 7875 TA\, Nederland
CATEGORIES:Springen
ORGANIZER;CN="Hippisch Centrum Exloo":MAILTO:info@hippischcentrumexloo.nl
END:VEVENT
BEGIN:VEVENT
DTSTART;TZID=Europe/Amsterdam:20190716T190000
DTEND;TZID=Europe/Amsterdam:20190716T210000
DTSTAMP:20260422T014836
CREATED:20190501T101724Z
LAST-MODIFIED:20190501T101724Z
UID:7824-1563303600-1563310800@www.hippischcentrumexloo.nl
SUMMARY:Lessen Floor Vos
DESCRIPTION:specialisatie lessen Floor Vos
URL:https://www.hippischcentrumexloo.nl/evenement/lessen-floor-vos-2019-07-16/
LOCATION:Hippisch Centrum Exloo\, Valtherweg 27A\, Exloo\, Drenthe\, 7875 TA\, Nederland
CATEGORIES:Dressuur
ORGANIZER;CN="Hippisch Centrum Exloo":MAILTO:info@hippischcentrumexloo.nl
END:VEVENT
BEGIN:VEVENT
DTSTART;TZID=Europe/Amsterdam:20190715T190000
DTEND;TZID=Europe/Amsterdam:20190715T210000
DTSTAMP:20260422T014836
CREATED:20190708T083922Z
LAST-MODIFIED:20190708T083922Z
UID:7919-1563217200-1563224400@www.hippischcentrumexloo.nl
SUMMARY:Springles van Marleen Meijer
DESCRIPTION:van 18.00 uur tot 21.00 uur springles van Marleen Meijer.
URL:https://www.hippischcentrumexloo.nl/evenement/springles-van-marleen-meijer/
LOCATION:Hippisch Centrum Exloo\, Valtherweg 27A\, Exloo\, Drenthe\, 7875 TA\, Nederland
ORGANIZER;CN="Hippisch Centrum Exloo":MAILTO:info@hippischcentrumexloo.nl
END:VEVENT
BEGIN:VEVENT
DTSTART;TZID=Europe/Amsterdam:20190712T080000
DTEND;TZID=Europe/Amsterdam:20190714T170000
DTSTAMP:20260422T014836
CREATED:20181029T104346Z
LAST-MODIFIED:20181029T104346Z
UID:7151-1562918400-1563123600@www.hippischcentrumexloo.nl
SUMMARY:YRN NK
DESCRIPTION:YRN NK \novaal baan en buiten terreinen
URL:https://www.hippischcentrumexloo.nl/evenement/yrn-nk/
LOCATION:Hippisch Centrum Exloo\, Valtherweg 27A\, Exloo\, Drenthe\, 7875 TA\, Nederland
ORGANIZER;CN="Hippisch Centrum Exloo":MAILTO:info@hippischcentrumexloo.nl
END:VEVENT
BEGIN:VEVENT
DTSTART;TZID=Europe/Amsterdam:20190710T190000
DTEND;TZID=Europe/Amsterdam:20190710T210000
DTSTAMP:20260422T014836
CREATED:20190527T081340Z
LAST-MODIFIED:20190527T081340Z
UID:7880-1562785200-1562792400@www.hippischcentrumexloo.nl
SUMMARY:training afdelingsdressuur
DESCRIPTION:op de baan binnen de ovaalbaan
URL:https://www.hippischcentrumexloo.nl/evenement/training-afdelingsdressuur-2019-07-10/
LOCATION:Hippisch Centrum Exloo\, Valtherweg 27A\, Exloo\, Drenthe\, 7875 TA\, Nederland
CATEGORIES:Dressuur
ORGANIZER;CN="Hippisch Centrum Exloo":MAILTO:info@hippischcentrumexloo.nl
END:VEVENT
BEGIN:VEVENT
DTSTART;TZID=Europe/Amsterdam:20190710T080000
DTEND;TZID=Europe/Amsterdam:20190710T210000
DTSTAMP:20260422T014836
CREATED:20190225T134630Z
LAST-MODIFIED:20190225T134630Z
UID:7609-1562745600-1562792400@www.hippischcentrumexloo.nl
SUMMARY:Springwedstrijd
DESCRIPTION:Springwedstrijd!! \nVan BB to ZZ voor paarden en pony’s! \nbuitenbaan bezet \nopgave via Diny Blom: wedstrijdenexloo@gmail.com
URL:https://www.hippischcentrumexloo.nl/evenement/springwedstrijd-2-2019-07-10/
LOCATION:Hippisch Centrum Exloo\, Valtherweg 27A\, Exloo\, Drenthe\, 7875 TA\, Nederland
CATEGORIES:Springen
ORGANIZER;CN="Hippisch Centrum Exloo":MAILTO:info@hippischcentrumexloo.nl
END:VEVENT
BEGIN:VEVENT
DTSTART;TZID=Europe/Amsterdam:20190709T190000
DTEND;TZID=Europe/Amsterdam:20190709T210000
DTSTAMP:20260422T014836
CREATED:20190501T101724Z
LAST-MODIFIED:20190501T101724Z
UID:7823-1562698800-1562706000@www.hippischcentrumexloo.nl
SUMMARY:Lessen Floor Vos
DESCRIPTION:specialisatie lessen Floor Vos
URL:https://www.hippischcentrumexloo.nl/evenement/lessen-floor-vos-2019-07-09/
LOCATION:Hippisch Centrum Exloo\, Valtherweg 27A\, Exloo\, Drenthe\, 7875 TA\, Nederland
CATEGORIES:Dressuur
ORGANIZER;CN="Hippisch Centrum Exloo":MAILTO:info@hippischcentrumexloo.nl
END:VEVENT
BEGIN:VEVENT
DTSTART;TZID=Europe/Amsterdam:20190706T080000
DTEND;TZID=Europe/Amsterdam:20190707T170000
DTSTAMP:20260422T014836
CREATED:20190123T112637Z
LAST-MODIFIED:20190123T113529Z
UID:7486-1562400000-1562518800@www.hippischcentrumexloo.nl
SUMMARY:Horses2Go Young Talent
DESCRIPTION:Begin zaterdag 6 juli 09.00 uur\nEinde zaterdag 6 juli 17:00 uur\n\n\nBegin zondag 7 juli 09.00 uur\nEinde zondag 7 juli 17:00 uur\n\nEvenement Categorie: Jeugd (zaterdag)\, Volwassen (zondag)\n\nOrganisator\n\nHorses2Go\n\nContactpersonen:\nKelly Jefferson      06- 10 80 67 66\nDenise Beijeman 06- 52 28 59 79\n\nEmail:\ninfo@horses2go.nl
URL:https://www.hippischcentrumexloo.nl/evenement/gereserveerd/
LOCATION:Hippisch Centrum Exloo\, Valtherweg 27A\, Exloo\, Drenthe\, 7875 TA\, Nederland
ORGANIZER;CN="Hippisch Centrum Exloo":MAILTO:info@hippischcentrumexloo.nl
END:VEVENT
BEGIN:VEVENT
DTSTART;TZID=Europe/Amsterdam:20190703T190000
DTEND;TZID=Europe/Amsterdam:20190703T210000
DTSTAMP:20260422T014836
CREATED:20190527T081340Z
LAST-MODIFIED:20190527T081340Z
UID:7879-1562180400-1562187600@www.hippischcentrumexloo.nl
SUMMARY:training afdelingsdressuur
DESCRIPTION:op de baan binnen de ovaalbaan
URL:https://www.hippischcentrumexloo.nl/evenement/training-afdelingsdressuur-2019-07-03/
LOCATION:Hippisch Centrum Exloo\, Valtherweg 27A\, Exloo\, Drenthe\, 7875 TA\, Nederland
CATEGORIES:Dressuur
ORGANIZER;CN="Hippisch Centrum Exloo":MAILTO:info@hippischcentrumexloo.nl
END:VEVENT
BEGIN:VEVENT
DTSTART;TZID=Europe/Amsterdam:20190703T080000
DTEND;TZID=Europe/Amsterdam:20190703T210000
DTSTAMP:20260422T014836
CREATED:20190225T134630Z
LAST-MODIFIED:20190225T134630Z
UID:7608-1562140800-1562187600@www.hippischcentrumexloo.nl
SUMMARY:Springwedstrijd
DESCRIPTION:Springwedstrijd!! \nVan BB to ZZ voor paarden en pony’s! \nbuitenbaan bezet \nopgave via Diny Blom: wedstrijdenexloo@gmail.com
URL:https://www.hippischcentrumexloo.nl/evenement/springwedstrijd-2-2019-07-03/
LOCATION:Hippisch Centrum Exloo\, Valtherweg 27A\, Exloo\, Drenthe\, 7875 TA\, Nederland
CATEGORIES:Springen
ORGANIZER;CN="Hippisch Centrum Exloo":MAILTO:info@hippischcentrumexloo.nl
END:VEVENT
BEGIN:VEVENT
DTSTART;TZID=Europe/Amsterdam:20190702T190000
DTEND;TZID=Europe/Amsterdam:20190702T210000
DTSTAMP:20260422T014836
CREATED:20190501T101724Z
LAST-MODIFIED:20190501T101724Z
UID:7822-1562094000-1562101200@www.hippischcentrumexloo.nl
SUMMARY:Lessen Floor Vos
DESCRIPTION:specialisatie lessen Floor Vos
URL:https://www.hippischcentrumexloo.nl/evenement/lessen-floor-vos-2019-07-02/
LOCATION:Hippisch Centrum Exloo\, Valtherweg 27A\, Exloo\, Drenthe\, 7875 TA\, Nederland
CATEGORIES:Dressuur
ORGANIZER;CN="Hippisch Centrum Exloo":MAILTO:info@hippischcentrumexloo.nl
END:VEVENT
BEGIN:VEVENT
DTSTART;TZID=Europe/Amsterdam:20190701T180000
DTEND;TZID=Europe/Amsterdam:20190701T210000
DTSTAMP:20260422T014836
CREATED:20190110T094326Z
LAST-MODIFIED:20190110T094326Z
UID:7737-1562004000-1562014800@www.hippischcentrumexloo.nl
SUMMARY:Springles Marleen Meijer
DESCRIPTION:Springeles buiten en in donker binnen
URL:https://www.hippischcentrumexloo.nl/evenement/springles-marleen-meijer-2019-03-25-2019-07-01/
LOCATION:Hippisch Centrum Exloo\, Valtherweg 27A\, Exloo\, Drenthe\, 7875 TA\, Nederland
CATEGORIES:Springen
ORGANIZER;CN="Hippisch Centrum Exloo":MAILTO:info@hippischcentrumexloo.nl
END:VEVENT
BEGIN:VEVENT
DTSTART;TZID=Europe/Amsterdam:20190627T080000
DTEND;TZID=Europe/Amsterdam:20190630T170000
DTSTAMP:20260422T014836
CREATED:20181114T143744Z
LAST-MODIFIED:20181114T143744Z
UID:7227-1561622400-1561914000@www.hippischcentrumexloo.nl
SUMMARY:Outdoor CDI Exloo dressuur
DESCRIPTION:outdoor dressuur CDI \nbezetting \nalle terreinen \ninfo volgt
URL:https://www.hippischcentrumexloo.nl/evenement/outdoor-cdi-exloo-dressuur/
LOCATION:Hippisch Centrum Exloo\, Valtherweg 27A\, Exloo\, Drenthe\, 7875 TA\, Nederland
CATEGORIES:Dressuur
ORGANIZER;CN="Hippisch Centrum Exloo":MAILTO:info@hippischcentrumexloo.nl
END:VEVENT
BEGIN:VEVENT
DTSTART;TZID=Europe/Amsterdam:20190626T190000
DTEND;TZID=Europe/Amsterdam:20190626T210000
DTSTAMP:20260422T014836
CREATED:20190527T081340Z
LAST-MODIFIED:20190527T081340Z
UID:7878-1561575600-1561582800@www.hippischcentrumexloo.nl
SUMMARY:training afdelingsdressuur
DESCRIPTION:op de baan binnen de ovaalbaan
URL:https://www.hippischcentrumexloo.nl/evenement/training-afdelingsdressuur-2019-06-26/
LOCATION:Hippisch Centrum Exloo\, Valtherweg 27A\, Exloo\, Drenthe\, 7875 TA\, Nederland
CATEGORIES:Dressuur
ORGANIZER;CN="Hippisch Centrum Exloo":MAILTO:info@hippischcentrumexloo.nl
END:VEVENT
BEGIN:VEVENT
DTSTART;TZID=Europe/Amsterdam:20190625T190000
DTEND;TZID=Europe/Amsterdam:20190625T210000
DTSTAMP:20260422T014836
CREATED:20190501T101724Z
LAST-MODIFIED:20190501T101724Z
UID:7821-1561489200-1561496400@www.hippischcentrumexloo.nl
SUMMARY:Lessen Floor Vos
DESCRIPTION:specialisatie lessen Floor Vos
URL:https://www.hippischcentrumexloo.nl/evenement/lessen-floor-vos-2019-06-25/
LOCATION:Hippisch Centrum Exloo\, Valtherweg 27A\, Exloo\, Drenthe\, 7875 TA\, Nederland
CATEGORIES:Dressuur
ORGANIZER;CN="Hippisch Centrum Exloo":MAILTO:info@hippischcentrumexloo.nl
END:VEVENT
BEGIN:VEVENT
DTSTART;TZID=Europe/Amsterdam:20190625T190000
DTEND;TZID=Europe/Amsterdam:20190625T210000
DTSTAMP:20260422T014836
CREATED:20190118T093246Z
LAST-MODIFIED:20190118T093246Z
UID:7750-1561489200-1561496400@www.hippischcentrumexloo.nl
SUMMARY:Lessen Ina beuving
DESCRIPTION:Lessen Ina Beuving \nbezet 1 bak of buiten een baan
URL:https://www.hippischcentrumexloo.nl/evenement/lessen-ina-beuving-2-2019-02-21-2019-06-25/
LOCATION:Hippisch Centrum Exloo\, Valtherweg 27A\, Exloo\, Drenthe\, 7875 TA\, Nederland
ORGANIZER;CN="Hippisch Centrum Exloo":MAILTO:info@hippischcentrumexloo.nl
END:VEVENT
BEGIN:VEVENT
DTSTART;TZID=Europe/Amsterdam:20190624T180000
DTEND;TZID=Europe/Amsterdam:20190624T210000
DTSTAMP:20260422T014836
CREATED:20190110T094326Z
LAST-MODIFIED:20190110T094326Z
UID:7736-1561399200-1561410000@www.hippischcentrumexloo.nl
SUMMARY:Springles Marleen Meijer
DESCRIPTION:Springeles buiten en in donker binnen
URL:https://www.hippischcentrumexloo.nl/evenement/springles-marleen-meijer-2019-03-25-2019-06-24/
LOCATION:Hippisch Centrum Exloo\, Valtherweg 27A\, Exloo\, Drenthe\, 7875 TA\, Nederland
CATEGORIES:Springen
ORGANIZER;CN="Hippisch Centrum Exloo":MAILTO:info@hippischcentrumexloo.nl
END:VEVENT
BEGIN:VEVENT
DTSTART;TZID=Europe/Amsterdam:20190623T080000
DTEND;TZID=Europe/Amsterdam:20190623T170000
DTSTAMP:20260422T014836
CREATED:20190620T073147Z
LAST-MODIFIED:20190620T073147Z
UID:7901-1561276800-1561309200@www.hippischcentrumexloo.nl
SUMMARY:Mennen
DESCRIPTION:Zondag is er een training van menners achter op het veld bij en in de hindernissen.
URL:https://www.hippischcentrumexloo.nl/evenement/mennen/
LOCATION:Hippisch Centrum Exloo\, Valtherweg 27A\, Exloo\, Drenthe\, 7875 TA\, Nederland
ORGANIZER;CN="Hippisch Centrum Exloo":MAILTO:info@hippischcentrumexloo.nl
END:VEVENT
BEGIN:VEVENT
DTSTART;TZID=Europe/Amsterdam:20190622T080000
DTEND;TZID=Europe/Amsterdam:20190622T170000
DTSTAMP:20260422T014836
CREATED:20190409T090623Z
LAST-MODIFIED:20190409T090623Z
UID:7768-1561190400-1561222800@www.hippischcentrumexloo.nl
SUMMARY:Proefgerichte training van Corrie Rave
DESCRIPTION:de RV Organiseert: \nproefgerichte training van Corrie Rave \nnadere info volgt
URL:https://www.hippischcentrumexloo.nl/evenement/proefgerichte-training-van-corrie-rave/
LOCATION:Hippisch Centrum Exloo\, Valtherweg 27A\, Exloo\, Drenthe\, 7875 TA\, Nederland
ORGANIZER;CN="Hippisch Centrum Exloo":MAILTO:info@hippischcentrumexloo.nl
END:VEVENT
BEGIN:VEVENT
DTSTART;TZID=Europe/Amsterdam:20190621T183000
DTEND;TZID=Europe/Amsterdam:20190621T210000
DTSTAMP:20260422T014836
CREATED:20190409T090447Z
LAST-MODIFIED:20190409T090447Z
UID:7765-1561141800-1561150800@www.hippischcentrumexloo.nl
SUMMARY:Theorieavond met voorrijdende combinaties
DESCRIPTION:de RV organiseert: \nTheorieavond met jurylid waarbij 2 of 3 combinaties voorrijden. \nnadere info volgt
URL:https://www.hippischcentrumexloo.nl/evenement/theorieavond-met-voorrijdende-combinaties/
LOCATION:Hippisch Centrum Exloo\, Valtherweg 27A\, Exloo\, Drenthe\, 7875 TA\, Nederland
ORGANIZER;CN="Hippisch Centrum Exloo":MAILTO:info@hippischcentrumexloo.nl
END:VEVENT
BEGIN:VEVENT
DTSTART;TZID=Europe/Amsterdam:20190619T190000
DTEND;TZID=Europe/Amsterdam:20190619T210000
DTSTAMP:20260422T014836
CREATED:20190527T081340Z
LAST-MODIFIED:20190527T081340Z
UID:7877-1560970800-1560978000@www.hippischcentrumexloo.nl
SUMMARY:training afdelingsdressuur
DESCRIPTION:op de baan binnen de ovaalbaan
URL:https://www.hippischcentrumexloo.nl/evenement/training-afdelingsdressuur-2019-06-19/
LOCATION:Hippisch Centrum Exloo\, Valtherweg 27A\, Exloo\, Drenthe\, 7875 TA\, Nederland
CATEGORIES:Dressuur
ORGANIZER;CN="Hippisch Centrum Exloo":MAILTO:info@hippischcentrumexloo.nl
END:VEVENT
BEGIN:VEVENT
DTSTART;TZID=Europe/Amsterdam:20190619T080000
DTEND;TZID=Europe/Amsterdam:20190619T210000
DTSTAMP:20260422T014836
CREATED:20190225T134630Z
LAST-MODIFIED:20190225T134630Z
UID:7606-1560931200-1560978000@www.hippischcentrumexloo.nl
SUMMARY:Springwedstrijd
DESCRIPTION:Springwedstrijd!! \nVan BB to ZZ voor paarden en pony’s! \nbuitenbaan bezet \nopgave via Diny Blom: wedstrijdenexloo@gmail.com
URL:https://www.hippischcentrumexloo.nl/evenement/springwedstrijd-2-2019-06-19/
LOCATION:Hippisch Centrum Exloo\, Valtherweg 27A\, Exloo\, Drenthe\, 7875 TA\, Nederland
CATEGORIES:Springen
ORGANIZER;CN="Hippisch Centrum Exloo":MAILTO:info@hippischcentrumexloo.nl
END:VEVENT
BEGIN:VEVENT
DTSTART;TZID=Europe/Amsterdam:20190618T190000
DTEND;TZID=Europe/Amsterdam:20190618T210000
DTSTAMP:20260422T014836
CREATED:20190501T101724Z
LAST-MODIFIED:20190501T101724Z
UID:7820-1560884400-1560891600@www.hippischcentrumexloo.nl
SUMMARY:Lessen Floor Vos
DESCRIPTION:specialisatie lessen Floor Vos
URL:https://www.hippischcentrumexloo.nl/evenement/lessen-floor-vos-2019-06-18/
LOCATION:Hippisch Centrum Exloo\, Valtherweg 27A\, Exloo\, Drenthe\, 7875 TA\, Nederland
CATEGORIES:Dressuur
ORGANIZER;CN="Hippisch Centrum Exloo":MAILTO:info@hippischcentrumexloo.nl
END:VEVENT
BEGIN:VEVENT
DTSTART;TZID=Europe/Amsterdam:20190618T190000
DTEND;TZID=Europe/Amsterdam:20190618T210000
DTSTAMP:20260422T014836
CREATED:20190118T093246Z
LAST-MODIFIED:20190118T093246Z
UID:7749-1560884400-1560891600@www.hippischcentrumexloo.nl
SUMMARY:Lessen Ina beuving
DESCRIPTION:Lessen Ina Beuving \nbezet 1 bak of buiten een baan
URL:https://www.hippischcentrumexloo.nl/evenement/lessen-ina-beuving-2-2019-02-21-2019-06-18/
LOCATION:Hippisch Centrum Exloo\, Valtherweg 27A\, Exloo\, Drenthe\, 7875 TA\, Nederland
ORGANIZER;CN="Hippisch Centrum Exloo":MAILTO:info@hippischcentrumexloo.nl
END:VEVENT
BEGIN:VEVENT
DTSTART;TZID=Europe/Amsterdam:20190617T180000
DTEND;TZID=Europe/Amsterdam:20190617T210000
DTSTAMP:20260422T014836
CREATED:20190110T094326Z
LAST-MODIFIED:20190110T094326Z
UID:7735-1560794400-1560805200@www.hippischcentrumexloo.nl
SUMMARY:Springles Marleen Meijer
DESCRIPTION:Springeles buiten en in donker binnen
URL:https://www.hippischcentrumexloo.nl/evenement/springles-marleen-meijer-2019-03-25-2019-06-17/
LOCATION:Hippisch Centrum Exloo\, Valtherweg 27A\, Exloo\, Drenthe\, 7875 TA\, Nederland
CATEGORIES:Springen
ORGANIZER;CN="Hippisch Centrum Exloo":MAILTO:info@hippischcentrumexloo.nl
END:VEVENT
BEGIN:VEVENT
DTSTART;TZID=Europe/Amsterdam:20190615T080000
DTEND;TZID=Europe/Amsterdam:20190615T170000
DTSTAMP:20260422T014836
CREATED:20190409T090209Z
LAST-MODIFIED:20190409T090511Z
UID:7763-1560585600-1560618000@www.hippischcentrumexloo.nl
SUMMARY:Dressuurmatige training van Stefan Adamowicz
DESCRIPTION:de RV Organiseert: \ndressuurmatige training van Stefan over cavaletti’s \nnadere info volgt
URL:https://www.hippischcentrumexloo.nl/evenement/dressuurmatige-training-van-stefan-adamowicz/
LOCATION:Hippisch Centrum Exloo\, Valtherweg 27A\, Exloo\, Drenthe\, 7875 TA\, Nederland
ORGANIZER;CN="Hippisch Centrum Exloo":MAILTO:info@hippischcentrumexloo.nl
END:VEVENT
END:VCALENDAR