BEGIN:VCALENDAR
VERSION:2.0
PRODID:-//Hippisch Centrum Exloo - ECPv6.15.17.1//NONSGML v1.0//EN
CALSCALE:GREGORIAN
METHOD:PUBLISH
X-WR-CALNAME:Hippisch Centrum Exloo
X-ORIGINAL-URL:https://www.hippischcentrumexloo.nl
X-WR-CALDESC:Evenementen voor Hippisch Centrum Exloo
REFRESH-INTERVAL;VALUE=DURATION:PT1H
X-Robots-Tag:noindex
X-PUBLISHED-TTL:PT1H
BEGIN:VTIMEZONE
TZID:Europe/Amsterdam
BEGIN:DAYLIGHT
TZOFFSETFROM:+0100
TZOFFSETTO:+0200
TZNAME:CEST
DTSTART:20190331T010000
END:DAYLIGHT
BEGIN:STANDARD
TZOFFSETFROM:+0200
TZOFFSETTO:+0100
TZNAME:CET
DTSTART:20191027T010000
END:STANDARD
BEGIN:DAYLIGHT
TZOFFSETFROM:+0100
TZOFFSETTO:+0200
TZNAME:CEST
DTSTART:20200329T010000
END:DAYLIGHT
BEGIN:STANDARD
TZOFFSETFROM:+0200
TZOFFSETTO:+0100
TZNAME:CET
DTSTART:20201025T010000
END:STANDARD
BEGIN:DAYLIGHT
TZOFFSETFROM:+0100
TZOFFSETTO:+0200
TZNAME:CEST
DTSTART:20210328T010000
END:DAYLIGHT
BEGIN:STANDARD
TZOFFSETFROM:+0200
TZOFFSETTO:+0100
TZNAME:CET
DTSTART:20211031T010000
END:STANDARD
END:VTIMEZONE
BEGIN:VEVENT
DTSTART;TZID=Europe/Amsterdam:20200521T190000
DTEND;TZID=Europe/Amsterdam:20200521T210000
DTSTAMP:20260420T053621
CREATED:20200225T082714Z
LAST-MODIFIED:20200225T082714Z
UID:8686-1590087600-1590094800@www.hippischcentrumexloo.nl
SUMMARY:Lessen Ina Beuving
DESCRIPTION:bezetting binnen bak of buiten.
URL:https://www.hippischcentrumexloo.nl/evenement/lessen-ina-beuving-5-2020-05-21/
LOCATION:Hippisch Centrum Exloo\, Valtherweg 27A\, Exloo\, Drenthe\, 7875 TA\, Nederland
ORGANIZER;CN="Hippisch Centrum Exloo":MAILTO:info@hippischcentrumexloo.nl
END:VEVENT
BEGIN:VEVENT
DTSTART;TZID=Europe/Amsterdam:20200520T090000
DTEND;TZID=Europe/Amsterdam:20200520T210000
DTSTAMP:20260420T053621
CREATED:20180924T141414Z
LAST-MODIFIED:20180924T141414Z
UID:8552-1589965200-1590008400@www.hippischcentrumexloo.nl
SUMMARY:Springwedstrijd
DESCRIPTION:Springwedstrijd!! \nVan BB to ZZ voor paarden en pony’s! \nBuiten Banen!!!! \nopgave via Diny Blom: wedstrijdenexloo@gmail.com
URL:https://www.hippischcentrumexloo.nl/evenement/springwedstrijd-2018-12-19-2020-01-08-2020-05-20/
LOCATION:Hippisch Centrum Exloo\, Valtherweg 27A\, Exloo\, Drenthe\, 7875 TA\, Nederland
CATEGORIES:Springen
ORGANIZER;CN="Hippisch Centrum Exloo":MAILTO:info@hippischcentrumexloo.nl
END:VEVENT
BEGIN:VEVENT
DTSTART;TZID=Europe/Amsterdam:20200519T190000
DTEND;TZID=Europe/Amsterdam:20200519T210000
DTSTAMP:20260420T053621
CREATED:20200225T082234Z
LAST-MODIFIED:20200225T082234Z
UID:8674-1589914800-1589922000@www.hippischcentrumexloo.nl
SUMMARY:Lessen Ina Beuving
DESCRIPTION:bezetting binnen bak of buiten.
URL:https://www.hippischcentrumexloo.nl/evenement/lessen-ina-beuving-4-2020-05-19/
LOCATION:Hippisch Centrum Exloo\, Valtherweg 27A\, Exloo\, Drenthe\, 7875 TA\, Nederland
ORGANIZER;CN="Hippisch Centrum Exloo":MAILTO:info@hippischcentrumexloo.nl
END:VEVENT
BEGIN:VEVENT
DTSTART;VALUE=DATE:20200517
DTEND;VALUE=DATE:20200518
DTSTAMP:20260420T053621
CREATED:20200303T114849Z
LAST-MODIFIED:20200303T114849Z
UID:8696-1589673600-1589759999@www.hippischcentrumexloo.nl
SUMMARY:proefgerichte / training van Loes Corsel
DESCRIPTION:bezetting binnen bak of buiten een ring \n  \nopgave en info: Meranda 0645438995 \n 
URL:https://www.hippischcentrumexloo.nl/evenement/proefgerichte-training-van-loes-corsel-2020-05-17/
LOCATION:Hippisch Centrum Exloo\, Valtherweg 27A\, Exloo\, Drenthe\, 7875 TA\, Nederland
ORGANIZER;CN="Hippisch Centrum Exloo":MAILTO:info@hippischcentrumexloo.nl
END:VEVENT
BEGIN:VEVENT
DTSTART;VALUE=DATE:20200517
DTEND;VALUE=DATE:20200518
DTSTAMP:20260420T053621
CREATED:20200511T135450Z
LAST-MODIFIED:20200511T135450Z
UID:8733-1589673600-1589759999@www.hippischcentrumexloo.nl
SUMMARY:Lessen Loes Corsel
DESCRIPTION:Je kunt je opgeven voor een prive les/proefgerichte training van Loes Corsel! \nMeranda: 0645438995 \nDe 1\,5 meter afstand wordt hier natuurlijk ook gehanteerd \nLessen in de buitenbak.
URL:https://www.hippischcentrumexloo.nl/evenement/lessen-loes-corsel/
LOCATION:Hippisch Centrum Exloo\, Valtherweg 27A\, Exloo\, Drenthe\, 7875 TA\, Nederland
CATEGORIES:Dressuur
ORGANIZER;CN="Hippisch Centrum Exloo":MAILTO:info@hippischcentrumexloo.nl
END:VEVENT
BEGIN:VEVENT
DTSTART;VALUE=DATE:20200516
DTEND;VALUE=DATE:20200517
DTSTAMP:20260420T053621
CREATED:20200306T084633Z
LAST-MODIFIED:20200306T084633Z
UID:8699-1589587200-1589673599@www.hippischcentrumexloo.nl
SUMMARY:Koudbloeden Dressuur Competitie
DESCRIPTION:opgave  en info via KNHS: koudbloedencompetitie@gmail.com \n 
URL:https://www.hippischcentrumexloo.nl/evenement/koudbloeden-dressuur-competitie/
LOCATION:Hippisch Centrum Exloo\, Valtherweg 27A\, Exloo\, Drenthe\, 7875 TA\, Nederland
ORGANIZER;CN="Hippisch Centrum Exloo":MAILTO:info@hippischcentrumexloo.nl
END:VEVENT
BEGIN:VEVENT
DTSTART;TZID=Europe/Amsterdam:20200514T180000
DTEND;TZID=Europe/Amsterdam:20200514T200000
DTSTAMP:20260420T053621
CREATED:20200107T085905Z
LAST-MODIFIED:20200107T085905Z
UID:8489-1589479200-1589486400@www.hippischcentrumexloo.nl
SUMMARY:JSP lessen Floor Vos
DESCRIPTION:van 18.00 uur tm 19.00 uur
URL:https://www.hippischcentrumexloo.nl/evenement/jsp-lessen-floor-vos-3-2020-05-14/
LOCATION:Hippisch Centrum Exloo\, Valtherweg 27A\, Exloo\, Drenthe\, 7875 TA\, Nederland
ORGANIZER;CN="Hippisch Centrum Exloo":MAILTO:info@hippischcentrumexloo.nl
END:VEVENT
BEGIN:VEVENT
DTSTART;VALUE=DATE:20200514
DTEND;VALUE=DATE:20200515
DTSTAMP:20260420T053621
CREATED:20190916T090714Z
LAST-MODIFIED:20190916T090714Z
UID:8533-1589414400-1589500799@www.hippischcentrumexloo.nl
SUMMARY:Dressuurwedstrijd!
DESCRIPTION:2 proeven rijden op Top bodem! \nvan BB tm ZZL voor paarden en pony’s \nvoor de tijden zie startlijsten! \nopgave via: dressuurexloo@gmail.com
URL:https://www.hippischcentrumexloo.nl/evenement/dressuurwedstrijd-2-2019-10-17-2020-05-14/
LOCATION:Hippisch Centrum Exloo\, Valtherweg 27A\, Exloo\, Drenthe\, 7875 TA\, Nederland
ORGANIZER;CN="Hippisch Centrum Exloo":MAILTO:info@hippischcentrumexloo.nl
END:VEVENT
BEGIN:VEVENT
DTSTART;TZID=Europe/Amsterdam:20200513T090000
DTEND;TZID=Europe/Amsterdam:20200513T210000
DTSTAMP:20260420T053621
CREATED:20180924T141414Z
LAST-MODIFIED:20180924T141414Z
UID:8551-1589360400-1589403600@www.hippischcentrumexloo.nl
SUMMARY:Springwedstrijd
DESCRIPTION:Springwedstrijd!! \nVan BB to ZZ voor paarden en pony’s! \nBuiten Banen!!!! \nopgave via Diny Blom: wedstrijdenexloo@gmail.com
URL:https://www.hippischcentrumexloo.nl/evenement/springwedstrijd-2018-12-19-2020-01-08-2020-05-13/
LOCATION:Hippisch Centrum Exloo\, Valtherweg 27A\, Exloo\, Drenthe\, 7875 TA\, Nederland
CATEGORIES:Springen
ORGANIZER;CN="Hippisch Centrum Exloo":MAILTO:info@hippischcentrumexloo.nl
END:VEVENT
BEGIN:VEVENT
DTSTART;TZID=Europe/Amsterdam:20200512T190000
DTEND;TZID=Europe/Amsterdam:20200512T210000
DTSTAMP:20260420T053621
CREATED:20200225T082234Z
LAST-MODIFIED:20200225T082234Z
UID:8673-1589310000-1589317200@www.hippischcentrumexloo.nl
SUMMARY:Lessen Ina Beuving
DESCRIPTION:bezetting binnen bak of buiten.
URL:https://www.hippischcentrumexloo.nl/evenement/lessen-ina-beuving-4-2020-05-12/
LOCATION:Hippisch Centrum Exloo\, Valtherweg 27A\, Exloo\, Drenthe\, 7875 TA\, Nederland
ORGANIZER;CN="Hippisch Centrum Exloo":MAILTO:info@hippischcentrumexloo.nl
END:VEVENT
BEGIN:VEVENT
DTSTART;VALUE=DATE:20200510
DTEND;VALUE=DATE:20200511
DTSTAMP:20260420T053621
CREATED:20190717T103352Z
LAST-MODIFIED:20200124T151420Z
UID:8588-1589068800-1589155199@www.hippischcentrumexloo.nl
SUMMARY:Hippisch Actief Subtop wedstrijd
DESCRIPTION:Subtop wedstrijd \nvoor opgave en info startlijsten.nl of info@hippischactief.nl
URL:https://www.hippischcentrumexloo.nl/evenement/subtop-wedstrijd-2019-11-10-2020-05-10/
LOCATION:Valtherweg 27A\, Exloo\, Drenthe\, 7875 TA\, Nederland
CATEGORIES:Subtop
END:VEVENT
BEGIN:VEVENT
DTSTART;TZID=Europe/Amsterdam:20200509T130000
DTEND;TZID=Europe/Amsterdam:20200509T220000
DTSTAMP:20260420T053621
CREATED:20191104T133827Z
LAST-MODIFIED:20200124T144655Z
UID:8297-1589029200-1589061600@www.hippischcentrumexloo.nl
SUMMARY:Dressuurwedstrijd!
DESCRIPTION:2 proeven rijden op Top bodem! \nvan BB tm ZZL voor paarden en pony’s \nopgave via: dressuurexloo@gmail.com
URL:https://www.hippischcentrumexloo.nl/evenement/dressuurwedstrijd-3/
LOCATION:Hippisch Centrum Exloo\, Valtherweg 27A\, Exloo\, Drenthe\, 7875 TA\, Nederland
CATEGORIES:Dressuur
ORGANIZER;CN="Hippisch Centrum Exloo":MAILTO:info@hippischcentrumexloo.nl
END:VEVENT
BEGIN:VEVENT
DTSTART;TZID=Europe/Amsterdam:20200507T190000
DTEND;TZID=Europe/Amsterdam:20200507T210000
DTSTAMP:20260420T053621
CREATED:20200225T082714Z
LAST-MODIFIED:20200225T082714Z
UID:8685-1588878000-1588885200@www.hippischcentrumexloo.nl
SUMMARY:Lessen Ina Beuving
DESCRIPTION:bezetting binnen bak of buiten.
URL:https://www.hippischcentrumexloo.nl/evenement/lessen-ina-beuving-5-2020-05-07/
LOCATION:Hippisch Centrum Exloo\, Valtherweg 27A\, Exloo\, Drenthe\, 7875 TA\, Nederland
ORGANIZER;CN="Hippisch Centrum Exloo":MAILTO:info@hippischcentrumexloo.nl
END:VEVENT
BEGIN:VEVENT
DTSTART;TZID=Europe/Amsterdam:20200507T180000
DTEND;TZID=Europe/Amsterdam:20200507T200000
DTSTAMP:20260420T053621
CREATED:20200107T085905Z
LAST-MODIFIED:20200107T085905Z
UID:8488-1588874400-1588881600@www.hippischcentrumexloo.nl
SUMMARY:JSP lessen Floor Vos
DESCRIPTION:van 18.00 uur tm 19.00 uur
URL:https://www.hippischcentrumexloo.nl/evenement/jsp-lessen-floor-vos-3-2020-05-07/
LOCATION:Hippisch Centrum Exloo\, Valtherweg 27A\, Exloo\, Drenthe\, 7875 TA\, Nederland
ORGANIZER;CN="Hippisch Centrum Exloo":MAILTO:info@hippischcentrumexloo.nl
END:VEVENT
BEGIN:VEVENT
DTSTART;TZID=Europe/Amsterdam:20200506T090000
DTEND;TZID=Europe/Amsterdam:20200506T210000
DTSTAMP:20260420T053621
CREATED:20180924T141414Z
LAST-MODIFIED:20180924T141414Z
UID:8550-1588755600-1588798800@www.hippischcentrumexloo.nl
SUMMARY:Springwedstrijd
DESCRIPTION:Springwedstrijd!! \nVan BB to ZZ voor paarden en pony’s! \nBuiten Banen!!!! \nopgave via Diny Blom: wedstrijdenexloo@gmail.com
URL:https://www.hippischcentrumexloo.nl/evenement/springwedstrijd-2018-12-19-2020-01-08-2020-05-06/
LOCATION:Hippisch Centrum Exloo\, Valtherweg 27A\, Exloo\, Drenthe\, 7875 TA\, Nederland
CATEGORIES:Springen
ORGANIZER;CN="Hippisch Centrum Exloo":MAILTO:info@hippischcentrumexloo.nl
END:VEVENT
BEGIN:VEVENT
DTSTART;TZID=Europe/Amsterdam:20200505T190000
DTEND;TZID=Europe/Amsterdam:20200505T210000
DTSTAMP:20260420T053621
CREATED:20200225T082234Z
LAST-MODIFIED:20200225T082234Z
UID:8672-1588705200-1588712400@www.hippischcentrumexloo.nl
SUMMARY:Lessen Ina Beuving
DESCRIPTION:bezetting binnen bak of buiten.
URL:https://www.hippischcentrumexloo.nl/evenement/lessen-ina-beuving-4-2020-05-05/
LOCATION:Hippisch Centrum Exloo\, Valtherweg 27A\, Exloo\, Drenthe\, 7875 TA\, Nederland
ORGANIZER;CN="Hippisch Centrum Exloo":MAILTO:info@hippischcentrumexloo.nl
END:VEVENT
BEGIN:VEVENT
DTSTART;VALUE=DATE:20200430
DTEND;VALUE=DATE:20200501
DTSTAMP:20260420T053621
CREATED:20190916T090714Z
LAST-MODIFIED:20190916T090714Z
UID:8532-1588204800-1588291199@www.hippischcentrumexloo.nl
SUMMARY:Dressuurwedstrijd!
DESCRIPTION:2 proeven rijden op Top bodem! \nvan BB tm ZZL voor paarden en pony’s \nvoor de tijden zie startlijsten! \nopgave via: dressuurexloo@gmail.com
URL:https://www.hippischcentrumexloo.nl/evenement/dressuurwedstrijd-2-2019-10-17-2020-04-30/
LOCATION:Hippisch Centrum Exloo\, Valtherweg 27A\, Exloo\, Drenthe\, 7875 TA\, Nederland
ORGANIZER;CN="Hippisch Centrum Exloo":MAILTO:info@hippischcentrumexloo.nl
END:VEVENT
BEGIN:VEVENT
DTSTART;TZID=Europe/Amsterdam:20200429T090000
DTEND;TZID=Europe/Amsterdam:20200429T210000
DTSTAMP:20260420T053621
CREATED:20180924T141414Z
LAST-MODIFIED:20180924T141414Z
UID:8549-1588150800-1588194000@www.hippischcentrumexloo.nl
SUMMARY:Springwedstrijd
DESCRIPTION:Springwedstrijd!! \nVan BB to ZZ voor paarden en pony’s! \nBuiten Banen!!!! \nopgave via Diny Blom: wedstrijdenexloo@gmail.com
URL:https://www.hippischcentrumexloo.nl/evenement/springwedstrijd-2018-12-19-2020-01-08-2020-04-29/
LOCATION:Hippisch Centrum Exloo\, Valtherweg 27A\, Exloo\, Drenthe\, 7875 TA\, Nederland
CATEGORIES:Springen
ORGANIZER;CN="Hippisch Centrum Exloo":MAILTO:info@hippischcentrumexloo.nl
END:VEVENT
BEGIN:VEVENT
DTSTART;TZID=Europe/Amsterdam:20200428T190000
DTEND;TZID=Europe/Amsterdam:20200428T210000
DTSTAMP:20260420T053621
CREATED:20200225T082234Z
LAST-MODIFIED:20200225T082234Z
UID:8671-1588100400-1588107600@www.hippischcentrumexloo.nl
SUMMARY:Lessen Ina Beuving
DESCRIPTION:bezetting binnen bak of buiten.
URL:https://www.hippischcentrumexloo.nl/evenement/lessen-ina-beuving-4-2020-04-28/
LOCATION:Hippisch Centrum Exloo\, Valtherweg 27A\, Exloo\, Drenthe\, 7875 TA\, Nederland
ORGANIZER;CN="Hippisch Centrum Exloo":MAILTO:info@hippischcentrumexloo.nl
END:VEVENT
BEGIN:VEVENT
DTSTART;TZID=Europe/Amsterdam:20200428T080000
DTEND;TZID=Europe/Amsterdam:20200501T170000
DTSTAMP:20260420T053621
CREATED:20200217T105003Z
LAST-MODIFIED:20200217T105003Z
UID:8641-1588060800-1588352400@www.hippischcentrumexloo.nl
SUMMARY:Training aangespannen paarden
DESCRIPTION:bezetting zijn de binnen en buiten terreinen \ner kan wel vrij gereden worden.
URL:https://www.hippischcentrumexloo.nl/evenement/training-aangespannen-paarden-2/
LOCATION:Hippisch Centrum Exloo\, Valtherweg 27A\, Exloo\, Drenthe\, 7875 TA\, Nederland
ORGANIZER;CN="Hippisch Centrum Exloo":MAILTO:info@hippischcentrumexloo.nl
END:VEVENT
BEGIN:VEVENT
DTSTART;VALUE=DATE:20200427
DTEND;VALUE=DATE:20200428
DTSTAMP:20260420T053621
CREATED:20191218T134406Z
LAST-MODIFIED:20191218T134406Z
UID:8698-1587945600-1588031999@www.hippischcentrumexloo.nl
SUMMARY:PSV HCE Ruiters Konings Concours
DESCRIPTION:.Koningsconcours dressuur en springen voor paarden en pony’s.\nDressuur paarden klasse B t/m ZZL en pony’s klasse B t/m Z2\,\nSpringen paarden en pony’s klasse BB t/m ZZ.\nInschrijven voor deze wedstrijd e-mail: hcewedstrijden@gmail.com \nKoningsconcours 2020 dressuur en springen\, paarden en pony’s \n  \nZaterdag 25 april\, dressuur: \npaarden klasse B t/m ZZL\, \npony’s klasse B t/m Z2. \nAlle klassen worden verreden op de zandpiste. \nAanmelden is voor twee proeven. \n  \nMaandag 27 april\, springen: \npaarden en pony’s klasse BB t/m ZZ. \nEr kunnen twee parcoursen verreden worden die naast mekaar in de piste staan. Dus zo van het ene parcours door naar het andere parcours. \n  \nAanmelden door je combinatie gegevens te mailen naar: hcewedstrijden@gmail.com \n  \nDe wedstrijdlocatie is; \n  \nHippisch Centrum Exloo \nValtherweg 27A \n7875 TA  EXLOO
URL:https://www.hippischcentrumexloo.nl/evenement/konings-concours-2-2020-04-27/
LOCATION:Hippisch Centrum Exloo\, Valtherweg 27A\, Exloo\, Drenthe\, 7875 TA\, Nederland
ORGANIZER;CN="Hippisch Centrum Exloo":MAILTO:info@hippischcentrumexloo.nl
END:VEVENT
BEGIN:VEVENT
DTSTART;VALUE=DATE:20200426
DTEND;VALUE=DATE:20200427
DTSTAMP:20260420T053621
CREATED:20200303T114849Z
LAST-MODIFIED:20200303T114849Z
UID:8694-1587859200-1587945599@www.hippischcentrumexloo.nl
SUMMARY:proefgerichte / training van Loes Corsel
DESCRIPTION:bezetting binnen bak of buiten een ring \n  \nopgave en info: Meranda 0645438995 \n 
URL:https://www.hippischcentrumexloo.nl/evenement/proefgerichte-training-van-loes-corsel/
LOCATION:Hippisch Centrum Exloo\, Valtherweg 27A\, Exloo\, Drenthe\, 7875 TA\, Nederland
ORGANIZER;CN="Hippisch Centrum Exloo":MAILTO:info@hippischcentrumexloo.nl
END:VEVENT
BEGIN:VEVENT
DTSTART;VALUE=DATE:20200425
DTEND;VALUE=DATE:20200426
DTSTAMP:20260420T053621
CREATED:20191218T134406Z
LAST-MODIFIED:20200303T122014Z
UID:8447-1587772800-1587859199@www.hippischcentrumexloo.nl
SUMMARY:PSV HCE Ruiters Konings Concours
DESCRIPTION:.Koningsconcours dressuur en springen voor paarden en pony’s.\nDressuur paarden klasse B t/m ZZL en pony’s klasse B t/m Z2\,\nSpringen paarden en pony’s klasse BB t/m ZZ.\nInschrijven voor deze wedstrijd e-mail: hcewedstrijden@gmail.com \nKoningsconcours 2020 dressuur en springen\, paarden en pony’s \n  \nZaterdag 25 april\, dressuur: \npaarden klasse B t/m ZZL\, \npony’s klasse B t/m Z2. \nAlle klassen worden verreden op de zandpiste. \nAanmelden is voor twee proeven. \n  \nMaandag 27 april\, springen: \npaarden en pony’s klasse BB t/m ZZ. \nEr kunnen twee parcoursen verreden worden die naast mekaar in de piste staan. Dus zo van het ene parcours door naar het andere parcours. \n  \nAanmelden door je combinatie gegevens te mailen naar: hcewedstrijden@gmail.com \n  \nDe wedstrijdlocatie is; \n  \nHippisch Centrum Exloo \nValtherweg 27A \n7875 TA  EXLOO
URL:https://www.hippischcentrumexloo.nl/evenement/konings-concours-2/
LOCATION:Hippisch Centrum Exloo\, Valtherweg 27A\, Exloo\, Drenthe\, 7875 TA\, Nederland
ORGANIZER;CN="Hippisch Centrum Exloo":MAILTO:info@hippischcentrumexloo.nl
END:VEVENT
BEGIN:VEVENT
DTSTART;TZID=Europe/Amsterdam:20200423T190000
DTEND;TZID=Europe/Amsterdam:20200423T210000
DTSTAMP:20260420T053621
CREATED:20200225T082714Z
LAST-MODIFIED:20200225T082714Z
UID:8684-1587668400-1587675600@www.hippischcentrumexloo.nl
SUMMARY:Lessen Ina Beuving
DESCRIPTION:bezetting binnen bak of buiten.
URL:https://www.hippischcentrumexloo.nl/evenement/lessen-ina-beuving-5-2020-04-23/
LOCATION:Hippisch Centrum Exloo\, Valtherweg 27A\, Exloo\, Drenthe\, 7875 TA\, Nederland
ORGANIZER;CN="Hippisch Centrum Exloo":MAILTO:info@hippischcentrumexloo.nl
END:VEVENT
BEGIN:VEVENT
DTSTART;TZID=Europe/Amsterdam:20200423T180000
DTEND;TZID=Europe/Amsterdam:20200423T200000
DTSTAMP:20260420T053621
CREATED:20191017T100834Z
LAST-MODIFIED:20191017T100834Z
UID:8187-1587664800-1587672000@www.hippischcentrumexloo.nl
SUMMARY:JSP Lessen
DESCRIPTION:JSP lessen van Floor Vos \nBezetting Binnenbak
URL:https://www.hippischcentrumexloo.nl/evenement/jsp-lessen-2-2020-04-23/
LOCATION:Hippisch Centrum Exloo\, Valtherweg 27A\, Exloo\, Drenthe\, 7875 TA\, Nederland
ORGANIZER;CN="Hippisch Centrum Exloo":MAILTO:info@hippischcentrumexloo.nl
END:VEVENT
BEGIN:VEVENT
DTSTART;TZID=Europe/Amsterdam:20200422T090000
DTEND;TZID=Europe/Amsterdam:20200422T210000
DTSTAMP:20260420T053621
CREATED:20180924T141414Z
LAST-MODIFIED:20180924T141414Z
UID:8548-1587546000-1587589200@www.hippischcentrumexloo.nl
SUMMARY:Springwedstrijd
DESCRIPTION:Springwedstrijd!! \nVan BB to ZZ voor paarden en pony’s! \nBuiten Banen!!!! \nopgave via Diny Blom: wedstrijdenexloo@gmail.com
URL:https://www.hippischcentrumexloo.nl/evenement/springwedstrijd-2018-12-19-2020-01-08-2020-04-22/
LOCATION:Hippisch Centrum Exloo\, Valtherweg 27A\, Exloo\, Drenthe\, 7875 TA\, Nederland
CATEGORIES:Springen
ORGANIZER;CN="Hippisch Centrum Exloo":MAILTO:info@hippischcentrumexloo.nl
END:VEVENT
BEGIN:VEVENT
DTSTART;TZID=Europe/Amsterdam:20200421T190000
DTEND;TZID=Europe/Amsterdam:20200421T210000
DTSTAMP:20260420T053621
CREATED:20200225T082234Z
LAST-MODIFIED:20200225T082234Z
UID:8670-1587495600-1587502800@www.hippischcentrumexloo.nl
SUMMARY:Lessen Ina Beuving
DESCRIPTION:bezetting binnen bak of buiten.
URL:https://www.hippischcentrumexloo.nl/evenement/lessen-ina-beuving-4-2020-04-21/
LOCATION:Hippisch Centrum Exloo\, Valtherweg 27A\, Exloo\, Drenthe\, 7875 TA\, Nederland
ORGANIZER;CN="Hippisch Centrum Exloo":MAILTO:info@hippischcentrumexloo.nl
END:VEVENT
BEGIN:VEVENT
DTSTART;TZID=Europe/Amsterdam:20200421T180000
DTEND;TZID=Europe/Amsterdam:20200421T190000
DTSTAMP:20260420T053621
CREATED:20200107T085905Z
LAST-MODIFIED:20200107T085905Z
UID:8486-1587492000-1587495600@www.hippischcentrumexloo.nl
SUMMARY:JSP lessen Floor Vos
DESCRIPTION:van 18.00 uur tm 19.00 uur
URL:https://www.hippischcentrumexloo.nl/evenement/jsp-lessen-floor-vos-3/
LOCATION:Hippisch Centrum Exloo\, Valtherweg 27A\, Exloo\, Drenthe\, 7875 TA\, Nederland
ORGANIZER;CN="Hippisch Centrum Exloo":MAILTO:info@hippischcentrumexloo.nl
END:VEVENT
BEGIN:VEVENT
DTSTART;TZID=Europe/Amsterdam:20200420T080000
DTEND;TZID=Europe/Amsterdam:20200423T170000
DTSTAMP:20260420T053621
CREATED:20200217T104910Z
LAST-MODIFIED:20200217T104910Z
UID:8639-1587369600-1587661200@www.hippischcentrumexloo.nl
SUMMARY:Training aangespannen paarden
DESCRIPTION:bezetting zijn de binnen en buiten terreinen \ner kan wel vrij gereden worden.
URL:https://www.hippischcentrumexloo.nl/evenement/training-aangespannen-paarden/
LOCATION:Hippisch Centrum Exloo\, Valtherweg 27A\, Exloo\, Drenthe\, 7875 TA\, Nederland
ORGANIZER;CN="Hippisch Centrum Exloo":MAILTO:info@hippischcentrumexloo.nl
END:VEVENT
BEGIN:VEVENT
DTSTART;VALUE=DATE:20200416
DTEND;VALUE=DATE:20200417
DTSTAMP:20260420T053621
CREATED:20190916T090714Z
LAST-MODIFIED:20190916T090714Z
UID:8531-1586995200-1587081599@www.hippischcentrumexloo.nl
SUMMARY:Dressuurwedstrijd!
DESCRIPTION:2 proeven rijden op Top bodem! \nvan BB tm ZZL voor paarden en pony’s \nvoor de tijden zie startlijsten! \nopgave via: dressuurexloo@gmail.com
URL:https://www.hippischcentrumexloo.nl/evenement/dressuurwedstrijd-2-2019-10-17-2020-04-16/
LOCATION:Hippisch Centrum Exloo\, Valtherweg 27A\, Exloo\, Drenthe\, 7875 TA\, Nederland
ORGANIZER;CN="Hippisch Centrum Exloo":MAILTO:info@hippischcentrumexloo.nl
END:VEVENT
END:VCALENDAR