BEGIN:VCALENDAR
VERSION:2.0
PRODID:-//Hippisch Centrum Exloo - ECPv6.15.17.1//NONSGML v1.0//EN
CALSCALE:GREGORIAN
METHOD:PUBLISH
X-WR-CALNAME:Hippisch Centrum Exloo
X-ORIGINAL-URL:https://www.hippischcentrumexloo.nl
X-WR-CALDESC:Evenementen voor Hippisch Centrum Exloo
REFRESH-INTERVAL;VALUE=DURATION:PT1H
X-Robots-Tag:noindex
X-PUBLISHED-TTL:PT1H
BEGIN:VTIMEZONE
TZID:Europe/Amsterdam
BEGIN:DAYLIGHT
TZOFFSETFROM:+0100
TZOFFSETTO:+0200
TZNAME:CEST
DTSTART:20190331T010000
END:DAYLIGHT
BEGIN:STANDARD
TZOFFSETFROM:+0200
TZOFFSETTO:+0100
TZNAME:CET
DTSTART:20191027T010000
END:STANDARD
BEGIN:DAYLIGHT
TZOFFSETFROM:+0100
TZOFFSETTO:+0200
TZNAME:CEST
DTSTART:20200329T010000
END:DAYLIGHT
BEGIN:STANDARD
TZOFFSETFROM:+0200
TZOFFSETTO:+0100
TZNAME:CET
DTSTART:20201025T010000
END:STANDARD
BEGIN:DAYLIGHT
TZOFFSETFROM:+0100
TZOFFSETTO:+0200
TZNAME:CEST
DTSTART:20210328T010000
END:DAYLIGHT
BEGIN:STANDARD
TZOFFSETFROM:+0200
TZOFFSETTO:+0100
TZNAME:CET
DTSTART:20211031T010000
END:STANDARD
END:VTIMEZONE
BEGIN:VEVENT
DTSTART;VALUE=DATE:20200718
DTEND;VALUE=DATE:20200719
DTSTAMP:20260419T223125
CREATED:20200716T084902Z
LAST-MODIFIED:20200716T085606Z
UID:8958-1595030400-1595116799@www.hippischcentrumexloo.nl
SUMMARY:Dressuur wedstrijd
DESCRIPTION:2 proeven rijden op Top bodem! \nvan BB tm ZZL voor paarden en pony’s \nopgave via: dressuurexloo@gmail.com
URL:https://www.hippischcentrumexloo.nl/evenement/dressuur-wedstrijd-3/
LOCATION:Hippisch Centrum Exloo\, Valtherweg 27A\, Exloo\, Drenthe\, 7875 TA\, Nederland
CATEGORIES:Dressuur
ORGANIZER;CN="Hippisch Centrum Exloo":MAILTO:info@hippischcentrumexloo.nl
END:VEVENT
BEGIN:VEVENT
DTSTART;TZID=Europe/Amsterdam:20200715T090000
DTEND;TZID=Europe/Amsterdam:20200715T210000
DTSTAMP:20260419T223125
CREATED:20180924T141414Z
LAST-MODIFIED:20180924T141414Z
UID:8560-1594803600-1594846800@www.hippischcentrumexloo.nl
SUMMARY:Springwedstrijd
DESCRIPTION:Springwedstrijd!! \nVan BB to ZZ voor paarden en pony’s! \nBuiten Banen!!!! \nopgave via Diny Blom: wedstrijdenexloo@gmail.com
URL:https://www.hippischcentrumexloo.nl/evenement/springwedstrijd-2018-12-19-2020-01-08-2020-07-15/
LOCATION:Hippisch Centrum Exloo\, Valtherweg 27A\, Exloo\, Drenthe\, 7875 TA\, Nederland
CATEGORIES:Springen
ORGANIZER;CN="Hippisch Centrum Exloo":MAILTO:info@hippischcentrumexloo.nl
END:VEVENT
BEGIN:VEVENT
DTSTART;TZID=Europe/Amsterdam:20200708T090000
DTEND;TZID=Europe/Amsterdam:20200708T210000
DTSTAMP:20260419T223125
CREATED:20180924T141414Z
LAST-MODIFIED:20180924T141414Z
UID:8559-1594198800-1594242000@www.hippischcentrumexloo.nl
SUMMARY:Springwedstrijd
DESCRIPTION:Springwedstrijd!! \nVan BB to ZZ voor paarden en pony’s! \nBuiten Banen!!!! \nopgave via Diny Blom: wedstrijdenexloo@gmail.com
URL:https://www.hippischcentrumexloo.nl/evenement/springwedstrijd-2018-12-19-2020-01-08-2020-07-08/
LOCATION:Hippisch Centrum Exloo\, Valtherweg 27A\, Exloo\, Drenthe\, 7875 TA\, Nederland
CATEGORIES:Springen
ORGANIZER;CN="Hippisch Centrum Exloo":MAILTO:info@hippischcentrumexloo.nl
END:VEVENT
BEGIN:VEVENT
DTSTART;VALUE=DATE:20200705
DTEND;VALUE=DATE:20200706
DTSTAMP:20260419T223125
CREATED:20200109T102306Z
LAST-MODIFIED:20200109T102306Z
UID:8498-1593907200-1593993599@www.hippischcentrumexloo.nl
SUMMARY:Z-Festival zangersheide Festival
DESCRIPTION:nadere info volgt.
URL:https://www.hippischcentrumexloo.nl/evenement/z-festival-zangersheide-festival/
LOCATION:Hippisch Centrum Exloo\, Valtherweg 27A\, Exloo\, Drenthe\, 7875 TA\, Nederland
ORGANIZER;CN="Hippisch Centrum Exloo":MAILTO:info@hippischcentrumexloo.nl
END:VEVENT
BEGIN:VEVENT
DTSTART;TZID=Europe/Amsterdam:20200701T090000
DTEND;TZID=Europe/Amsterdam:20200701T210000
DTSTAMP:20260419T223125
CREATED:20180924T141414Z
LAST-MODIFIED:20180924T141414Z
UID:8558-1593594000-1593637200@www.hippischcentrumexloo.nl
SUMMARY:Springwedstrijd
DESCRIPTION:Springwedstrijd!! \nVan BB to ZZ voor paarden en pony’s! \nBuiten Banen!!!! \nopgave via Diny Blom: wedstrijdenexloo@gmail.com
URL:https://www.hippischcentrumexloo.nl/evenement/springwedstrijd-2018-12-19-2020-01-08-2020-07-01/
LOCATION:Hippisch Centrum Exloo\, Valtherweg 27A\, Exloo\, Drenthe\, 7875 TA\, Nederland
CATEGORIES:Springen
ORGANIZER;CN="Hippisch Centrum Exloo":MAILTO:info@hippischcentrumexloo.nl
END:VEVENT
BEGIN:VEVENT
DTSTART;TZID=Europe/Amsterdam:20200630T190000
DTEND;TZID=Europe/Amsterdam:20200630T210000
DTSTAMP:20260419T223125
CREATED:20200225T082234Z
LAST-MODIFIED:20200225T082234Z
UID:8680-1593543600-1593550800@www.hippischcentrumexloo.nl
SUMMARY:Lessen Ina Beuving
DESCRIPTION:bezetting binnen bak of buiten.
URL:https://www.hippischcentrumexloo.nl/evenement/lessen-ina-beuving-4-2020-06-30/
LOCATION:Hippisch Centrum Exloo\, Valtherweg 27A\, Exloo\, Drenthe\, 7875 TA\, Nederland
ORGANIZER;CN="Hippisch Centrum Exloo":MAILTO:info@hippischcentrumexloo.nl
END:VEVENT
BEGIN:VEVENT
DTSTART;VALUE=DATE:20200627
DTEND;VALUE=DATE:20200629
DTSTAMP:20260419T223125
CREATED:20200124T145042Z
LAST-MODIFIED:20200124T145042Z
UID:8576-1593216000-1593388799@www.hippischcentrumexloo.nl
SUMMARY:Hippisch Actief kadervorming /Finale kostendrukkers
DESCRIPTION:nadere info volgt
URL:https://www.hippischcentrumexloo.nl/evenement/hippisch-actief-kadervorming-finale-kostendrukkers/
LOCATION:Hippisch Centrum Exloo\, Valtherweg 27A\, Exloo\, Drenthe\, 7875 TA\, Nederland
ORGANIZER;CN="Hippisch Centrum Exloo":MAILTO:info@hippischcentrumexloo.nl
END:VEVENT
BEGIN:VEVENT
DTSTART;TZID=Europe/Amsterdam:20200625T190000
DTEND;TZID=Europe/Amsterdam:20200625T210000
DTSTAMP:20260419T223125
CREATED:20200225T082714Z
LAST-MODIFIED:20200225T082714Z
UID:8687-1593111600-1593118800@www.hippischcentrumexloo.nl
SUMMARY:Lessen Ina Beuving
DESCRIPTION:bezetting binnen bak of buiten.
URL:https://www.hippischcentrumexloo.nl/evenement/lessen-ina-beuving-5-2020-06-25/
LOCATION:Hippisch Centrum Exloo\, Valtherweg 27A\, Exloo\, Drenthe\, 7875 TA\, Nederland
ORGANIZER;CN="Hippisch Centrum Exloo":MAILTO:info@hippischcentrumexloo.nl
END:VEVENT
BEGIN:VEVENT
DTSTART;TZID=Europe/Amsterdam:20200624T090000
DTEND;TZID=Europe/Amsterdam:20200624T210000
DTSTAMP:20260419T223125
CREATED:20180924T141414Z
LAST-MODIFIED:20180924T141414Z
UID:8557-1592989200-1593032400@www.hippischcentrumexloo.nl
SUMMARY:Springwedstrijd
DESCRIPTION:Springwedstrijd!! \nVan BB to ZZ voor paarden en pony’s! \nBuiten Banen!!!! \nopgave via Diny Blom: wedstrijdenexloo@gmail.com
URL:https://www.hippischcentrumexloo.nl/evenement/springwedstrijd-2018-12-19-2020-01-08-2020-06-24/
LOCATION:Hippisch Centrum Exloo\, Valtherweg 27A\, Exloo\, Drenthe\, 7875 TA\, Nederland
CATEGORIES:Springen
ORGANIZER;CN="Hippisch Centrum Exloo":MAILTO:info@hippischcentrumexloo.nl
END:VEVENT
BEGIN:VEVENT
DTSTART;TZID=Europe/Amsterdam:20200623T190000
DTEND;TZID=Europe/Amsterdam:20200623T210000
DTSTAMP:20260419T223125
CREATED:20200225T082234Z
LAST-MODIFIED:20200225T082234Z
UID:8679-1592938800-1592946000@www.hippischcentrumexloo.nl
SUMMARY:Lessen Ina Beuving
DESCRIPTION:bezetting binnen bak of buiten.
URL:https://www.hippischcentrumexloo.nl/evenement/lessen-ina-beuving-4-2020-06-23/
LOCATION:Hippisch Centrum Exloo\, Valtherweg 27A\, Exloo\, Drenthe\, 7875 TA\, Nederland
ORGANIZER;CN="Hippisch Centrum Exloo":MAILTO:info@hippischcentrumexloo.nl
END:VEVENT
BEGIN:VEVENT
DTSTART;VALUE=DATE:20200620
DTEND;VALUE=DATE:20200621
DTSTAMP:20260419T223125
CREATED:20200127T095143Z
LAST-MODIFIED:20200127T095143Z
UID:8593-1592611200-1592697599@www.hippischcentrumexloo.nl
SUMMARY:Tuigpaarden Concours
DESCRIPTION:nadere info volgt
URL:https://www.hippischcentrumexloo.nl/evenement/tuigpaarden-concours/
LOCATION:Hippisch Centrum Exloo\, Valtherweg 27A\, Exloo\, Drenthe\, 7875 TA\, Nederland
ORGANIZER;CN="Hippisch Centrum Exloo":MAILTO:info@hippischcentrumexloo.nl
END:VEVENT
BEGIN:VEVENT
DTSTART;VALUE=DATE:20200618
DTEND;VALUE=DATE:20200619
DTSTAMP:20260419T223125
CREATED:20190916T090714Z
LAST-MODIFIED:20190916T090714Z
UID:8536-1592438400-1592524799@www.hippischcentrumexloo.nl
SUMMARY:Dressuurwedstrijd!
DESCRIPTION:2 proeven rijden op Top bodem! \nvan BB tm ZZL voor paarden en pony’s \nvoor de tijden zie startlijsten! \nopgave via: dressuurexloo@gmail.com
URL:https://www.hippischcentrumexloo.nl/evenement/dressuurwedstrijd-2-2019-10-17-2020-06-18/
LOCATION:Hippisch Centrum Exloo\, Valtherweg 27A\, Exloo\, Drenthe\, 7875 TA\, Nederland
ORGANIZER;CN="Hippisch Centrum Exloo":MAILTO:info@hippischcentrumexloo.nl
END:VEVENT
BEGIN:VEVENT
DTSTART;TZID=Europe/Amsterdam:20200617T090000
DTEND;TZID=Europe/Amsterdam:20200617T210000
DTSTAMP:20260419T223125
CREATED:20180924T141414Z
LAST-MODIFIED:20180924T141414Z
UID:8556-1592384400-1592427600@www.hippischcentrumexloo.nl
SUMMARY:Springwedstrijd
DESCRIPTION:Springwedstrijd!! \nVan BB to ZZ voor paarden en pony’s! \nBuiten Banen!!!! \nopgave via Diny Blom: wedstrijdenexloo@gmail.com
URL:https://www.hippischcentrumexloo.nl/evenement/springwedstrijd-2018-12-19-2020-01-08-2020-06-17/
LOCATION:Hippisch Centrum Exloo\, Valtherweg 27A\, Exloo\, Drenthe\, 7875 TA\, Nederland
CATEGORIES:Springen
ORGANIZER;CN="Hippisch Centrum Exloo":MAILTO:info@hippischcentrumexloo.nl
END:VEVENT
BEGIN:VEVENT
DTSTART;TZID=Europe/Amsterdam:20200616T190000
DTEND;TZID=Europe/Amsterdam:20200616T210000
DTSTAMP:20260419T223125
CREATED:20200225T082234Z
LAST-MODIFIED:20200225T082234Z
UID:8678-1592334000-1592341200@www.hippischcentrumexloo.nl
SUMMARY:Lessen Ina Beuving
DESCRIPTION:bezetting binnen bak of buiten.
URL:https://www.hippischcentrumexloo.nl/evenement/lessen-ina-beuving-4-2020-06-16/
LOCATION:Hippisch Centrum Exloo\, Valtherweg 27A\, Exloo\, Drenthe\, 7875 TA\, Nederland
ORGANIZER;CN="Hippisch Centrum Exloo":MAILTO:info@hippischcentrumexloo.nl
END:VEVENT
BEGIN:VEVENT
DTSTART;TZID=Europe/Amsterdam:20200611T080000
DTEND;TZID=Europe/Amsterdam:20200614T170000
DTSTAMP:20260419T223125
CREATED:20191104T143601Z
LAST-MODIFIED:20191104T143601Z
UID:8301-1591862400-1592154000@www.hippischcentrumexloo.nl
SUMMARY:Internationaal dressuur CDI***
DESCRIPTION:internationaal dressuur! \n  \nInfo volgt!
URL:https://www.hippischcentrumexloo.nl/evenement/internationaal-dressuur-cdi/
LOCATION:Hippisch Centrum Exloo\, Valtherweg 27A\, Exloo\, Drenthe\, 7875 TA\, Nederland
CATEGORIES:Dressuur
ORGANIZER;CN="Hippisch Centrum Exloo":MAILTO:info@hippischcentrumexloo.nl
END:VEVENT
BEGIN:VEVENT
DTSTART;TZID=Europe/Amsterdam:20200609T190000
DTEND;TZID=Europe/Amsterdam:20200609T210000
DTSTAMP:20260419T223125
CREATED:20200225T082234Z
LAST-MODIFIED:20200225T082234Z
UID:8677-1591729200-1591736400@www.hippischcentrumexloo.nl
SUMMARY:Lessen Ina Beuving
DESCRIPTION:bezetting binnen bak of buiten.
URL:https://www.hippischcentrumexloo.nl/evenement/lessen-ina-beuving-4-2020-06-09/
LOCATION:Hippisch Centrum Exloo\, Valtherweg 27A\, Exloo\, Drenthe\, 7875 TA\, Nederland
ORGANIZER;CN="Hippisch Centrum Exloo":MAILTO:info@hippischcentrumexloo.nl
END:VEVENT
BEGIN:VEVENT
DTSTART;TZID=Europe/Amsterdam:20200605T080000
DTEND;TZID=Europe/Amsterdam:20200607T170000
DTSTAMP:20260419T223125
CREATED:20200203T090809Z
LAST-MODIFIED:20200203T090809Z
UID:8602-1591344000-1591549200@www.hippischcentrumexloo.nl
SUMMARY:Nationaal Kampioenschap Working Equitation Holland
DESCRIPTION:nadere info volgt
URL:https://www.hippischcentrumexloo.nl/evenement/nationaal-kampioenschap-working-equitation-holland/
LOCATION:Hippisch Centrum Exloo\, Valtherweg 27A\, Exloo\, Drenthe\, 7875 TA\, Nederland
ORGANIZER;CN="Hippisch Centrum Exloo":MAILTO:info@hippischcentrumexloo.nl
END:VEVENT
BEGIN:VEVENT
DTSTART;VALUE=DATE:20200604
DTEND;VALUE=DATE:20200605
DTSTAMP:20260419T223125
CREATED:20190916T090714Z
LAST-MODIFIED:20190916T090714Z
UID:8535-1591228800-1591315199@www.hippischcentrumexloo.nl
SUMMARY:Dressuurwedstrijd!
DESCRIPTION:2 proeven rijden op Top bodem! \nvan BB tm ZZL voor paarden en pony’s \nvoor de tijden zie startlijsten! \nopgave via: dressuurexloo@gmail.com
URL:https://www.hippischcentrumexloo.nl/evenement/dressuurwedstrijd-2-2019-10-17-2020-06-04/
LOCATION:Hippisch Centrum Exloo\, Valtherweg 27A\, Exloo\, Drenthe\, 7875 TA\, Nederland
ORGANIZER;CN="Hippisch Centrum Exloo":MAILTO:info@hippischcentrumexloo.nl
END:VEVENT
BEGIN:VEVENT
DTSTART;TZID=Europe/Amsterdam:20200603T090000
DTEND;TZID=Europe/Amsterdam:20200603T210000
DTSTAMP:20260419T223125
CREATED:20180924T141414Z
LAST-MODIFIED:20180924T141414Z
UID:8554-1591174800-1591218000@www.hippischcentrumexloo.nl
SUMMARY:Springwedstrijd
DESCRIPTION:Springwedstrijd!! \nVan BB to ZZ voor paarden en pony’s! \nBuiten Banen!!!! \nopgave via Diny Blom: wedstrijdenexloo@gmail.com
URL:https://www.hippischcentrumexloo.nl/evenement/springwedstrijd-2018-12-19-2020-01-08-2020-06-03/
LOCATION:Hippisch Centrum Exloo\, Valtherweg 27A\, Exloo\, Drenthe\, 7875 TA\, Nederland
CATEGORIES:Springen
ORGANIZER;CN="Hippisch Centrum Exloo":MAILTO:info@hippischcentrumexloo.nl
END:VEVENT
BEGIN:VEVENT
DTSTART;TZID=Europe/Amsterdam:20200602T190000
DTEND;TZID=Europe/Amsterdam:20200602T210000
DTSTAMP:20260419T223125
CREATED:20200225T082234Z
LAST-MODIFIED:20200225T082234Z
UID:8676-1591124400-1591131600@www.hippischcentrumexloo.nl
SUMMARY:Lessen Ina Beuving
DESCRIPTION:bezetting binnen bak of buiten.
URL:https://www.hippischcentrumexloo.nl/evenement/lessen-ina-beuving-4-2020-06-02/
LOCATION:Hippisch Centrum Exloo\, Valtherweg 27A\, Exloo\, Drenthe\, 7875 TA\, Nederland
ORGANIZER;CN="Hippisch Centrum Exloo":MAILTO:info@hippischcentrumexloo.nl
END:VEVENT
BEGIN:VEVENT
DTSTART;TZID=Europe/Amsterdam:20200531T080000
DTEND;TZID=Europe/Amsterdam:20200601T170000
DTSTAMP:20260419T223125
CREATED:20200203T090501Z
LAST-MODIFIED:20200203T090501Z
UID:8600-1590912000-1591030800@www.hippischcentrumexloo.nl
SUMMARY:Internationaal Yslander YRN weekend
DESCRIPTION:nadere info volgt
URL:https://www.hippischcentrumexloo.nl/evenement/internationaal-yslander-yrn-weekend/
LOCATION:Hippisch Centrum Exloo\, Valtherweg 27A\, Exloo\, Drenthe\, 7875 TA\, Nederland
ORGANIZER;CN="Hippisch Centrum Exloo":MAILTO:info@hippischcentrumexloo.nl
END:VEVENT
BEGIN:VEVENT
DTSTART;VALUE=DATE:20200528
DTEND;VALUE=DATE:20200529
DTSTAMP:20260419T223125
CREATED:20190916T090714Z
LAST-MODIFIED:20190916T090714Z
UID:8534-1590624000-1590710399@www.hippischcentrumexloo.nl
SUMMARY:Dressuurwedstrijd!
DESCRIPTION:2 proeven rijden op Top bodem! \nvan BB tm ZZL voor paarden en pony’s \nvoor de tijden zie startlijsten! \nopgave via: dressuurexloo@gmail.com
URL:https://www.hippischcentrumexloo.nl/evenement/dressuurwedstrijd-2-2019-10-17-2020-05-28/
LOCATION:Hippisch Centrum Exloo\, Valtherweg 27A\, Exloo\, Drenthe\, 7875 TA\, Nederland
ORGANIZER;CN="Hippisch Centrum Exloo":MAILTO:info@hippischcentrumexloo.nl
END:VEVENT
BEGIN:VEVENT
DTSTART;TZID=Europe/Amsterdam:20200527T090000
DTEND;TZID=Europe/Amsterdam:20200527T210000
DTSTAMP:20260419T223125
CREATED:20180924T141414Z
LAST-MODIFIED:20180924T141414Z
UID:8553-1590570000-1590613200@www.hippischcentrumexloo.nl
SUMMARY:Springwedstrijd
DESCRIPTION:Springwedstrijd!! \nVan BB to ZZ voor paarden en pony’s! \nBuiten Banen!!!! \nopgave via Diny Blom: wedstrijdenexloo@gmail.com
URL:https://www.hippischcentrumexloo.nl/evenement/springwedstrijd-2018-12-19-2020-01-08-2020-05-27/
LOCATION:Hippisch Centrum Exloo\, Valtherweg 27A\, Exloo\, Drenthe\, 7875 TA\, Nederland
CATEGORIES:Springen
ORGANIZER;CN="Hippisch Centrum Exloo":MAILTO:info@hippischcentrumexloo.nl
END:VEVENT
BEGIN:VEVENT
DTSTART;TZID=Europe/Amsterdam:20200526T190000
DTEND;TZID=Europe/Amsterdam:20200526T210000
DTSTAMP:20260419T223125
CREATED:20200225T082234Z
LAST-MODIFIED:20200225T082234Z
UID:8675-1590519600-1590526800@www.hippischcentrumexloo.nl
SUMMARY:Lessen Ina Beuving
DESCRIPTION:bezetting binnen bak of buiten.
URL:https://www.hippischcentrumexloo.nl/evenement/lessen-ina-beuving-4-2020-05-26/
LOCATION:Hippisch Centrum Exloo\, Valtherweg 27A\, Exloo\, Drenthe\, 7875 TA\, Nederland
ORGANIZER;CN="Hippisch Centrum Exloo":MAILTO:info@hippischcentrumexloo.nl
END:VEVENT
BEGIN:VEVENT
DTSTART;TZID=Europe/Amsterdam:20200521T190000
DTEND;TZID=Europe/Amsterdam:20200521T210000
DTSTAMP:20260419T223125
CREATED:20200225T082714Z
LAST-MODIFIED:20200225T082714Z
UID:8686-1590087600-1590094800@www.hippischcentrumexloo.nl
SUMMARY:Lessen Ina Beuving
DESCRIPTION:bezetting binnen bak of buiten.
URL:https://www.hippischcentrumexloo.nl/evenement/lessen-ina-beuving-5-2020-05-21/
LOCATION:Hippisch Centrum Exloo\, Valtherweg 27A\, Exloo\, Drenthe\, 7875 TA\, Nederland
ORGANIZER;CN="Hippisch Centrum Exloo":MAILTO:info@hippischcentrumexloo.nl
END:VEVENT
BEGIN:VEVENT
DTSTART;TZID=Europe/Amsterdam:20200520T090000
DTEND;TZID=Europe/Amsterdam:20200520T210000
DTSTAMP:20260419T223125
CREATED:20180924T141414Z
LAST-MODIFIED:20180924T141414Z
UID:8552-1589965200-1590008400@www.hippischcentrumexloo.nl
SUMMARY:Springwedstrijd
DESCRIPTION:Springwedstrijd!! \nVan BB to ZZ voor paarden en pony’s! \nBuiten Banen!!!! \nopgave via Diny Blom: wedstrijdenexloo@gmail.com
URL:https://www.hippischcentrumexloo.nl/evenement/springwedstrijd-2018-12-19-2020-01-08-2020-05-20/
LOCATION:Hippisch Centrum Exloo\, Valtherweg 27A\, Exloo\, Drenthe\, 7875 TA\, Nederland
CATEGORIES:Springen
ORGANIZER;CN="Hippisch Centrum Exloo":MAILTO:info@hippischcentrumexloo.nl
END:VEVENT
BEGIN:VEVENT
DTSTART;TZID=Europe/Amsterdam:20200519T190000
DTEND;TZID=Europe/Amsterdam:20200519T210000
DTSTAMP:20260419T223125
CREATED:20200225T082234Z
LAST-MODIFIED:20200225T082234Z
UID:8674-1589914800-1589922000@www.hippischcentrumexloo.nl
SUMMARY:Lessen Ina Beuving
DESCRIPTION:bezetting binnen bak of buiten.
URL:https://www.hippischcentrumexloo.nl/evenement/lessen-ina-beuving-4-2020-05-19/
LOCATION:Hippisch Centrum Exloo\, Valtherweg 27A\, Exloo\, Drenthe\, 7875 TA\, Nederland
ORGANIZER;CN="Hippisch Centrum Exloo":MAILTO:info@hippischcentrumexloo.nl
END:VEVENT
BEGIN:VEVENT
DTSTART;VALUE=DATE:20200517
DTEND;VALUE=DATE:20200518
DTSTAMP:20260419T223125
CREATED:20200303T114849Z
LAST-MODIFIED:20200303T114849Z
UID:8696-1589673600-1589759999@www.hippischcentrumexloo.nl
SUMMARY:proefgerichte / training van Loes Corsel
DESCRIPTION:bezetting binnen bak of buiten een ring \n  \nopgave en info: Meranda 0645438995 \n 
URL:https://www.hippischcentrumexloo.nl/evenement/proefgerichte-training-van-loes-corsel-2020-05-17/
LOCATION:Hippisch Centrum Exloo\, Valtherweg 27A\, Exloo\, Drenthe\, 7875 TA\, Nederland
ORGANIZER;CN="Hippisch Centrum Exloo":MAILTO:info@hippischcentrumexloo.nl
END:VEVENT
BEGIN:VEVENT
DTSTART;VALUE=DATE:20200517
DTEND;VALUE=DATE:20200518
DTSTAMP:20260419T223125
CREATED:20200511T135450Z
LAST-MODIFIED:20200511T135450Z
UID:8733-1589673600-1589759999@www.hippischcentrumexloo.nl
SUMMARY:Lessen Loes Corsel
DESCRIPTION:Je kunt je opgeven voor een prive les/proefgerichte training van Loes Corsel! \nMeranda: 0645438995 \nDe 1\,5 meter afstand wordt hier natuurlijk ook gehanteerd \nLessen in de buitenbak.
URL:https://www.hippischcentrumexloo.nl/evenement/lessen-loes-corsel/
LOCATION:Hippisch Centrum Exloo\, Valtherweg 27A\, Exloo\, Drenthe\, 7875 TA\, Nederland
CATEGORIES:Dressuur
ORGANIZER;CN="Hippisch Centrum Exloo":MAILTO:info@hippischcentrumexloo.nl
END:VEVENT
BEGIN:VEVENT
DTSTART;VALUE=DATE:20200516
DTEND;VALUE=DATE:20200517
DTSTAMP:20260419T223125
CREATED:20200306T084633Z
LAST-MODIFIED:20200306T084633Z
UID:8699-1589587200-1589673599@www.hippischcentrumexloo.nl
SUMMARY:Koudbloeden Dressuur Competitie
DESCRIPTION:opgave  en info via KNHS: koudbloedencompetitie@gmail.com \n 
URL:https://www.hippischcentrumexloo.nl/evenement/koudbloeden-dressuur-competitie/
LOCATION:Hippisch Centrum Exloo\, Valtherweg 27A\, Exloo\, Drenthe\, 7875 TA\, Nederland
ORGANIZER;CN="Hippisch Centrum Exloo":MAILTO:info@hippischcentrumexloo.nl
END:VEVENT
END:VCALENDAR