BEGIN:VCALENDAR
VERSION:2.0
PRODID:-//Hippisch Centrum Exloo - ECPv6.15.17.1//NONSGML v1.0//EN
CALSCALE:GREGORIAN
METHOD:PUBLISH
X-WR-CALNAME:Hippisch Centrum Exloo
X-ORIGINAL-URL:https://www.hippischcentrumexloo.nl
X-WR-CALDESC:Evenementen voor Hippisch Centrum Exloo
REFRESH-INTERVAL;VALUE=DURATION:PT1H
X-Robots-Tag:noindex
X-PUBLISHED-TTL:PT1H
BEGIN:VTIMEZONE
TZID:Europe/Amsterdam
BEGIN:DAYLIGHT
TZOFFSETFROM:+0100
TZOFFSETTO:+0200
TZNAME:CEST
DTSTART:20180325T010000
END:DAYLIGHT
BEGIN:STANDARD
TZOFFSETFROM:+0200
TZOFFSETTO:+0100
TZNAME:CET
DTSTART:20181028T010000
END:STANDARD
BEGIN:DAYLIGHT
TZOFFSETFROM:+0100
TZOFFSETTO:+0200
TZNAME:CEST
DTSTART:20190331T010000
END:DAYLIGHT
BEGIN:STANDARD
TZOFFSETFROM:+0200
TZOFFSETTO:+0100
TZNAME:CET
DTSTART:20191027T010000
END:STANDARD
BEGIN:DAYLIGHT
TZOFFSETFROM:+0100
TZOFFSETTO:+0200
TZNAME:CEST
DTSTART:20200329T010000
END:DAYLIGHT
BEGIN:STANDARD
TZOFFSETFROM:+0200
TZOFFSETTO:+0100
TZNAME:CET
DTSTART:20201025T010000
END:STANDARD
END:VTIMEZONE
BEGIN:VEVENT
DTSTART;TZID=Europe/Amsterdam:20190410T080000
DTEND;TZID=Europe/Amsterdam:20190410T210000
DTSTAMP:20260422T041311
CREATED:20190225T134630Z
LAST-MODIFIED:20190225T134630Z
UID:7596-1554883200-1554930000@www.hippischcentrumexloo.nl
SUMMARY:Springwedstrijd
DESCRIPTION:Springwedstrijd!! \nVan BB to ZZ voor paarden en pony’s! \nbuitenbaan bezet \nopgave via Diny Blom: wedstrijdenexloo@gmail.com
URL:https://www.hippischcentrumexloo.nl/evenement/springwedstrijd-2-2019-04-10/
LOCATION:Hippisch Centrum Exloo\, Valtherweg 27A\, Exloo\, Drenthe\, 7875 TA\, Nederland
CATEGORIES:Springen
ORGANIZER;CN="Hippisch Centrum Exloo":MAILTO:info@hippischcentrumexloo.nl
END:VEVENT
BEGIN:VEVENT
DTSTART;TZID=Europe/Amsterdam:20190409T190000
DTEND;TZID=Europe/Amsterdam:20190409T210000
DTSTAMP:20260422T041311
CREATED:20190118T093246Z
LAST-MODIFIED:20190409T081817Z
UID:7403-1554836400-1554843600@www.hippischcentrumexloo.nl
SUMMARY:Lessen Ina beuving
DESCRIPTION:Lessen Ina Beuving \nbezet 1 bak of buiten een baan
URL:https://www.hippischcentrumexloo.nl/evenement/lessen-ina-beuving-2-2019-02-21/
LOCATION:Hippisch Centrum Exloo\, Valtherweg 27A\, Exloo\, Drenthe\, 7875 TA\, Nederland
ORGANIZER;CN="Hippisch Centrum Exloo":MAILTO:info@hippischcentrumexloo.nl
END:VEVENT
BEGIN:VEVENT
DTSTART;TZID=Europe/Amsterdam:20190409T080000
DTEND;TZID=Europe/Amsterdam:20190409T170000
DTSTAMP:20260422T041311
CREATED:20190130T161132Z
LAST-MODIFIED:20190130T161132Z
UID:7493-1554796800-1554829200@www.hippischcentrumexloo.nl
SUMMARY:Ibop
DESCRIPTION:bezette hallen beide
URL:https://www.hippischcentrumexloo.nl/evenement/ibop/
LOCATION:Hippisch Centrum Exloo\, Valtherweg 27A\, Exloo\, Drenthe\, 7875 TA\, Nederland
ORGANIZER;CN="Hippisch Centrum Exloo":MAILTO:info@hippischcentrumexloo.nl
END:VEVENT
BEGIN:VEVENT
DTSTART;TZID=Europe/Amsterdam:20190406T133000
DTEND;TZID=Europe/Amsterdam:20190406T170000
DTSTAMP:20260422T041311
CREATED:20190205T113323Z
LAST-MODIFIED:20190205T113323Z
UID:7501-1554557400-1554570000@www.hippischcentrumexloo.nl
SUMMARY:Training op de Telgangbaan
DESCRIPTION:Er is een training op de telgangbaan van 13.30 tot 17.00 uur.
URL:https://www.hippischcentrumexloo.nl/evenement/training-op-de-telgangbaan/
LOCATION:Hippisch Centrum Exloo\, Valtherweg 27A\, Exloo\, Drenthe\, 7875 TA\, Nederland
CATEGORIES:IJRN
ORGANIZER;CN="Hippisch Centrum Exloo":MAILTO:info@hippischcentrumexloo.nl
END:VEVENT
BEGIN:VEVENT
DTSTART;TZID=Europe/Amsterdam:20190403T080000
DTEND;TZID=Europe/Amsterdam:20190403T210000
DTSTAMP:20260422T041311
CREATED:20190225T134630Z
LAST-MODIFIED:20190225T134630Z
UID:7594-1554278400-1554325200@www.hippischcentrumexloo.nl
SUMMARY:Springwedstrijd
DESCRIPTION:Springwedstrijd!! \nVan BB to ZZ voor paarden en pony’s! \nbuitenbaan bezet \nopgave via Diny Blom: wedstrijdenexloo@gmail.com
URL:https://www.hippischcentrumexloo.nl/evenement/springwedstrijd-2/
LOCATION:Hippisch Centrum Exloo\, Valtherweg 27A\, Exloo\, Drenthe\, 7875 TA\, Nederland
CATEGORIES:Springen
ORGANIZER;CN="Hippisch Centrum Exloo":MAILTO:info@hippischcentrumexloo.nl
END:VEVENT
BEGIN:VEVENT
DTSTART;TZID=Europe/Amsterdam:20190402T180000
DTEND;TZID=Europe/Amsterdam:20190402T190000
DTSTAMP:20260422T041311
CREATED:20181010T070036Z
LAST-MODIFIED:20181010T070036Z
UID:6998-1554228000-1554231600@www.hippischcentrumexloo.nl
SUMMARY:JSP lessen
DESCRIPTION:JSP lessen \nbezette bak: grote hal
URL:https://www.hippischcentrumexloo.nl/evenement/jsp-lessen-12/
LOCATION:Hippisch Centrum Exloo\, Valtherweg 27A\, Exloo\, Drenthe\, 7875 TA\, Nederland
ORGANIZER;CN="Hippisch Centrum Exloo":MAILTO:info@hippischcentrumexloo.nl
END:VEVENT
BEGIN:VEVENT
DTSTART;VALUE=DATE:20190327
DTEND;VALUE=DATE:20190401
DTSTAMP:20260422T041311
CREATED:20180219T134212Z
LAST-MODIFIED:20181205T121912Z
UID:6238-1553644800-1554076799@www.hippischcentrumexloo.nl
SUMMARY:Internationaal mennen
DESCRIPTION:Bezette terreinen: \nalle terreinen binnen en buiten \nMarathon dag
URL:https://www.hippischcentrumexloo.nl/evenement/internationaal-mennen-5/
LOCATION:Hippisch Centrum Exloo\, Valtherweg 27A\, Exloo\, Drenthe\, 7875 TA\, Nederland
ORGANIZER;CN="Hippisch Centrum Exloo":MAILTO:info@hippischcentrumexloo.nl
END:VEVENT
BEGIN:VEVENT
DTSTART;TZID=Europe/Amsterdam:20190323T080000
DTEND;TZID=Europe/Amsterdam:20190324T170000
DTSTAMP:20260422T041311
CREATED:20180605T141604Z
LAST-MODIFIED:20190305T114201Z
UID:6624-1553328000-1553446800@www.hippischcentrumexloo.nl
SUMMARY:Subtop wedstrijd
DESCRIPTION:SUBTOP 2 daagse in Exloo \nvoor info: winanda@hippischactief.nl \nsubtop wedstrijd voor opgave: startlijsten.nl of https://inschrijfmodule.nl/exloo \nbezetting: binnen hallen
URL:https://www.hippischcentrumexloo.nl/evenement/subtop-wedstrijd-4/
LOCATION:Hippisch Centrum Exloo\, Valtherweg 27A\, Exloo\, Drenthe\, 7875 TA\, Nederland
CATEGORIES:Dressuur,Subtop
ORGANIZER;CN="Hippisch Centrum Exloo":MAILTO:info@hippischcentrumexloo.nl
END:VEVENT
BEGIN:VEVENT
DTSTART;TZID=Europe/Amsterdam:20190321T180000
DTEND;TZID=Europe/Amsterdam:20190321T200000
DTSTAMP:20260422T041311
CREATED:20181010T071019Z
LAST-MODIFIED:20181010T071019Z
UID:7021-1553191200-1553198400@www.hippischcentrumexloo.nl
SUMMARY:JSP lessen
DESCRIPTION:JSP lessen \nbezette bak: grote hal
URL:https://www.hippischcentrumexloo.nl/evenement/jsp-lessen-23/
LOCATION:Hippisch Centrum Exloo\, Valtherweg 27A\, Exloo\, Drenthe\, 7875 TA\, Nederland
ORGANIZER;CN="Hippisch Centrum Exloo":MAILTO:info@hippischcentrumexloo.nl
END:VEVENT
BEGIN:VEVENT
DTSTART;TZID=Europe/Amsterdam:20190319T180000
DTEND;TZID=Europe/Amsterdam:20190319T190000
DTSTAMP:20260422T041311
CREATED:20181010T070001Z
LAST-MODIFIED:20181010T070001Z
UID:6996-1553018400-1553022000@www.hippischcentrumexloo.nl
SUMMARY:JSP lessen
DESCRIPTION:JSP lessen \nbezette bak: grote hal
URL:https://www.hippischcentrumexloo.nl/evenement/jsp-lessen-11/
LOCATION:Hippisch Centrum Exloo\, Valtherweg 27A\, Exloo\, Drenthe\, 7875 TA\, Nederland
ORGANIZER;CN="Hippisch Centrum Exloo":MAILTO:info@hippischcentrumexloo.nl
END:VEVENT
BEGIN:VEVENT
DTSTART;TZID=Europe/Amsterdam:20190316T080000
DTEND;TZID=Europe/Amsterdam:20190316T170000
DTSTAMP:20260422T041311
CREATED:20190225T141342Z
LAST-MODIFIED:20190225T141425Z
UID:7627-1552723200-1552755600@www.hippischcentrumexloo.nl
SUMMARY:Kringkampioenschappen  Springen
DESCRIPTION:kringwedstrijd springen \npaarden en pony’s \nopgave: kringzuidoost@home.nl \n  \n 
URL:https://www.hippischcentrumexloo.nl/evenement/kringwedstrijd-springen/
LOCATION:Hippisch Centrum Exloo\, Valtherweg 27A\, Exloo\, Drenthe\, 7875 TA\, Nederland
CATEGORIES:Springen
ORGANIZER;CN="Hippisch Centrum Exloo":MAILTO:info@hippischcentrumexloo.nl
END:VEVENT
BEGIN:VEVENT
DTSTART;TZID=Europe/Amsterdam:20190315T080000
DTEND;TZID=Europe/Amsterdam:20190315T170000
DTSTAMP:20260422T041311
CREATED:20190207T085704Z
LAST-MODIFIED:20190219T082101Z
UID:7511-1552636800-1552669200@www.hippischcentrumexloo.nl
SUMMARY:Subli train & Trade
DESCRIPTION:bezetting beide binnen bakken \nTRAIN & TRADE EXLOO: VRIJDAG 15 MAART 2019 \n  \nDit jaar organiseert Hippisch Centrum Exloo alweer de derde editie van Train & Trade\, powered by Subli. Opgave voor het vrijspringen is open voor springpaarden in alle leeftijdscategorieën\, de jonge springpaardenrubrieken onder de man zijn open voor springpaarden in de leeftijdscategorieën 4 en 5 jaar. De 4-jarige springpaarden dienen een parcours te springen van ca. 80 cm hoogte en de 5-jarige springpaarden springen een parcours op een hoogte van ca. 1.00m. De planning is\, afhankelijk van het aantal opgaven\, als volgt: \n+/- 16:00 vrijspringrubriek in de kleine piste\n+/- 18:00 aanvang jonge springpaardenrubrieken onder de man \nOpgave kan via tradeandtrainexloo@outlook.com. \nHet inschrijfgeld bedraagt € 20\,- waarbij elke deelnemer een gratis zak Subli Sportbrok in ontvangst mag nemen. \nPRIJZEN\nVoor de fokker van de winnaar bij het vrijspringen is een dekking van Zangersheide beschikbaar gesteld. Daarnaast neemt de winnaar een bedrag van € 500\,- (2e plek: €350\,-\, 3e plek: € 250\,-\, 4e plek € 150\,- en 5e plek € 100\,-) in ontvangst. \nVoor de fokker van de winnaar bij de 4-jarige springpaarden onder de man is een dekking beschikbaar gesteld van de Franse tophengst Quool du bois Margot (v. L’arc de Triomph) gestationeerd bij Reinie Tewis. Daarnaast neemt de winnaar een bedrag van € 500\,- (2e plek: € 350\,-\, 3e plek: € 250\,-\, 4e plek € 150\,- en 5e plek € 100\,-) in ontvangst. \nVoor de fokker van de winnaar bij de 5-jarige springpaarden onder de man is een dekking beschikbaar gesteld van de KWPN-hengst Gerardus (v. Carambole) van Hengstenhouderij Ritta Hoeve. Daarnaast neemt de winnaar een bedrag van € 500\,- (2e plek: € 350\,-\, 3e plek: € 250\,-\, 4e plek € 150\,- en 5e plek € 100\,-) in ontvangst. \nTevens wordt er een publieksprijs beschikbaar gesteld in de vorm van een gratis dekking van Stal Brouwer.
URL:https://www.hippischcentrumexloo.nl/evenement/subli-train-trade/
LOCATION:Hippisch Centrum Exloo\, Valtherweg 27A\, Exloo\, Drenthe\, 7875 TA\, Nederland
ORGANIZER;CN="Hippisch Centrum Exloo":MAILTO:info@hippischcentrumexloo.nl
END:VEVENT
BEGIN:VEVENT
DTSTART;VALUE=DATE:20190309
DTEND;VALUE=DATE:20190310
DTSTAMP:20260422T041311
CREATED:20181029T104113Z
LAST-MODIFIED:20181029T104113Z
UID:7147-1552089600-1552175999@www.hippischcentrumexloo.nl
SUMMARY:YRN indoor
DESCRIPTION:nadere info volgt
URL:https://www.hippischcentrumexloo.nl/evenement/yrn-indoor/
LOCATION:Hippisch Centrum Exloo\, Valtherweg 27A\, Exloo\, Drenthe\, 7875 TA\, Nederland
ORGANIZER;CN="Hippisch Centrum Exloo":MAILTO:info@hippischcentrumexloo.nl
END:VEVENT
BEGIN:VEVENT
DTSTART;TZID=Europe/Amsterdam:20190307T180000
DTEND;TZID=Europe/Amsterdam:20190307T200000
DTSTAMP:20260422T041311
CREATED:20181010T070941Z
LAST-MODIFIED:20181010T070941Z
UID:7019-1551981600-1551988800@www.hippischcentrumexloo.nl
SUMMARY:JSP lessen
DESCRIPTION:JSP lessen \nbezette bak: grote hal
URL:https://www.hippischcentrumexloo.nl/evenement/jsp-lessen-22/
LOCATION:Hippisch Centrum Exloo\, Valtherweg 27A\, Exloo\, Drenthe\, 7875 TA\, Nederland
ORGANIZER;CN="Hippisch Centrum Exloo":MAILTO:info@hippischcentrumexloo.nl
END:VEVENT
BEGIN:VEVENT
DTSTART;TZID=Europe/Amsterdam:20190305T183000
DTEND;TZID=Europe/Amsterdam:20190305T220000
DTSTAMP:20260422T041311
CREATED:20190212T104021Z
LAST-MODIFIED:20190212T104021Z
UID:7555-1551810600-1551823200@www.hippischcentrumexloo.nl
SUMMARY:Kantine Bezet
DESCRIPTION:Bijeenkomst gemeente Borger Odoorn \nbezetting: Kantine
URL:https://www.hippischcentrumexloo.nl/evenement/kantine-bezet/
LOCATION:Hippisch Centrum Exloo\, Valtherweg 27A\, Exloo\, Drenthe\, 7875 TA\, Nederland
ORGANIZER;CN="Hippisch Centrum Exloo":MAILTO:info@hippischcentrumexloo.nl
END:VEVENT
BEGIN:VEVENT
DTSTART;TZID=Europe/Amsterdam:20190305T180000
DTEND;TZID=Europe/Amsterdam:20190305T190000
DTSTAMP:20260422T041311
CREATED:20181010T065924Z
LAST-MODIFIED:20181010T065924Z
UID:6994-1551808800-1551812400@www.hippischcentrumexloo.nl
SUMMARY:JSP lessen
DESCRIPTION:JSP lessen \nbezette bak: grote hal
URL:https://www.hippischcentrumexloo.nl/evenement/jsp-lessen-10/
LOCATION:Hippisch Centrum Exloo\, Valtherweg 27A\, Exloo\, Drenthe\, 7875 TA\, Nederland
ORGANIZER;CN="Hippisch Centrum Exloo":MAILTO:info@hippischcentrumexloo.nl
END:VEVENT
BEGIN:VEVENT
DTSTART;TZID=Europe/Amsterdam:20190302T080000
DTEND;TZID=Europe/Amsterdam:20190302T170000
DTSTAMP:20260422T041311
CREATED:20181112T082143Z
LAST-MODIFIED:20181112T084128Z
UID:7196-1551513600-1551546000@www.hippischcentrumexloo.nl
SUMMARY:Kringkampioenschappen dressuur pony's
DESCRIPTION:Kringkampioenschappen dressuur pony’s \nbezette terreinen: binnen banen. \nopgave: hcewedstrijden@gmail.com
URL:https://www.hippischcentrumexloo.nl/evenement/kringkampioenschappen-dressuur-ponys/
LOCATION:Hippisch Centrum Exloo\, Valtherweg 27A\, Exloo\, Drenthe\, 7875 TA\, Nederland
CATEGORIES:Dressuur
ORGANIZER;CN="Hippisch Centrum Exloo":MAILTO:info@hippischcentrumexloo.nl
END:VEVENT
BEGIN:VEVENT
DTSTART;TZID=Europe/Amsterdam:20190228T080000
DTEND;TZID=Europe/Amsterdam:20190228T120000
DTSTAMP:20260422T041311
CREATED:20190227T160804Z
LAST-MODIFIED:20190227T160804Z
UID:7630-1551340800-1551355200@www.hippischcentrumexloo.nl
SUMMARY:Grote Bak Bezet
DESCRIPTION:van 9.00 uur tot 12.00 uur is de grote bak afgehuurd!
URL:https://www.hippischcentrumexloo.nl/evenement/grote-bak-bezet/
LOCATION:Hippisch Centrum Exloo\, Valtherweg 27A\, Exloo\, Drenthe\, 7875 TA\, Nederland
ORGANIZER;CN="Hippisch Centrum Exloo":MAILTO:info@hippischcentrumexloo.nl
END:VEVENT
BEGIN:VEVENT
DTSTART;VALUE=DATE:20190224
DTEND;VALUE=DATE:20190225
DTSTAMP:20260422T041311
CREATED:20190110T094701Z
LAST-MODIFIED:20190110T094701Z
UID:7360-1550966400-1551052799@www.hippischcentrumexloo.nl
SUMMARY:dressuurwedstrijd
DESCRIPTION:paarden klasse B / ZZL \nPony’s klasse B/ Z2 \naanmelden hcewedstrijden@gmail.com \nbezetting: 2 binnen hallen
URL:https://www.hippischcentrumexloo.nl/evenement/dressuurwedstrijd/
LOCATION:Hippisch Centrum Exloo\, Valtherweg 27A\, Exloo\, Drenthe\, 7875 TA\, Nederland
CATEGORIES:Dressuur
ORGANIZER;CN="Hippisch Centrum Exloo":MAILTO:info@hippischcentrumexloo.nl
END:VEVENT
BEGIN:VEVENT
DTSTART;TZID=Europe/Amsterdam:20190221T180000
DTEND;TZID=Europe/Amsterdam:20190221T200000
DTSTAMP:20260422T041311
CREATED:20181010T070904Z
LAST-MODIFIED:20181010T070904Z
UID:7017-1550772000-1550779200@www.hippischcentrumexloo.nl
SUMMARY:JSP lessen
DESCRIPTION:JSP lessen \nbezette bak: grote hal
URL:https://www.hippischcentrumexloo.nl/evenement/jsp-lessen-21/
LOCATION:Hippisch Centrum Exloo\, Valtherweg 27A\, Exloo\, Drenthe\, 7875 TA\, Nederland
ORGANIZER;CN="Hippisch Centrum Exloo":MAILTO:info@hippischcentrumexloo.nl
END:VEVENT
BEGIN:VEVENT
DTSTART;TZID=Europe/Amsterdam:20190219T180000
DTEND;TZID=Europe/Amsterdam:20190219T190000
DTSTAMP:20260422T041311
CREATED:20181010T065844Z
LAST-MODIFIED:20181010T065844Z
UID:6992-1550599200-1550602800@www.hippischcentrumexloo.nl
SUMMARY:JSP lessen
DESCRIPTION:JSP lessen \nbezette bak: grote hal
URL:https://www.hippischcentrumexloo.nl/evenement/jsp-lessen-9/
LOCATION:Hippisch Centrum Exloo\, Valtherweg 27A\, Exloo\, Drenthe\, 7875 TA\, Nederland
ORGANIZER;CN="Hippisch Centrum Exloo":MAILTO:info@hippischcentrumexloo.nl
END:VEVENT
BEGIN:VEVENT
DTSTART;TZID=Europe/Amsterdam:20190210T080000
DTEND;TZID=Europe/Amsterdam:20190210T200000
DTSTAMP:20260422T041311
CREATED:20181114T143246Z
LAST-MODIFIED:20190130T143615Z
UID:7223-1549785600-1549828800@www.hippischcentrumexloo.nl
SUMMARY:Luzac /Hartog Spring Competitie Jeugd rubrieken
DESCRIPTION:rubriek 1 Hartog Luzerne competitie \nrubriek 2 Luzac Lichte tour pony’s \nrubriek 3 Luzac zware tour pony’s \nRubriek 4 Luzac competitie inloop childeren 1.10m inloop \nRubriek 5 Luzac competitie inloop junioren/young riders 1.30 m \nRubriek 6 Luzac competitie childeren 1.20 m \nRubriek 6 Luzac competitie  Junioren 1.35m \nRubriek 7  Luzac competitie young riders  1.40m \nJeugd rubrieken \nRubriek 8 Childeren 1.00 m \nRubriek 9 Junioren 1.00m \nRubriek 10 Junioren 1.10m \nRubriek 11 Junioren 1.20m \n  \n 
URL:https://www.hippischcentrumexloo.nl/evenement/luzac-spring-competitie/
LOCATION:Hippisch Centrum Exloo\, Valtherweg 27A\, Exloo\, Drenthe\, 7875 TA\, Nederland
CATEGORIES:Springen
ORGANIZER;CN="Hippisch Centrum Exloo":MAILTO:info@hippischcentrumexloo.nl
END:VEVENT
BEGIN:VEVENT
DTSTART;TZID=Europe/Amsterdam:20190208T080000
DTEND;TZID=Europe/Amsterdam:20190210T170000
DTSTAMP:20260422T041311
CREATED:20181119T090437Z
LAST-MODIFIED:20190130T160950Z
UID:7234-1549612800-1549818000@www.hippischcentrumexloo.nl
SUMMARY:Super JACKPOT springen paarden
DESCRIPTION:8 febr selectie klasse M\,Z\,ZZ Super Jackpot.\n9 febt finale klasse M\,Z\,ZZ Super Jackpot.\n10 febr finale klasse B en L Super Jackpot.\n\nBezette terreinen: beide hallen
URL:https://www.hippischcentrumexloo.nl/evenement/super-springen-paarden/
LOCATION:Hippisch Centrum Exloo\, Valtherweg 27A\, Exloo\, Drenthe\, 7875 TA\, Nederland
CATEGORIES:Springen
ORGANIZER;CN="Hippisch Centrum Exloo":MAILTO:info@hippischcentrumexloo.nl
END:VEVENT
BEGIN:VEVENT
DTSTART;TZID=Europe/Amsterdam:20190207T180000
DTEND;TZID=Europe/Amsterdam:20190207T200000
DTSTAMP:20260422T041311
CREATED:20181010T070831Z
LAST-MODIFIED:20181010T070831Z
UID:7015-1549562400-1549569600@www.hippischcentrumexloo.nl
SUMMARY:JSP lessen
DESCRIPTION:JSP lessen \nbezette bak: grote hal
URL:https://www.hippischcentrumexloo.nl/evenement/jsp-lessen-20/
LOCATION:Hippisch Centrum Exloo\, Valtherweg 27A\, Exloo\, Drenthe\, 7875 TA\, Nederland
ORGANIZER;CN="Hippisch Centrum Exloo":MAILTO:info@hippischcentrumexloo.nl
END:VEVENT
BEGIN:VEVENT
DTSTART;TZID=Europe/Amsterdam:20190207T090000
DTEND;TZID=Europe/Amsterdam:20190207T140000
DTSTAMP:20260422T041311
CREATED:20190206T123605Z
LAST-MODIFIED:20190206T123605Z
UID:7503-1549530000-1549548000@www.hippischcentrumexloo.nl
SUMMARY:Training
DESCRIPTION:9 uur tot 14 uur prive training parcours in de grote bak \nbezetting grote bak!
URL:https://www.hippischcentrumexloo.nl/evenement/training/
LOCATION:Hippisch Centrum Exloo\, Valtherweg 27A\, Exloo\, Drenthe\, 7875 TA\, Nederland
CATEGORIES:Springtraining
ORGANIZER;CN="Hippisch Centrum Exloo":MAILTO:info@hippischcentrumexloo.nl
END:VEVENT
BEGIN:VEVENT
DTSTART;TZID=Europe/Amsterdam:20190205T190000
DTEND;TZID=Europe/Amsterdam:20190205T210000
DTSTAMP:20260422T041311
CREATED:20181010T065704Z
LAST-MODIFIED:20190121T153730Z
UID:7466-1549393200-1549400400@www.hippischcentrumexloo.nl
SUMMARY:Floor Vos  lessen
DESCRIPTION:verenigingslessen \nbezette bak: grote hal
URL:https://www.hippischcentrumexloo.nl/evenement/jsp-lessen-7-2019-02-05/
LOCATION:Hippisch Centrum Exloo\, Valtherweg 27A\, Exloo\, Drenthe\, 7875 TA\, Nederland
ORGANIZER;CN="Hippisch Centrum Exloo":MAILTO:info@hippischcentrumexloo.nl
END:VEVENT
BEGIN:VEVENT
DTSTART;TZID=Europe/Amsterdam:20190205T180000
DTEND;TZID=Europe/Amsterdam:20190205T190000
DTSTAMP:20260422T041311
CREATED:20181010T065748Z
LAST-MODIFIED:20181010T065748Z
UID:6990-1549389600-1549393200@www.hippischcentrumexloo.nl
SUMMARY:JSP lessen
DESCRIPTION:JSP lessen \nbezette bak: grote hal
URL:https://www.hippischcentrumexloo.nl/evenement/jsp-lessen-8/
LOCATION:Hippisch Centrum Exloo\, Valtherweg 27A\, Exloo\, Drenthe\, 7875 TA\, Nederland
ORGANIZER;CN="Hippisch Centrum Exloo":MAILTO:info@hippischcentrumexloo.nl
END:VEVENT
BEGIN:VEVENT
DTSTART;TZID=Europe/Amsterdam:20190202T080000
DTEND;TZID=Europe/Amsterdam:20190203T170000
DTSTAMP:20260422T041311
CREATED:20181119T090149Z
LAST-MODIFIED:20181218T150204Z
UID:7232-1549094400-1549213200@www.hippischcentrumexloo.nl
SUMMARY:Subtop wedstrijd
DESCRIPTION:voor info en opgave startlijsten.nl\nBezette terreinen:  binnen hallen
URL:https://www.hippischcentrumexloo.nl/evenement/springen-paarden/
LOCATION:Hippisch Centrum Exloo\, Valtherweg 27A\, Exloo\, Drenthe\, 7875 TA\, Nederland
CATEGORIES:Subtop
ORGANIZER;CN="Hippisch Centrum Exloo":MAILTO:info@hippischcentrumexloo.nl
END:VEVENT
BEGIN:VEVENT
DTSTART;TZID=Europe/Amsterdam:20190202T080000
DTEND;TZID=Europe/Amsterdam:20190203T170000
DTSTAMP:20260422T041311
CREATED:20180605T141515Z
LAST-MODIFIED:20190123T122633Z
UID:6622-1549094400-1549213200@www.hippischcentrumexloo.nl
SUMMARY:Subtop Wedstrijd
DESCRIPTION:onder voorbehoud van goedkeuring SUBTOP in Exloo \nmeer info volgt
URL:https://www.hippischcentrumexloo.nl/evenement/subtop-wedstrijd-3/
LOCATION:Hippisch Centrum Exloo\, Valtherweg 27A\, Exloo\, Drenthe\, 7875 TA\, Nederland
CATEGORIES:Dressuur
ORGANIZER;CN="Hippisch Centrum Exloo":MAILTO:info@hippischcentrumexloo.nl
END:VEVENT
BEGIN:VEVENT
DTSTART;TZID=Europe/Amsterdam:20190124T190000
DTEND;TZID=Europe/Amsterdam:20190124T203000
DTSTAMP:20260422T041311
CREATED:20190118T093246Z
LAST-MODIFIED:20190118T093350Z
UID:7398-1548356400-1548361800@www.hippischcentrumexloo.nl
SUMMARY:Lessen Ina beuving
DESCRIPTION:Lessen Ina Beuving \nbezet 1 bak
URL:https://www.hippischcentrumexloo.nl/evenement/lessen-ina-beuving-2/
LOCATION:Hippisch Centrum Exloo\, Valtherweg 27A\, Exloo\, Drenthe\, 7875 TA\, Nederland
ORGANIZER;CN="Hippisch Centrum Exloo":MAILTO:info@hippischcentrumexloo.nl
END:VEVENT
END:VCALENDAR