BEGIN:VCALENDAR
VERSION:2.0
PRODID:-//Hippisch Centrum Exloo - ECPv6.15.17.1//NONSGML v1.0//EN
CALSCALE:GREGORIAN
METHOD:PUBLISH
X-WR-CALNAME:Hippisch Centrum Exloo
X-ORIGINAL-URL:https://www.hippischcentrumexloo.nl
X-WR-CALDESC:Evenementen voor Hippisch Centrum Exloo
REFRESH-INTERVAL;VALUE=DURATION:PT1H
X-Robots-Tag:noindex
X-PUBLISHED-TTL:PT1H
BEGIN:VTIMEZONE
TZID:Europe/Amsterdam
BEGIN:DAYLIGHT
TZOFFSETFROM:+0100
TZOFFSETTO:+0200
TZNAME:CEST
DTSTART:20180325T010000
END:DAYLIGHT
BEGIN:STANDARD
TZOFFSETFROM:+0200
TZOFFSETTO:+0100
TZNAME:CET
DTSTART:20181028T010000
END:STANDARD
BEGIN:DAYLIGHT
TZOFFSETFROM:+0100
TZOFFSETTO:+0200
TZNAME:CEST
DTSTART:20190331T010000
END:DAYLIGHT
BEGIN:STANDARD
TZOFFSETFROM:+0200
TZOFFSETTO:+0100
TZNAME:CET
DTSTART:20191027T010000
END:STANDARD
BEGIN:DAYLIGHT
TZOFFSETFROM:+0100
TZOFFSETTO:+0200
TZNAME:CEST
DTSTART:20200329T010000
END:DAYLIGHT
BEGIN:STANDARD
TZOFFSETFROM:+0200
TZOFFSETTO:+0100
TZNAME:CET
DTSTART:20201025T010000
END:STANDARD
END:VTIMEZONE
BEGIN:VEVENT
DTSTART;TZID=Europe/Amsterdam:20191106T090000
DTEND;TZID=Europe/Amsterdam:20191106T210000
DTSTAMP:20260422T020048
CREATED:20180924T141414Z
LAST-MODIFIED:20180924T141414Z
UID:8064-1573030800-1573074000@www.hippischcentrumexloo.nl
SUMMARY:Springwedstrijd
DESCRIPTION:Springwedstrijd!! \nVan BB to ZZ voor paarden en pony’s! \nBezette hallen: Alle twee de hallen. \nopgave via Diny Blom: wedstrijdenexloo@gmail.com
URL:https://www.hippischcentrumexloo.nl/evenement/springwedstrijd-2018-12-19-2019-11-06/
LOCATION:Hippisch Centrum Exloo\, Valtherweg 27A\, Exloo\, Drenthe\, 7875 TA\, Nederland
CATEGORIES:Springen
ORGANIZER;CN="Hippisch Centrum Exloo":MAILTO:info@hippischcentrumexloo.nl
END:VEVENT
BEGIN:VEVENT
DTSTART;TZID=Europe/Amsterdam:20191105T190000
DTEND;TZID=Europe/Amsterdam:20191105T210000
DTSTAMP:20260422T020048
CREATED:20190814T130608Z
LAST-MODIFIED:20190923T083111Z
UID:7974-1572980400-1572987600@www.hippischcentrumexloo.nl
SUMMARY:Lessen Floor Vos
DESCRIPTION:er is les in de middelste binnen hal. \n  \n19.00 uur tot 21.00 uur.
URL:https://www.hippischcentrumexloo.nl/evenement/lessen-floor-vos-2-2019-11-05/
LOCATION:Hippisch Centrum Exloo\, Valtherweg 27A\, Exloo\, Drenthe\, 7875 TA\, Nederland
ORGANIZER;CN="Hippisch Centrum Exloo":MAILTO:info@hippischcentrumexloo.nl
END:VEVENT
BEGIN:VEVENT
DTSTART;TZID=Europe/Amsterdam:20191105T190000
DTEND;TZID=Europe/Amsterdam:20191105T210000
DTSTAMP:20260422T020048
CREATED:20190118T093246Z
LAST-MODIFIED:20190118T093246Z
UID:8228-1572980400-1572987600@www.hippischcentrumexloo.nl
SUMMARY:Lessen Ina beuving
DESCRIPTION:Lessen Ina Beuving \nbezet 1 binnen bak
URL:https://www.hippischcentrumexloo.nl/evenement/lessen-ina-beuving-2-2019-02-07-2019-11-05/
LOCATION:Hippisch Centrum Exloo\, Valtherweg 27A\, Exloo\, Drenthe\, 7875 TA\, Nederland
ORGANIZER;CN="Hippisch Centrum Exloo":MAILTO:info@hippischcentrumexloo.nl
END:VEVENT
BEGIN:VEVENT
DTSTART;TZID=Europe/Amsterdam:20191104T190000
DTEND;TZID=Europe/Amsterdam:20191104T210000
DTSTAMP:20260422T020048
CREATED:20190826T071417Z
LAST-MODIFIED:20190826T071417Z
UID:8010-1572894000-1572901200@www.hippischcentrumexloo.nl
SUMMARY:Spring les Marleen Meijer
DESCRIPTION:Er is spring les van 19.00 tot 21.00 in de piste of als het slecht weer is in een van de binnen bakken.
URL:https://www.hippischcentrumexloo.nl/evenement/spring-les-marleen-meijer-2019-11-04/
LOCATION:Hippisch Centrum Exloo\, Valtherweg 27A\, Exloo\, Drenthe\, 7875 TA\, Nederland
CATEGORIES:Springtraining
ORGANIZER;CN="Hippisch Centrum Exloo":MAILTO:info@hippischcentrumexloo.nl
END:VEVENT
BEGIN:VEVENT
DTSTART;TZID=Europe/Amsterdam:20191101T080000
DTEND;TZID=Europe/Amsterdam:20191101T130000
DTSTAMP:20260422T020048
CREATED:20190212T095517Z
LAST-MODIFIED:20190212T100141Z
UID:7546-1572595200-1572613200@www.hippischcentrumexloo.nl
SUMMARY:Gast menners KFPS
DESCRIPTION:Gast menners Friese paarden \nbezetting: grote hal en buiten terrein
URL:https://www.hippischcentrumexloo.nl/evenement/gast-menners-kfps/
LOCATION:Hippisch Centrum Exloo\, Valtherweg 27A\, Exloo\, Drenthe\, 7875 TA\, Nederland
ORGANIZER;CN="Hippisch Centrum Exloo":MAILTO:info@hippischcentrumexloo.nl
END:VEVENT
BEGIN:VEVENT
DTSTART;TZID=Europe/Amsterdam:20191030T090000
DTEND;TZID=Europe/Amsterdam:20191030T210000
DTSTAMP:20260422T020048
CREATED:20180924T141414Z
LAST-MODIFIED:20180924T141414Z
UID:8063-1572426000-1572469200@www.hippischcentrumexloo.nl
SUMMARY:Springwedstrijd
DESCRIPTION:Springwedstrijd!! \nVan BB to ZZ voor paarden en pony’s! \nBezette hallen: Alle twee de hallen. \nopgave via Diny Blom: wedstrijdenexloo@gmail.com
URL:https://www.hippischcentrumexloo.nl/evenement/springwedstrijd-2018-12-19-2019-10-30/
LOCATION:Hippisch Centrum Exloo\, Valtherweg 27A\, Exloo\, Drenthe\, 7875 TA\, Nederland
CATEGORIES:Springen
ORGANIZER;CN="Hippisch Centrum Exloo":MAILTO:info@hippischcentrumexloo.nl
END:VEVENT
BEGIN:VEVENT
DTSTART;TZID=Europe/Amsterdam:20191029T190000
DTEND;TZID=Europe/Amsterdam:20191029T210000
DTSTAMP:20260422T020048
CREATED:20190814T130608Z
LAST-MODIFIED:20190923T083107Z
UID:7973-1572375600-1572382800@www.hippischcentrumexloo.nl
SUMMARY:Lessen Floor Vos
DESCRIPTION:er is les in de middelste binnen hal. \n  \n19.00 uur tot 21.00 uur.
URL:https://www.hippischcentrumexloo.nl/evenement/lessen-floor-vos-2-2019-10-29/
LOCATION:Hippisch Centrum Exloo\, Valtherweg 27A\, Exloo\, Drenthe\, 7875 TA\, Nederland
ORGANIZER;CN="Hippisch Centrum Exloo":MAILTO:info@hippischcentrumexloo.nl
END:VEVENT
BEGIN:VEVENT
DTSTART;TZID=Europe/Amsterdam:20191029T190000
DTEND;TZID=Europe/Amsterdam:20191029T210000
DTSTAMP:20260422T020048
CREATED:20190118T093246Z
LAST-MODIFIED:20190118T093246Z
UID:8227-1572375600-1572382800@www.hippischcentrumexloo.nl
SUMMARY:Lessen Ina beuving
DESCRIPTION:Lessen Ina Beuving \nbezet 1 binnen bak
URL:https://www.hippischcentrumexloo.nl/evenement/lessen-ina-beuving-2-2019-02-07-2019-10-29/
LOCATION:Hippisch Centrum Exloo\, Valtherweg 27A\, Exloo\, Drenthe\, 7875 TA\, Nederland
ORGANIZER;CN="Hippisch Centrum Exloo":MAILTO:info@hippischcentrumexloo.nl
END:VEVENT
BEGIN:VEVENT
DTSTART;TZID=Europe/Amsterdam:20191028T190000
DTEND;TZID=Europe/Amsterdam:20191028T210000
DTSTAMP:20260422T020048
CREATED:20190826T071417Z
LAST-MODIFIED:20190826T071417Z
UID:8009-1572289200-1572296400@www.hippischcentrumexloo.nl
SUMMARY:Spring les Marleen Meijer
DESCRIPTION:Er is spring les van 19.00 tot 21.00 in de piste of als het slecht weer is in een van de binnen bakken.
URL:https://www.hippischcentrumexloo.nl/evenement/spring-les-marleen-meijer-2019-10-28/
LOCATION:Hippisch Centrum Exloo\, Valtherweg 27A\, Exloo\, Drenthe\, 7875 TA\, Nederland
CATEGORIES:Springtraining
ORGANIZER;CN="Hippisch Centrum Exloo":MAILTO:info@hippischcentrumexloo.nl
END:VEVENT
BEGIN:VEVENT
DTSTART;TZID=Europe/Amsterdam:20191024T080000
DTEND;TZID=Europe/Amsterdam:20191027T170000
DTSTAMP:20260422T020048
CREATED:20181114T143915Z
LAST-MODIFIED:20181114T143915Z
UID:7229-1571904000-1572195600@www.hippischcentrumexloo.nl
SUMMARY:Indoor CDI dressuur Exloo
DESCRIPTION:indoor CDI \nbezetting: alle terreinen \ninfo volgt
URL:https://www.hippischcentrumexloo.nl/evenement/indoor-cdi-dressuur-exloo/
LOCATION:Hippisch Centrum Exloo\, Valtherweg 27A\, Exloo\, Drenthe\, 7875 TA\, Nederland
CATEGORIES:Dressuur
ORGANIZER;CN="Hippisch Centrum Exloo":MAILTO:info@hippischcentrumexloo.nl
END:VEVENT
BEGIN:VEVENT
DTSTART;TZID=Europe/Amsterdam:20191022T190000
DTEND;TZID=Europe/Amsterdam:20191022T210000
DTSTAMP:20260422T020048
CREATED:20190814T130608Z
LAST-MODIFIED:20190923T083107Z
UID:7972-1571770800-1571778000@www.hippischcentrumexloo.nl
SUMMARY:Lessen Floor Vos
DESCRIPTION:er is les in de middelste binnen hal. \n  \n19.00 uur tot 21.00 uur.
URL:https://www.hippischcentrumexloo.nl/evenement/lessen-floor-vos-2-2019-10-22/
LOCATION:Hippisch Centrum Exloo\, Valtherweg 27A\, Exloo\, Drenthe\, 7875 TA\, Nederland
ORGANIZER;CN="Hippisch Centrum Exloo":MAILTO:info@hippischcentrumexloo.nl
END:VEVENT
BEGIN:VEVENT
DTSTART;TZID=Europe/Amsterdam:20191022T190000
DTEND;TZID=Europe/Amsterdam:20191022T210000
DTSTAMP:20260422T020048
CREATED:20190118T093246Z
LAST-MODIFIED:20191017T102945Z
UID:7401-1571770800-1571778000@www.hippischcentrumexloo.nl
SUMMARY:Lessen Ina beuving
DESCRIPTION:Lessen Ina Beuving \nbezet 1 binnen bak
URL:https://www.hippischcentrumexloo.nl/evenement/lessen-ina-beuving-2-2019-02-07/
LOCATION:Hippisch Centrum Exloo\, Valtherweg 27A\, Exloo\, Drenthe\, 7875 TA\, Nederland
ORGANIZER;CN="Hippisch Centrum Exloo":MAILTO:info@hippischcentrumexloo.nl
END:VEVENT
BEGIN:VEVENT
DTSTART;TZID=Europe/Amsterdam:20191021T190000
DTEND;TZID=Europe/Amsterdam:20191021T210000
DTSTAMP:20260422T020048
CREATED:20190826T071417Z
LAST-MODIFIED:20190826T071417Z
UID:8008-1571684400-1571691600@www.hippischcentrumexloo.nl
SUMMARY:Spring les Marleen Meijer
DESCRIPTION:Er is spring les van 19.00 tot 21.00 in de piste of als het slecht weer is in een van de binnen bakken.
URL:https://www.hippischcentrumexloo.nl/evenement/spring-les-marleen-meijer-2019-10-21/
LOCATION:Hippisch Centrum Exloo\, Valtherweg 27A\, Exloo\, Drenthe\, 7875 TA\, Nederland
CATEGORIES:Springtraining
ORGANIZER;CN="Hippisch Centrum Exloo":MAILTO:info@hippischcentrumexloo.nl
END:VEVENT
BEGIN:VEVENT
DTSTART;VALUE=DATE:20191020
DTEND;VALUE=DATE:20191021
DTSTAMP:20260422T020048
CREATED:20190923T083521Z
LAST-MODIFIED:20190923T083521Z
UID:8114-1571529600-1571615999@www.hippischcentrumexloo.nl
SUMMARY:Proefgerichte Training Floor Vos
DESCRIPTION:Proefgerichte dressuur les van Floor Vos \nvoor info: info@dressuurstalfloorvos.nl \n\nin een van de binnen bakken.
URL:https://www.hippischcentrumexloo.nl/evenement/proefgerichte-training-floor-vos-4/
LOCATION:Hippisch Centrum Exloo\, Valtherweg 27A\, Exloo\, Drenthe\, 7875 TA\, Nederland
ORGANIZER;CN="Hippisch Centrum Exloo":MAILTO:info@hippischcentrumexloo.nl
END:VEVENT
BEGIN:VEVENT
DTSTART;TZID=Europe/Amsterdam:20191019T080000
DTEND;TZID=Europe/Amsterdam:20191019T170000
DTSTAMP:20260422T020048
CREATED:20190212T095332Z
LAST-MODIFIED:20190212T095332Z
UID:7544-1571472000-1571504400@www.hippischcentrumexloo.nl
SUMMARY:Eindexamen KFPS
DESCRIPTION:Eindexamen zadelproef Friese paarden \nBezetting: grote hal
URL:https://www.hippischcentrumexloo.nl/evenement/eindexamen-kfps/
LOCATION:Hippisch Centrum Exloo\, Valtherweg 27A\, Exloo\, Drenthe\, 7875 TA\, Nederland
CATEGORIES:Keuring
ORGANIZER;CN="Hippisch Centrum Exloo":MAILTO:info@hippischcentrumexloo.nl
END:VEVENT
BEGIN:VEVENT
DTSTART;VALUE=DATE:20191017
DTEND;VALUE=DATE:20191018
DTSTAMP:20260422T020048
CREATED:20190916T090714Z
LAST-MODIFIED:20200124T143330Z
UID:8254-1571270400-1571356799@www.hippischcentrumexloo.nl
SUMMARY:Dressuurwedstrijd!
DESCRIPTION:2 proeven rijden op Top bodem! \nvan BB tm ZZL voor paarden en pony’s \nvoor de tijden zie startlijsten! \nopgave via: dressuurexloo@gmail.com
URL:https://www.hippischcentrumexloo.nl/evenement/dressuurwedstrijd-2-2019-10-17/
LOCATION:Hippisch Centrum Exloo\, Valtherweg 27A\, Exloo\, Drenthe\, 7875 TA\, Nederland
ORGANIZER;CN="Hippisch Centrum Exloo":MAILTO:info@hippischcentrumexloo.nl
END:VEVENT
BEGIN:VEVENT
DTSTART;TZID=Europe/Amsterdam:20191016T090000
DTEND;TZID=Europe/Amsterdam:20191016T210000
DTSTAMP:20260422T020048
CREATED:20180924T141414Z
LAST-MODIFIED:20180924T141414Z
UID:8061-1571216400-1571259600@www.hippischcentrumexloo.nl
SUMMARY:Springwedstrijd
DESCRIPTION:Springwedstrijd!! \nVan BB to ZZ voor paarden en pony’s! \nBezette hallen: Alle twee de hallen. \nopgave via Diny Blom: wedstrijdenexloo@gmail.com
URL:https://www.hippischcentrumexloo.nl/evenement/springwedstrijd-2018-12-19-2019-10-16/
LOCATION:Hippisch Centrum Exloo\, Valtherweg 27A\, Exloo\, Drenthe\, 7875 TA\, Nederland
CATEGORIES:Springen
ORGANIZER;CN="Hippisch Centrum Exloo":MAILTO:info@hippischcentrumexloo.nl
END:VEVENT
BEGIN:VEVENT
DTSTART;TZID=Europe/Amsterdam:20191015T190000
DTEND;TZID=Europe/Amsterdam:20191015T210000
DTSTAMP:20260422T020048
CREATED:20190814T130608Z
LAST-MODIFIED:20190923T083106Z
UID:7971-1571166000-1571173200@www.hippischcentrumexloo.nl
SUMMARY:Lessen Floor Vos
DESCRIPTION:er is les in de middelste binnen hal. \n  \n19.00 uur tot 21.00 uur.
URL:https://www.hippischcentrumexloo.nl/evenement/lessen-floor-vos-2-2019-10-15/
LOCATION:Hippisch Centrum Exloo\, Valtherweg 27A\, Exloo\, Drenthe\, 7875 TA\, Nederland
ORGANIZER;CN="Hippisch Centrum Exloo":MAILTO:info@hippischcentrumexloo.nl
END:VEVENT
BEGIN:VEVENT
DTSTART;TZID=Europe/Amsterdam:20191014T190000
DTEND;TZID=Europe/Amsterdam:20191014T210000
DTSTAMP:20260422T020048
CREATED:20190826T071417Z
LAST-MODIFIED:20190826T071417Z
UID:8007-1571079600-1571086800@www.hippischcentrumexloo.nl
SUMMARY:Spring les Marleen Meijer
DESCRIPTION:Er is spring les van 19.00 tot 21.00 in de piste of als het slecht weer is in een van de binnen bakken.
URL:https://www.hippischcentrumexloo.nl/evenement/spring-les-marleen-meijer-2019-10-14/
LOCATION:Hippisch Centrum Exloo\, Valtherweg 27A\, Exloo\, Drenthe\, 7875 TA\, Nederland
CATEGORIES:Springtraining
ORGANIZER;CN="Hippisch Centrum Exloo":MAILTO:info@hippischcentrumexloo.nl
END:VEVENT
BEGIN:VEVENT
DTSTART;TZID=Europe/Amsterdam:20191012T080000
DTEND;TZID=Europe/Amsterdam:20191012T210000
DTSTAMP:20260422T020048
CREATED:20190227T161320Z
LAST-MODIFIED:20190227T161320Z
UID:7632-1570867200-1570914000@www.hippischcentrumexloo.nl
SUMMARY:Veulen Veiling
DESCRIPTION:Nadere info volgt
URL:https://www.hippischcentrumexloo.nl/evenement/veulen-veiling/
LOCATION:Hippisch Centrum Exloo\, Valtherweg 27A\, Exloo\, Drenthe\, 7875 TA\, Nederland
CATEGORIES:Veulenveiling
ORGANIZER;CN="Hippisch Centrum Exloo":MAILTO:info@hippischcentrumexloo.nl
END:VEVENT
BEGIN:VEVENT
DTSTART;TZID=Europe/Amsterdam:20191011T080000
DTEND;TZID=Europe/Amsterdam:20191011T130000
DTSTAMP:20260422T020048
CREATED:20190212T095218Z
LAST-MODIFIED:20190212T100054Z
UID:7542-1570780800-1570798800@www.hippischcentrumexloo.nl
SUMMARY:Observatie KFPS
DESCRIPTION:observatie fries paarden aangespannen \nbezetting binnen of buiten afhankelijk van het weer
URL:https://www.hippischcentrumexloo.nl/evenement/observatie-kfps/
LOCATION:Hippisch Centrum Exloo\, Valtherweg 27A\, Exloo\, Drenthe\, 7875 TA\, Nederland
ORGANIZER;CN="Hippisch Centrum Exloo":MAILTO:info@hippischcentrumexloo.nl
END:VEVENT
BEGIN:VEVENT
DTSTART;TZID=Europe/Amsterdam:20191009T090000
DTEND;TZID=Europe/Amsterdam:20191009T210000
DTSTAMP:20260422T020048
CREATED:20180924T141414Z
LAST-MODIFIED:20180924T141414Z
UID:8060-1570611600-1570654800@www.hippischcentrumexloo.nl
SUMMARY:Springwedstrijd
DESCRIPTION:Springwedstrijd!! \nVan BB to ZZ voor paarden en pony’s! \nBezette hallen: Alle twee de hallen. \nopgave via Diny Blom: wedstrijdenexloo@gmail.com
URL:https://www.hippischcentrumexloo.nl/evenement/springwedstrijd-2018-12-19-2019-10-09/
LOCATION:Hippisch Centrum Exloo\, Valtherweg 27A\, Exloo\, Drenthe\, 7875 TA\, Nederland
CATEGORIES:Springen
ORGANIZER;CN="Hippisch Centrum Exloo":MAILTO:info@hippischcentrumexloo.nl
END:VEVENT
BEGIN:VEVENT
DTSTART;TZID=Europe/Amsterdam:20191008T190000
DTEND;TZID=Europe/Amsterdam:20191008T210000
DTSTAMP:20260422T020048
CREATED:20190814T130608Z
LAST-MODIFIED:20190923T083106Z
UID:7970-1570561200-1570568400@www.hippischcentrumexloo.nl
SUMMARY:Lessen Floor Vos
DESCRIPTION:er is les in de middelste binnen hal. \n  \n19.00 uur tot 21.00 uur.
URL:https://www.hippischcentrumexloo.nl/evenement/lessen-floor-vos-2-2019-10-08/
LOCATION:Hippisch Centrum Exloo\, Valtherweg 27A\, Exloo\, Drenthe\, 7875 TA\, Nederland
ORGANIZER;CN="Hippisch Centrum Exloo":MAILTO:info@hippischcentrumexloo.nl
END:VEVENT
BEGIN:VEVENT
DTSTART;TZID=Europe/Amsterdam:20191007T190000
DTEND;TZID=Europe/Amsterdam:20191007T210000
DTSTAMP:20260422T020048
CREATED:20190826T071417Z
LAST-MODIFIED:20190826T071417Z
UID:8006-1570474800-1570482000@www.hippischcentrumexloo.nl
SUMMARY:Spring les Marleen Meijer
DESCRIPTION:Er is spring les van 19.00 tot 21.00 in de piste of als het slecht weer is in een van de binnen bakken.
URL:https://www.hippischcentrumexloo.nl/evenement/spring-les-marleen-meijer-2019-10-07/
LOCATION:Hippisch Centrum Exloo\, Valtherweg 27A\, Exloo\, Drenthe\, 7875 TA\, Nederland
CATEGORIES:Springtraining
ORGANIZER;CN="Hippisch Centrum Exloo":MAILTO:info@hippischcentrumexloo.nl
END:VEVENT
BEGIN:VEVENT
DTSTART;VALUE=DATE:20191006
DTEND;VALUE=DATE:20191007
DTSTAMP:20260422T020048
CREATED:20190717T103352Z
LAST-MODIFIED:20200124T142213Z
UID:7945-1570320000-1570406399@www.hippischcentrumexloo.nl
SUMMARY:Hippisch Actief Subtop wedstrijd
DESCRIPTION:Subtop wedstrijd \nvoor opgave en info startlijsten.nl
URL:https://www.hippischcentrumexloo.nl/evenement/subtop-wedstrijd/
LOCATION:Valtherweg 27A\, Exloo\, Drenthe\, 7875 TA\, Nederland
CATEGORIES:Subtop
END:VEVENT
BEGIN:VEVENT
DTSTART;TZID=Europe/Amsterdam:20191003T080000
DTEND;TZID=Europe/Amsterdam:20191003T130000
DTSTAMP:20260422T020048
CREATED:20190212T095054Z
LAST-MODIFIED:20190212T100008Z
UID:7540-1570089600-1570107600@www.hippischcentrumexloo.nl
SUMMARY:KFPS observatie
DESCRIPTION:Observatie gastruiters Friese paarden \nbeide hallen
URL:https://www.hippischcentrumexloo.nl/evenement/kfps-observatie-3/
LOCATION:Hippisch Centrum Exloo\, Valtherweg 27A\, Exloo\, Drenthe\, 7875 TA\, Nederland
CATEGORIES:Keuring
ORGANIZER;CN="Hippisch Centrum Exloo":MAILTO:info@hippischcentrumexloo.nl
END:VEVENT
BEGIN:VEVENT
DTSTART;TZID=Europe/Amsterdam:20191002T090000
DTEND;TZID=Europe/Amsterdam:20191002T210000
DTSTAMP:20260422T020048
CREATED:20180924T141414Z
LAST-MODIFIED:20190916T092145Z
UID:6932-1570006800-1570050000@www.hippischcentrumexloo.nl
SUMMARY:Springwedstrijd
DESCRIPTION:Springwedstrijd!! \nVan BB to ZZ voor paarden en pony’s! \nBezette hallen: Alle twee de hallen. \nopgave via Diny Blom: wedstrijdenexloo@gmail.com
URL:https://www.hippischcentrumexloo.nl/evenement/springwedstrijd-2018-12-19/
LOCATION:Hippisch Centrum Exloo\, Valtherweg 27A\, Exloo\, Drenthe\, 7875 TA\, Nederland
CATEGORIES:Springen
ORGANIZER;CN="Hippisch Centrum Exloo":MAILTO:info@hippischcentrumexloo.nl
END:VEVENT
BEGIN:VEVENT
DTSTART;TZID=Europe/Amsterdam:20191001T190000
DTEND;TZID=Europe/Amsterdam:20191001T210000
DTSTAMP:20260422T020048
CREATED:20190814T130608Z
LAST-MODIFIED:20190923T083106Z
UID:7969-1569956400-1569963600@www.hippischcentrumexloo.nl
SUMMARY:Lessen Floor Vos
DESCRIPTION:er is les in de middelste binnen hal. \n  \n19.00 uur tot 21.00 uur.
URL:https://www.hippischcentrumexloo.nl/evenement/lessen-floor-vos-2-2019-10-01/
LOCATION:Hippisch Centrum Exloo\, Valtherweg 27A\, Exloo\, Drenthe\, 7875 TA\, Nederland
ORGANIZER;CN="Hippisch Centrum Exloo":MAILTO:info@hippischcentrumexloo.nl
END:VEVENT
BEGIN:VEVENT
DTSTART;TZID=Europe/Amsterdam:20190930T190000
DTEND;TZID=Europe/Amsterdam:20190930T210000
DTSTAMP:20260422T020048
CREATED:20190826T071417Z
LAST-MODIFIED:20190826T071417Z
UID:8005-1569870000-1569877200@www.hippischcentrumexloo.nl
SUMMARY:Spring les Marleen Meijer
DESCRIPTION:Er is spring les van 19.00 tot 21.00 in de piste of als het slecht weer is in een van de binnen bakken.
URL:https://www.hippischcentrumexloo.nl/evenement/spring-les-marleen-meijer-2019-09-30/
LOCATION:Hippisch Centrum Exloo\, Valtherweg 27A\, Exloo\, Drenthe\, 7875 TA\, Nederland
CATEGORIES:Springtraining
ORGANIZER;CN="Hippisch Centrum Exloo":MAILTO:info@hippischcentrumexloo.nl
END:VEVENT
BEGIN:VEVENT
DTSTART;TZID=Europe/Amsterdam:20190929T090000
DTEND;TZID=Europe/Amsterdam:20190929T160000
DTSTAMP:20260422T020048
CREATED:20190821T123423Z
LAST-MODIFIED:20190923T082854Z
UID:7997-1569747600-1569772800@www.hippischcentrumexloo.nl
SUMMARY:proef gerichte training Floor Vos
DESCRIPTION:vandaag vanaf 09.30 uur proefgerichte training in een grote binnen bak. \nopgave: info@dressuurstalfloorvos.nl \n 
URL:https://www.hippischcentrumexloo.nl/evenement/proef-gerichte-training-floor-vos/
LOCATION:Hippisch Centrum Exloo\, Valtherweg 27A\, Exloo\, Drenthe\, 7875 TA\, Nederland
CATEGORIES:Clinics
ORGANIZER;CN="Hippisch Centrum Exloo":MAILTO:info@hippischcentrumexloo.nl
END:VEVENT
END:VCALENDAR