BEGIN:VCALENDAR
VERSION:2.0
PRODID:-//Hippisch Centrum Exloo - ECPv6.15.17.1//NONSGML v1.0//EN
CALSCALE:GREGORIAN
METHOD:PUBLISH
X-ORIGINAL-URL:https://www.hippischcentrumexloo.nl
X-WR-CALDESC:Evenementen voor Hippisch Centrum Exloo
REFRESH-INTERVAL;VALUE=DURATION:PT1H
X-Robots-Tag:noindex
X-PUBLISHED-TTL:PT1H
BEGIN:VTIMEZONE
TZID:Europe/Amsterdam
BEGIN:DAYLIGHT
TZOFFSETFROM:+0100
TZOFFSETTO:+0200
TZNAME:CEST
DTSTART:20180325T010000
END:DAYLIGHT
BEGIN:STANDARD
TZOFFSETFROM:+0200
TZOFFSETTO:+0100
TZNAME:CET
DTSTART:20181028T010000
END:STANDARD
BEGIN:DAYLIGHT
TZOFFSETFROM:+0100
TZOFFSETTO:+0200
TZNAME:CEST
DTSTART:20190331T010000
END:DAYLIGHT
BEGIN:STANDARD
TZOFFSETFROM:+0200
TZOFFSETTO:+0100
TZNAME:CET
DTSTART:20191027T010000
END:STANDARD
BEGIN:DAYLIGHT
TZOFFSETFROM:+0100
TZOFFSETTO:+0200
TZNAME:CEST
DTSTART:20200329T010000
END:DAYLIGHT
BEGIN:STANDARD
TZOFFSETFROM:+0200
TZOFFSETTO:+0100
TZNAME:CET
DTSTART:20201025T010000
END:STANDARD
END:VTIMEZONE
BEGIN:VEVENT
DTSTART;TZID=Europe/Amsterdam:20190423T190000
DTEND;TZID=Europe/Amsterdam:20190423T210000
DTSTAMP:20260422T031625
CREATED:20190118T093246Z
LAST-MODIFIED:20190118T093246Z
UID:7741-1556046000-1556053200@www.hippischcentrumexloo.nl
SUMMARY:Lessen Ina beuving
DESCRIPTION:Lessen Ina Beuving \nbezet 1 bak of buiten een baan
URL:https://www.hippischcentrumexloo.nl/evenement/lessen-ina-beuving-2-2019-02-21-2019-04-23/
LOCATION:Hippisch Centrum Exloo\, Valtherweg 27A\, Exloo\, Drenthe\, 7875 TA\, Nederland
ORGANIZER;CN="Hippisch Centrum Exloo":MAILTO:info@hippischcentrumexloo.nl
END:VEVENT
BEGIN:VEVENT
DTSTART;TZID=Europe/Amsterdam:20190424T080000
DTEND;TZID=Europe/Amsterdam:20190424T210000
DTSTAMP:20260422T031625
CREATED:20190225T134630Z
LAST-MODIFIED:20190225T134630Z
UID:7598-1556092800-1556139600@www.hippischcentrumexloo.nl
SUMMARY:Springwedstrijd
DESCRIPTION:Springwedstrijd!! \nVan BB to ZZ voor paarden en pony’s! \nbuitenbaan bezet \nopgave via Diny Blom: wedstrijdenexloo@gmail.com
URL:https://www.hippischcentrumexloo.nl/evenement/springwedstrijd-2-2019-04-24/
LOCATION:Hippisch Centrum Exloo\, Valtherweg 27A\, Exloo\, Drenthe\, 7875 TA\, Nederland
CATEGORIES:Springen
ORGANIZER;CN="Hippisch Centrum Exloo":MAILTO:info@hippischcentrumexloo.nl
END:VEVENT
BEGIN:VEVENT
DTSTART;TZID=Europe/Amsterdam:20190427T080000
DTEND;TZID=Europe/Amsterdam:20190428T170000
DTSTAMP:20260422T031625
CREATED:20181112T082327Z
LAST-MODIFIED:20190409T092522Z
UID:7198-1556352000-1556470800@www.hippischcentrumexloo.nl
SUMMARY:Konings concours
DESCRIPTION:Koningsconcours dressuur en springen\, paarden en pony’s \nSpringen paarden en pony’s klasse BB t/m ZZ\, beide dagen 1 parcours\,\n‘S morgens beginnen we met dressuur paarden klasse B t/m ZZL en pony’s klasse Z1/Z2 aansluitend pony’s klasse B t/m M2.\nOpgave dressuur is voor 2 proeven!!\nDressuur wordt verreden op zandbodem. \nAanmelden door je combinatie gegevens te mailen naar: hcewedstrijden@gmail.com \nOp beide dagen is het mogelijk om een parcours te springen en je dressuur proeven te rijden. Dressuur wordt verreden op zandbodem. \nGraag even aangeven als je maar 1 dag wilt deelnemen dit is op zaterdag 27 april 2019 of zondag 28 april 2019\, geef je niets aan gaan wij er vanuit dat je beide dagen aan de start verschijnt!
URL:https://www.hippischcentrumexloo.nl/evenement/konings-concours/
LOCATION:Hippisch Centrum Exloo\, Valtherweg 27A\, Exloo\, Drenthe\, 7875 TA\, Nederland
ORGANIZER;CN="Hippisch Centrum Exloo":MAILTO:info@hippischcentrumexloo.nl
END:VEVENT
BEGIN:VEVENT
DTSTART;TZID=Europe/Amsterdam:20190429T180000
DTEND;TZID=Europe/Amsterdam:20190429T210000
DTSTAMP:20260422T031625
CREATED:20190110T094326Z
LAST-MODIFIED:20190409T081242Z
UID:7462-1556560800-1556571600@www.hippischcentrumexloo.nl
SUMMARY:Springles Marleen Meijer
DESCRIPTION:Springeles buiten en in donker binnen
URL:https://www.hippischcentrumexloo.nl/evenement/springles-marleen-meijer-2019-03-25/
LOCATION:Hippisch Centrum Exloo\, Valtherweg 27A\, Exloo\, Drenthe\, 7875 TA\, Nederland
CATEGORIES:Springen
ORGANIZER;CN="Hippisch Centrum Exloo":MAILTO:info@hippischcentrumexloo.nl
END:VEVENT
BEGIN:VEVENT
DTSTART;TZID=Europe/Amsterdam:20190430T100000
DTEND;TZID=Europe/Amsterdam:20190430T120000
DTSTAMP:20260422T031625
CREATED:20190118T093246Z
LAST-MODIFIED:20190425T073517Z
UID:7742-1556618400-1556625600@www.hippischcentrumexloo.nl
SUMMARY:Lessen Ina beuving
DESCRIPTION:Lessen Ina Beuving  Let op! Deze les is op een andere tijd!! \nbezet 1 bak of buiten een baan
URL:https://www.hippischcentrumexloo.nl/evenement/lessen-ina-beuving-2-2019-02-21-2019-04-30/
LOCATION:Hippisch Centrum Exloo\, Valtherweg 27A\, Exloo\, Drenthe\, 7875 TA\, Nederland
ORGANIZER;CN="Hippisch Centrum Exloo":MAILTO:info@hippischcentrumexloo.nl
END:VEVENT
BEGIN:VEVENT
DTSTART;TZID=Europe/Amsterdam:20190501T080000
DTEND;TZID=Europe/Amsterdam:20190501T210000
DTSTAMP:20260422T031625
CREATED:20190225T134630Z
LAST-MODIFIED:20190225T134630Z
UID:7599-1556697600-1556744400@www.hippischcentrumexloo.nl
SUMMARY:Springwedstrijd
DESCRIPTION:Springwedstrijd!! \nVan BB to ZZ voor paarden en pony’s! \nbuitenbaan bezet \nopgave via Diny Blom: wedstrijdenexloo@gmail.com
URL:https://www.hippischcentrumexloo.nl/evenement/springwedstrijd-2-2019-05-01/
LOCATION:Hippisch Centrum Exloo\, Valtherweg 27A\, Exloo\, Drenthe\, 7875 TA\, Nederland
CATEGORIES:Springen
ORGANIZER;CN="Hippisch Centrum Exloo":MAILTO:info@hippischcentrumexloo.nl
END:VEVENT
BEGIN:VEVENT
DTSTART;TZID=Europe/Amsterdam:20190506T180000
DTEND;TZID=Europe/Amsterdam:20190506T210000
DTSTAMP:20260422T031625
CREATED:20190110T094326Z
LAST-MODIFIED:20190110T094326Z
UID:7729-1557165600-1557176400@www.hippischcentrumexloo.nl
SUMMARY:Springles Marleen Meijer
DESCRIPTION:Springeles buiten en in donker binnen
URL:https://www.hippischcentrumexloo.nl/evenement/springles-marleen-meijer-2019-03-25-2019-05-06/
LOCATION:Hippisch Centrum Exloo\, Valtherweg 27A\, Exloo\, Drenthe\, 7875 TA\, Nederland
CATEGORIES:Springen
ORGANIZER;CN="Hippisch Centrum Exloo":MAILTO:info@hippischcentrumexloo.nl
END:VEVENT
BEGIN:VEVENT
DTSTART;TZID=Europe/Amsterdam:20190507T190000
DTEND;TZID=Europe/Amsterdam:20190507T210000
DTSTAMP:20260422T031625
CREATED:20190118T093246Z
LAST-MODIFIED:20190118T093246Z
UID:7743-1557255600-1557262800@www.hippischcentrumexloo.nl
SUMMARY:Lessen Ina beuving
DESCRIPTION:Lessen Ina Beuving \nbezet 1 bak of buiten een baan
URL:https://www.hippischcentrumexloo.nl/evenement/lessen-ina-beuving-2-2019-02-21-2019-05-07/
LOCATION:Hippisch Centrum Exloo\, Valtherweg 27A\, Exloo\, Drenthe\, 7875 TA\, Nederland
ORGANIZER;CN="Hippisch Centrum Exloo":MAILTO:info@hippischcentrumexloo.nl
END:VEVENT
BEGIN:VEVENT
DTSTART;TZID=Europe/Amsterdam:20190507T190000
DTEND;TZID=Europe/Amsterdam:20190507T210000
DTSTAMP:20260422T031625
CREATED:20190501T101724Z
LAST-MODIFIED:20190501T101724Z
UID:7813-1557255600-1557262800@www.hippischcentrumexloo.nl
SUMMARY:Lessen Floor Vos
DESCRIPTION:specialisatie lessen Floor Vos
URL:https://www.hippischcentrumexloo.nl/evenement/lessen-floor-vos/
LOCATION:Hippisch Centrum Exloo\, Valtherweg 27A\, Exloo\, Drenthe\, 7875 TA\, Nederland
CATEGORIES:Dressuur
ORGANIZER;CN="Hippisch Centrum Exloo":MAILTO:info@hippischcentrumexloo.nl
END:VEVENT
BEGIN:VEVENT
DTSTART;TZID=Europe/Amsterdam:20190508T080000
DTEND;TZID=Europe/Amsterdam:20190508T210000
DTSTAMP:20260422T031625
CREATED:20190225T134630Z
LAST-MODIFIED:20190225T134630Z
UID:7600-1557302400-1557349200@www.hippischcentrumexloo.nl
SUMMARY:Springwedstrijd
DESCRIPTION:Springwedstrijd!! \nVan BB to ZZ voor paarden en pony’s! \nbuitenbaan bezet \nopgave via Diny Blom: wedstrijdenexloo@gmail.com
URL:https://www.hippischcentrumexloo.nl/evenement/springwedstrijd-2-2019-05-08/
LOCATION:Hippisch Centrum Exloo\, Valtherweg 27A\, Exloo\, Drenthe\, 7875 TA\, Nederland
CATEGORIES:Springen
ORGANIZER;CN="Hippisch Centrum Exloo":MAILTO:info@hippischcentrumexloo.nl
END:VEVENT
BEGIN:VEVENT
DTSTART;TZID=Europe/Amsterdam:20190510T080000
DTEND;TZID=Europe/Amsterdam:20190512T170000
DTSTAMP:20260422T031625
CREATED:20181114T143630Z
LAST-MODIFIED:20181114T143630Z
UID:7225-1557475200-1557680400@www.hippischcentrumexloo.nl
SUMMARY:Topsport Dressuur
DESCRIPTION:Topsport dressuur \nbezetting alle terreinen \ninfo volgt
URL:https://www.hippischcentrumexloo.nl/evenement/topsport-dressuur/
LOCATION:Hippisch Centrum Exloo\, Valtherweg 27A\, Exloo\, Drenthe\, 7875 TA\, Nederland
CATEGORIES:Dressuur
ORGANIZER;CN="Hippisch Centrum Exloo":MAILTO:info@hippischcentrumexloo.nl
END:VEVENT
BEGIN:VEVENT
DTSTART;TZID=Europe/Amsterdam:20190513T180000
DTEND;TZID=Europe/Amsterdam:20190513T210000
DTSTAMP:20260422T031625
CREATED:20190110T094326Z
LAST-MODIFIED:20190110T094326Z
UID:7730-1557770400-1557781200@www.hippischcentrumexloo.nl
SUMMARY:Springles Marleen Meijer
DESCRIPTION:Springeles buiten en in donker binnen
URL:https://www.hippischcentrumexloo.nl/evenement/springles-marleen-meijer-2019-03-25-2019-05-13/
LOCATION:Hippisch Centrum Exloo\, Valtherweg 27A\, Exloo\, Drenthe\, 7875 TA\, Nederland
CATEGORIES:Springen
ORGANIZER;CN="Hippisch Centrum Exloo":MAILTO:info@hippischcentrumexloo.nl
END:VEVENT
BEGIN:VEVENT
DTSTART;TZID=Europe/Amsterdam:20190514T190000
DTEND;TZID=Europe/Amsterdam:20190514T210000
DTSTAMP:20260422T031625
CREATED:20190118T093246Z
LAST-MODIFIED:20190118T093246Z
UID:7744-1557860400-1557867600@www.hippischcentrumexloo.nl
SUMMARY:Lessen Ina beuving
DESCRIPTION:Lessen Ina Beuving \nbezet 1 bak of buiten een baan
URL:https://www.hippischcentrumexloo.nl/evenement/lessen-ina-beuving-2-2019-02-21-2019-05-14/
LOCATION:Hippisch Centrum Exloo\, Valtherweg 27A\, Exloo\, Drenthe\, 7875 TA\, Nederland
ORGANIZER;CN="Hippisch Centrum Exloo":MAILTO:info@hippischcentrumexloo.nl
END:VEVENT
BEGIN:VEVENT
DTSTART;TZID=Europe/Amsterdam:20190514T190000
DTEND;TZID=Europe/Amsterdam:20190514T210000
DTSTAMP:20260422T031625
CREATED:20190501T101724Z
LAST-MODIFIED:20190501T101724Z
UID:7815-1557860400-1557867600@www.hippischcentrumexloo.nl
SUMMARY:Lessen Floor Vos
DESCRIPTION:specialisatie lessen Floor Vos
URL:https://www.hippischcentrumexloo.nl/evenement/lessen-floor-vos-2019-05-14/
LOCATION:Hippisch Centrum Exloo\, Valtherweg 27A\, Exloo\, Drenthe\, 7875 TA\, Nederland
CATEGORIES:Dressuur
ORGANIZER;CN="Hippisch Centrum Exloo":MAILTO:info@hippischcentrumexloo.nl
END:VEVENT
BEGIN:VEVENT
DTSTART;TZID=Europe/Amsterdam:20190515T080000
DTEND;TZID=Europe/Amsterdam:20190515T210000
DTSTAMP:20260422T031625
CREATED:20190225T134630Z
LAST-MODIFIED:20190225T134630Z
UID:7601-1557907200-1557954000@www.hippischcentrumexloo.nl
SUMMARY:Springwedstrijd
DESCRIPTION:Springwedstrijd!! \nVan BB to ZZ voor paarden en pony’s! \nbuitenbaan bezet \nopgave via Diny Blom: wedstrijdenexloo@gmail.com
URL:https://www.hippischcentrumexloo.nl/evenement/springwedstrijd-2-2019-05-15/
LOCATION:Hippisch Centrum Exloo\, Valtherweg 27A\, Exloo\, Drenthe\, 7875 TA\, Nederland
CATEGORIES:Springen
ORGANIZER;CN="Hippisch Centrum Exloo":MAILTO:info@hippischcentrumexloo.nl
END:VEVENT
BEGIN:VEVENT
DTSTART;TZID=Europe/Amsterdam:20190520T180000
DTEND;TZID=Europe/Amsterdam:20190520T210000
DTSTAMP:20260422T031625
CREATED:20190110T094326Z
LAST-MODIFIED:20190110T094326Z
UID:7731-1558375200-1558386000@www.hippischcentrumexloo.nl
SUMMARY:Springles Marleen Meijer
DESCRIPTION:Springeles buiten en in donker binnen
URL:https://www.hippischcentrumexloo.nl/evenement/springles-marleen-meijer-2019-03-25-2019-05-20/
LOCATION:Hippisch Centrum Exloo\, Valtherweg 27A\, Exloo\, Drenthe\, 7875 TA\, Nederland
CATEGORIES:Springen
ORGANIZER;CN="Hippisch Centrum Exloo":MAILTO:info@hippischcentrumexloo.nl
END:VEVENT
BEGIN:VEVENT
DTSTART;TZID=Europe/Amsterdam:20190521T190000
DTEND;TZID=Europe/Amsterdam:20190521T210000
DTSTAMP:20260422T031625
CREATED:20190118T093246Z
LAST-MODIFIED:20190118T093246Z
UID:7745-1558465200-1558472400@www.hippischcentrumexloo.nl
SUMMARY:Lessen Ina beuving
DESCRIPTION:Lessen Ina Beuving \nbezet 1 bak of buiten een baan
URL:https://www.hippischcentrumexloo.nl/evenement/lessen-ina-beuving-2-2019-02-21-2019-05-21/
LOCATION:Hippisch Centrum Exloo\, Valtherweg 27A\, Exloo\, Drenthe\, 7875 TA\, Nederland
ORGANIZER;CN="Hippisch Centrum Exloo":MAILTO:info@hippischcentrumexloo.nl
END:VEVENT
BEGIN:VEVENT
DTSTART;TZID=Europe/Amsterdam:20190521T190000
DTEND;TZID=Europe/Amsterdam:20190521T210000
DTSTAMP:20260422T031625
CREATED:20190501T101724Z
LAST-MODIFIED:20190501T101724Z
UID:7816-1558465200-1558472400@www.hippischcentrumexloo.nl
SUMMARY:Lessen Floor Vos
DESCRIPTION:specialisatie lessen Floor Vos
URL:https://www.hippischcentrumexloo.nl/evenement/lessen-floor-vos-2019-05-21/
LOCATION:Hippisch Centrum Exloo\, Valtherweg 27A\, Exloo\, Drenthe\, 7875 TA\, Nederland
CATEGORIES:Dressuur
ORGANIZER;CN="Hippisch Centrum Exloo":MAILTO:info@hippischcentrumexloo.nl
END:VEVENT
BEGIN:VEVENT
DTSTART;TZID=Europe/Amsterdam:20190522T080000
DTEND;TZID=Europe/Amsterdam:20190522T210000
DTSTAMP:20260422T031625
CREATED:20190225T134630Z
LAST-MODIFIED:20190225T134630Z
UID:7602-1558512000-1558558800@www.hippischcentrumexloo.nl
SUMMARY:Springwedstrijd
DESCRIPTION:Springwedstrijd!! \nVan BB to ZZ voor paarden en pony’s! \nbuitenbaan bezet \nopgave via Diny Blom: wedstrijdenexloo@gmail.com
URL:https://www.hippischcentrumexloo.nl/evenement/springwedstrijd-2-2019-05-22/
LOCATION:Hippisch Centrum Exloo\, Valtherweg 27A\, Exloo\, Drenthe\, 7875 TA\, Nederland
CATEGORIES:Springen
ORGANIZER;CN="Hippisch Centrum Exloo":MAILTO:info@hippischcentrumexloo.nl
END:VEVENT
BEGIN:VEVENT
DTSTART;TZID=Europe/Amsterdam:20190523T120000
DTEND;TZID=Europe/Amsterdam:20190523T210000
DTSTAMP:20260422T031625
CREATED:20190501T102014Z
LAST-MODIFIED:20190501T102014Z
UID:7827-1558612800-1558645200@www.hippischcentrumexloo.nl
SUMMARY:Proefgerichte Training Floor Vos
DESCRIPTION:Proefgerichte dressuur les van Floor Vos \nvoor info: info@dressuurstalfloorvos.nl
URL:https://www.hippischcentrumexloo.nl/evenement/proefgerichte-training-floor-vos/
LOCATION:Hippisch Centrum Exloo\, Valtherweg 27A\, Exloo\, Drenthe\, 7875 TA\, Nederland
CATEGORIES:Dressuur
ORGANIZER;CN="Hippisch Centrum Exloo":MAILTO:info@hippischcentrumexloo.nl
END:VEVENT
BEGIN:VEVENT
DTSTART;VALUE=DATE:20190526
DTEND;VALUE=DATE:20190527
DTSTAMP:20260422T031625
CREATED:20190104T125310Z
LAST-MODIFIED:20190104T125310Z
UID:7312-1558828800-1558915199@www.hippischcentrumexloo.nl
SUMMARY:parkeerplaats bezet!
DESCRIPTION:De Golfbaan heeft deze dag de parkeerplaats nodig voor een groot evenement! \nGaarne rekening mee houden en trailers of auto’s rond de manege plaatsen!
URL:https://www.hippischcentrumexloo.nl/evenement/parkeerplaats-bezet/
LOCATION:Hippisch Centrum Exloo\, Valtherweg 27A\, Exloo\, Drenthe\, 7875 TA\, Nederland
ORGANIZER;CN="Hippisch Centrum Exloo":MAILTO:info@hippischcentrumexloo.nl
END:VEVENT
BEGIN:VEVENT
DTSTART;TZID=Europe/Amsterdam:20190527T180000
DTEND;TZID=Europe/Amsterdam:20190527T210000
DTSTAMP:20260422T031625
CREATED:20190110T094326Z
LAST-MODIFIED:20190110T094326Z
UID:7732-1558980000-1558990800@www.hippischcentrumexloo.nl
SUMMARY:Springles Marleen Meijer
DESCRIPTION:Springeles buiten en in donker binnen
URL:https://www.hippischcentrumexloo.nl/evenement/springles-marleen-meijer-2019-03-25-2019-05-27/
LOCATION:Hippisch Centrum Exloo\, Valtherweg 27A\, Exloo\, Drenthe\, 7875 TA\, Nederland
CATEGORIES:Springen
ORGANIZER;CN="Hippisch Centrum Exloo":MAILTO:info@hippischcentrumexloo.nl
END:VEVENT
BEGIN:VEVENT
DTSTART;TZID=Europe/Amsterdam:20190528T190000
DTEND;TZID=Europe/Amsterdam:20190528T210000
DTSTAMP:20260422T031625
CREATED:20190118T093246Z
LAST-MODIFIED:20190118T093246Z
UID:7746-1559070000-1559077200@www.hippischcentrumexloo.nl
SUMMARY:Lessen Ina beuving
DESCRIPTION:Lessen Ina Beuving \nbezet 1 bak of buiten een baan
URL:https://www.hippischcentrumexloo.nl/evenement/lessen-ina-beuving-2-2019-02-21-2019-05-28/
LOCATION:Hippisch Centrum Exloo\, Valtherweg 27A\, Exloo\, Drenthe\, 7875 TA\, Nederland
ORGANIZER;CN="Hippisch Centrum Exloo":MAILTO:info@hippischcentrumexloo.nl
END:VEVENT
BEGIN:VEVENT
DTSTART;TZID=Europe/Amsterdam:20190528T190000
DTEND;TZID=Europe/Amsterdam:20190528T210000
DTSTAMP:20260422T031625
CREATED:20190501T101724Z
LAST-MODIFIED:20190501T101724Z
UID:7817-1559070000-1559077200@www.hippischcentrumexloo.nl
SUMMARY:Lessen Floor Vos
DESCRIPTION:specialisatie lessen Floor Vos
URL:https://www.hippischcentrumexloo.nl/evenement/lessen-floor-vos-2019-05-28/
LOCATION:Hippisch Centrum Exloo\, Valtherweg 27A\, Exloo\, Drenthe\, 7875 TA\, Nederland
CATEGORIES:Dressuur
ORGANIZER;CN="Hippisch Centrum Exloo":MAILTO:info@hippischcentrumexloo.nl
END:VEVENT
BEGIN:VEVENT
DTSTART;TZID=Europe/Amsterdam:20190529T080000
DTEND;TZID=Europe/Amsterdam:20190529T210000
DTSTAMP:20260422T031625
CREATED:20190225T134630Z
LAST-MODIFIED:20190225T134630Z
UID:7603-1559116800-1559163600@www.hippischcentrumexloo.nl
SUMMARY:Springwedstrijd
DESCRIPTION:Springwedstrijd!! \nVan BB to ZZ voor paarden en pony’s! \nbuitenbaan bezet \nopgave via Diny Blom: wedstrijdenexloo@gmail.com
URL:https://www.hippischcentrumexloo.nl/evenement/springwedstrijd-2-2019-05-29/
LOCATION:Hippisch Centrum Exloo\, Valtherweg 27A\, Exloo\, Drenthe\, 7875 TA\, Nederland
CATEGORIES:Springen
ORGANIZER;CN="Hippisch Centrum Exloo":MAILTO:info@hippischcentrumexloo.nl
END:VEVENT
BEGIN:VEVENT
DTSTART;TZID=Europe/Amsterdam:20190529T190000
DTEND;TZID=Europe/Amsterdam:20190529T210000
DTSTAMP:20260422T031625
CREATED:20190527T081340Z
LAST-MODIFIED:20190527T081340Z
UID:7873-1559156400-1559163600@www.hippischcentrumexloo.nl
SUMMARY:training afdelingsdressuur
DESCRIPTION:op de baan binnen de ovaalbaan
URL:https://www.hippischcentrumexloo.nl/evenement/training-afdelingsdressuur/
LOCATION:Hippisch Centrum Exloo\, Valtherweg 27A\, Exloo\, Drenthe\, 7875 TA\, Nederland
CATEGORIES:Dressuur
ORGANIZER;CN="Hippisch Centrum Exloo":MAILTO:info@hippischcentrumexloo.nl
END:VEVENT
BEGIN:VEVENT
DTSTART;TZID=Europe/Amsterdam:20190603T180000
DTEND;TZID=Europe/Amsterdam:20190603T210000
DTSTAMP:20260422T031625
CREATED:20190110T094326Z
LAST-MODIFIED:20190110T094326Z
UID:7733-1559584800-1559595600@www.hippischcentrumexloo.nl
SUMMARY:Springles Marleen Meijer
DESCRIPTION:Springeles buiten en in donker binnen
URL:https://www.hippischcentrumexloo.nl/evenement/springles-marleen-meijer-2019-03-25-2019-06-03/
LOCATION:Hippisch Centrum Exloo\, Valtherweg 27A\, Exloo\, Drenthe\, 7875 TA\, Nederland
CATEGORIES:Springen
ORGANIZER;CN="Hippisch Centrum Exloo":MAILTO:info@hippischcentrumexloo.nl
END:VEVENT
BEGIN:VEVENT
DTSTART;TZID=Europe/Amsterdam:20190604T190000
DTEND;TZID=Europe/Amsterdam:20190604T210000
DTSTAMP:20260422T031625
CREATED:20190118T093246Z
LAST-MODIFIED:20190118T093246Z
UID:7747-1559674800-1559682000@www.hippischcentrumexloo.nl
SUMMARY:Lessen Ina beuving
DESCRIPTION:Lessen Ina Beuving \nbezet 1 bak of buiten een baan
URL:https://www.hippischcentrumexloo.nl/evenement/lessen-ina-beuving-2-2019-02-21-2019-06-04/
LOCATION:Hippisch Centrum Exloo\, Valtherweg 27A\, Exloo\, Drenthe\, 7875 TA\, Nederland
ORGANIZER;CN="Hippisch Centrum Exloo":MAILTO:info@hippischcentrumexloo.nl
END:VEVENT
BEGIN:VEVENT
DTSTART;TZID=Europe/Amsterdam:20190604T190000
DTEND;TZID=Europe/Amsterdam:20190604T210000
DTSTAMP:20260422T031625
CREATED:20190501T101724Z
LAST-MODIFIED:20190501T101724Z
UID:7818-1559674800-1559682000@www.hippischcentrumexloo.nl
SUMMARY:Lessen Floor Vos
DESCRIPTION:specialisatie lessen Floor Vos
URL:https://www.hippischcentrumexloo.nl/evenement/lessen-floor-vos-2019-06-04/
LOCATION:Hippisch Centrum Exloo\, Valtherweg 27A\, Exloo\, Drenthe\, 7875 TA\, Nederland
CATEGORIES:Dressuur
ORGANIZER;CN="Hippisch Centrum Exloo":MAILTO:info@hippischcentrumexloo.nl
END:VEVENT
BEGIN:VEVENT
DTSTART;TZID=Europe/Amsterdam:20190605T080000
DTEND;TZID=Europe/Amsterdam:20190605T210000
DTSTAMP:20260422T031625
CREATED:20190225T134630Z
LAST-MODIFIED:20190225T134630Z
UID:7604-1559721600-1559768400@www.hippischcentrumexloo.nl
SUMMARY:Springwedstrijd
DESCRIPTION:Springwedstrijd!! \nVan BB to ZZ voor paarden en pony’s! \nbuitenbaan bezet \nopgave via Diny Blom: wedstrijdenexloo@gmail.com
URL:https://www.hippischcentrumexloo.nl/evenement/springwedstrijd-2-2019-06-05/
LOCATION:Hippisch Centrum Exloo\, Valtherweg 27A\, Exloo\, Drenthe\, 7875 TA\, Nederland
CATEGORIES:Springen
ORGANIZER;CN="Hippisch Centrum Exloo":MAILTO:info@hippischcentrumexloo.nl
END:VEVENT
END:VCALENDAR