BEGIN:VCALENDAR
VERSION:2.0
PRODID:-//Hippisch Centrum Exloo - ECPv6.15.17.1//NONSGML v1.0//EN
CALSCALE:GREGORIAN
METHOD:PUBLISH
X-WR-CALNAME:Hippisch Centrum Exloo
X-ORIGINAL-URL:https://www.hippischcentrumexloo.nl
X-WR-CALDESC:Evenementen voor Hippisch Centrum Exloo
REFRESH-INTERVAL;VALUE=DURATION:PT1H
X-Robots-Tag:noindex
X-PUBLISHED-TTL:PT1H
BEGIN:VTIMEZONE
TZID:Europe/Amsterdam
BEGIN:DAYLIGHT
TZOFFSETFROM:+0100
TZOFFSETTO:+0200
TZNAME:CEST
DTSTART:20190331T010000
END:DAYLIGHT
BEGIN:STANDARD
TZOFFSETFROM:+0200
TZOFFSETTO:+0100
TZNAME:CET
DTSTART:20191027T010000
END:STANDARD
BEGIN:DAYLIGHT
TZOFFSETFROM:+0100
TZOFFSETTO:+0200
TZNAME:CEST
DTSTART:20200329T010000
END:DAYLIGHT
BEGIN:STANDARD
TZOFFSETFROM:+0200
TZOFFSETTO:+0100
TZNAME:CET
DTSTART:20201025T010000
END:STANDARD
BEGIN:DAYLIGHT
TZOFFSETFROM:+0100
TZOFFSETTO:+0200
TZNAME:CEST
DTSTART:20210328T010000
END:DAYLIGHT
BEGIN:STANDARD
TZOFFSETFROM:+0200
TZOFFSETTO:+0100
TZNAME:CET
DTSTART:20211031T010000
END:STANDARD
END:VTIMEZONE
BEGIN:VEVENT
DTSTART;VALUE=DATE:20200202
DTEND;VALUE=DATE:20200203
DTSTAMP:20260421T081434
CREATED:20191220T120908Z
LAST-MODIFIED:20191220T120908Z
UID:8451-1580601600-1580687999@www.hippischcentrumexloo.nl
SUMMARY:Training van Loes Corsel
DESCRIPTION:training van Loes Corsel \nTijden nog niet bekend \nopgave en info: Meranda 0645438995
URL:https://www.hippischcentrumexloo.nl/evenement/training-van-loes-corsel-2020-02-02/
LOCATION:Hippisch Centrum Exloo\, Valtherweg 27A\, Exloo\, Drenthe\, 7875 TA\, Nederland
ORGANIZER;CN="Hippisch Centrum Exloo":MAILTO:info@hippischcentrumexloo.nl
END:VEVENT
BEGIN:VEVENT
DTSTART;TZID=Europe/Amsterdam:20200203T080000
DTEND;TZID=Europe/Amsterdam:20200203T170000
DTSTAMP:20260421T081434
CREATED:20191209T095238Z
LAST-MODIFIED:20191209T095238Z
UID:8370-1580716800-1580749200@www.hippischcentrumexloo.nl
SUMMARY:Springles Marleen Meijer
DESCRIPTION:bezetting grote bak 19.00 uur tot 21.00 uur
URL:https://www.hippischcentrumexloo.nl/evenement/springles-marleen-meijer-4-2020-02-03/
LOCATION:Hippisch Centrum Exloo\, Valtherweg 27A\, Exloo\, Drenthe\, 7875 TA\, Nederland
ORGANIZER;CN="Hippisch Centrum Exloo":MAILTO:info@hippischcentrumexloo.nl
END:VEVENT
BEGIN:VEVENT
DTSTART;TZID=Europe/Amsterdam:20200204T180000
DTEND;TZID=Europe/Amsterdam:20200204T190000
DTSTAMP:20260421T081434
CREATED:20191209T102321Z
LAST-MODIFIED:20191209T102529Z
UID:8393-1580839200-1580842800@www.hippischcentrumexloo.nl
SUMMARY:JSP lessen Floor Vos
DESCRIPTION:bezetting kleine hal 18.00 uur tot 19.00 uur
URL:https://www.hippischcentrumexloo.nl/evenement/jsp-lessen-floor-vos-2020-02-04/
LOCATION:Hippisch Centrum Exloo\, Valtherweg 27A\, Exloo\, Drenthe\, 7875 TA\, Nederland
ORGANIZER;CN="Hippisch Centrum Exloo":MAILTO:info@hippischcentrumexloo.nl
END:VEVENT
BEGIN:VEVENT
DTSTART;TZID=Europe/Amsterdam:20200204T190000
DTEND;TZID=Europe/Amsterdam:20200204T210000
DTSTAMP:20260421T081434
CREATED:20190118T093246Z
LAST-MODIFIED:20190118T093246Z
UID:8241-1580842800-1580850000@www.hippischcentrumexloo.nl
SUMMARY:Lessen Ina beuving
DESCRIPTION:Lessen Ina Beuving \nbezet 1 binnen bak
URL:https://www.hippischcentrumexloo.nl/evenement/lessen-ina-beuving-2-2019-02-07-2020-02-04/
LOCATION:Hippisch Centrum Exloo\, Valtherweg 27A\, Exloo\, Drenthe\, 7875 TA\, Nederland
ORGANIZER;CN="Hippisch Centrum Exloo":MAILTO:info@hippischcentrumexloo.nl
END:VEVENT
BEGIN:VEVENT
DTSTART;TZID=Europe/Amsterdam:20200204T190000
DTEND;TZID=Europe/Amsterdam:20200204T210000
DTSTAMP:20260421T081434
CREATED:20191209T102450Z
LAST-MODIFIED:20191209T102450Z
UID:8407-1580842800-1580850000@www.hippischcentrumexloo.nl
SUMMARY:Dressuur les Floor Vos
DESCRIPTION:bezetting kleine hal van 19.00 uur to 21.00 uur
URL:https://www.hippischcentrumexloo.nl/evenement/dressuur-les-floor-vos-2020-02-04/
LOCATION:Hippisch Centrum Exloo\, Valtherweg 27A\, Exloo\, Drenthe\, 7875 TA\, Nederland
ORGANIZER;CN="Hippisch Centrum Exloo":MAILTO:info@hippischcentrumexloo.nl
END:VEVENT
BEGIN:VEVENT
DTSTART;TZID=Europe/Amsterdam:20200205T090000
DTEND;TZID=Europe/Amsterdam:20200205T210000
DTSTAMP:20260421T081434
CREATED:20180924T141414Z
LAST-MODIFIED:20180924T141414Z
UID:8077-1580893200-1580936400@www.hippischcentrumexloo.nl
SUMMARY:Springwedstrijd
DESCRIPTION:Springwedstrijd!! \nVan BB to ZZ voor paarden en pony’s! \nBezette hallen: Alle twee de hallen. \nopgave via Diny Blom: wedstrijdenexloo@gmail.com
URL:https://www.hippischcentrumexloo.nl/evenement/springwedstrijd-2018-12-19-2020-02-05/
LOCATION:Hippisch Centrum Exloo\, Valtherweg 27A\, Exloo\, Drenthe\, 7875 TA\, Nederland
CATEGORIES:Springen
ORGANIZER;CN="Hippisch Centrum Exloo":MAILTO:info@hippischcentrumexloo.nl
END:VEVENT
BEGIN:VEVENT
DTSTART;VALUE=DATE:20200206
DTEND;VALUE=DATE:20200207
DTSTAMP:20260421T081434
CREATED:20190916T090714Z
LAST-MODIFIED:20200124T143332Z
UID:8337-1580947200-1581033599@www.hippischcentrumexloo.nl
SUMMARY:Dressuurwedstrijd!
DESCRIPTION:2 proeven rijden op Top bodem! \nvan BB tm ZZL voor paarden en pony’s \nvoor de tijden zie startlijsten! \nopgave via: dressuurexloo@gmail.com
URL:https://www.hippischcentrumexloo.nl/evenement/dressuurwedstrijd-2-2019-10-17-2020-02-06/
LOCATION:Hippisch Centrum Exloo\, Valtherweg 27A\, Exloo\, Drenthe\, 7875 TA\, Nederland
ORGANIZER;CN="Hippisch Centrum Exloo":MAILTO:info@hippischcentrumexloo.nl
END:VEVENT
BEGIN:VEVENT
DTSTART;VALUE=DATE:20200208
DTEND;VALUE=DATE:20200209
DTSTAMP:20260421T081434
CREATED:20191125T102055Z
LAST-MODIFIED:20200124T142707Z
UID:8341-1581120000-1581206399@www.hippischcentrumexloo.nl
SUMMARY:KNHS Topsport jeugdcompetitie
DESCRIPTION:OPTIE! \nJeugd CC \nNadere info volgt….
URL:https://www.hippischcentrumexloo.nl/evenement/jeugd-concours/
LOCATION:Hippisch Centrum Exloo\, Valtherweg 27A\, Exloo\, Drenthe\, 7875 TA\, Nederland
ORGANIZER;CN="Hippisch Centrum Exloo":MAILTO:info@hippischcentrumexloo.nl
END:VEVENT
BEGIN:VEVENT
DTSTART;VALUE=DATE:20200209
DTEND;VALUE=DATE:20200210
DTSTAMP:20260421T081434
CREATED:20190717T103352Z
LAST-MODIFIED:20200209T115642Z
UID:7951-1581206400-1581292799@www.hippischcentrumexloo.nl
SUMMARY:Hippisch Actief Subtop wedstrijd AFGELAST!!!   AFGELAST!!!
DESCRIPTION:Subtop wedstrijd \nvoor opgave en info startlijsten.nl
URL:https://www.hippischcentrumexloo.nl/evenement/subtop-wedstrijd-2020-02-09/
LOCATION:Valtherweg 27A\, Exloo\, Drenthe\, 7875 TA\, Nederland
CATEGORIES:Subtop
END:VEVENT
BEGIN:VEVENT
DTSTART;TZID=Europe/Amsterdam:20200210T080000
DTEND;TZID=Europe/Amsterdam:20200210T170000
DTSTAMP:20260421T081434
CREATED:20191209T095238Z
LAST-MODIFIED:20191209T095238Z
UID:8371-1581321600-1581354000@www.hippischcentrumexloo.nl
SUMMARY:Springles Marleen Meijer
DESCRIPTION:bezetting grote bak 19.00 uur tot 21.00 uur
URL:https://www.hippischcentrumexloo.nl/evenement/springles-marleen-meijer-4-2020-02-10/
LOCATION:Hippisch Centrum Exloo\, Valtherweg 27A\, Exloo\, Drenthe\, 7875 TA\, Nederland
ORGANIZER;CN="Hippisch Centrum Exloo":MAILTO:info@hippischcentrumexloo.nl
END:VEVENT
BEGIN:VEVENT
DTSTART;TZID=Europe/Amsterdam:20200211T180000
DTEND;TZID=Europe/Amsterdam:20200211T190000
DTSTAMP:20260421T081434
CREATED:20191209T102321Z
LAST-MODIFIED:20191209T102530Z
UID:8394-1581444000-1581447600@www.hippischcentrumexloo.nl
SUMMARY:JSP lessen Floor Vos
DESCRIPTION:bezetting kleine hal 18.00 uur tot 19.00 uur
URL:https://www.hippischcentrumexloo.nl/evenement/jsp-lessen-floor-vos-2020-02-11/
LOCATION:Hippisch Centrum Exloo\, Valtherweg 27A\, Exloo\, Drenthe\, 7875 TA\, Nederland
ORGANIZER;CN="Hippisch Centrum Exloo":MAILTO:info@hippischcentrumexloo.nl
END:VEVENT
BEGIN:VEVENT
DTSTART;TZID=Europe/Amsterdam:20200211T190000
DTEND;TZID=Europe/Amsterdam:20200211T210000
DTSTAMP:20260421T081434
CREATED:20190118T093246Z
LAST-MODIFIED:20190118T093246Z
UID:8242-1581447600-1581454800@www.hippischcentrumexloo.nl
SUMMARY:Lessen Ina beuving
DESCRIPTION:Lessen Ina Beuving \nbezet 1 binnen bak
URL:https://www.hippischcentrumexloo.nl/evenement/lessen-ina-beuving-2-2019-02-07-2020-02-11/
LOCATION:Hippisch Centrum Exloo\, Valtherweg 27A\, Exloo\, Drenthe\, 7875 TA\, Nederland
ORGANIZER;CN="Hippisch Centrum Exloo":MAILTO:info@hippischcentrumexloo.nl
END:VEVENT
BEGIN:VEVENT
DTSTART;TZID=Europe/Amsterdam:20200211T190000
DTEND;TZID=Europe/Amsterdam:20200211T210000
DTSTAMP:20260421T081434
CREATED:20191209T102450Z
LAST-MODIFIED:20191209T102450Z
UID:8408-1581447600-1581454800@www.hippischcentrumexloo.nl
SUMMARY:Dressuur les Floor Vos
DESCRIPTION:bezetting kleine hal van 19.00 uur to 21.00 uur
URL:https://www.hippischcentrumexloo.nl/evenement/dressuur-les-floor-vos-2020-02-11/
LOCATION:Hippisch Centrum Exloo\, Valtherweg 27A\, Exloo\, Drenthe\, 7875 TA\, Nederland
ORGANIZER;CN="Hippisch Centrum Exloo":MAILTO:info@hippischcentrumexloo.nl
END:VEVENT
BEGIN:VEVENT
DTSTART;TZID=Europe/Amsterdam:20200212T090000
DTEND;TZID=Europe/Amsterdam:20200212T210000
DTSTAMP:20260421T081434
CREATED:20180924T141414Z
LAST-MODIFIED:20180924T141414Z
UID:8078-1581498000-1581541200@www.hippischcentrumexloo.nl
SUMMARY:Springwedstrijd
DESCRIPTION:Springwedstrijd!! \nVan BB to ZZ voor paarden en pony’s! \nBezette hallen: Alle twee de hallen. \nopgave via Diny Blom: wedstrijdenexloo@gmail.com
URL:https://www.hippischcentrumexloo.nl/evenement/springwedstrijd-2018-12-19-2020-02-12/
LOCATION:Hippisch Centrum Exloo\, Valtherweg 27A\, Exloo\, Drenthe\, 7875 TA\, Nederland
CATEGORIES:Springen
ORGANIZER;CN="Hippisch Centrum Exloo":MAILTO:info@hippischcentrumexloo.nl
END:VEVENT
BEGIN:VEVENT
DTSTART;TZID=Europe/Amsterdam:20200213T180000
DTEND;TZID=Europe/Amsterdam:20200213T200000
DTSTAMP:20260421T081434
CREATED:20191017T100834Z
LAST-MODIFIED:20191017T100834Z
UID:8181-1581616800-1581624000@www.hippischcentrumexloo.nl
SUMMARY:JSP Lessen
DESCRIPTION:JSP lessen van Floor Vos \nBezetting Binnenbak
URL:https://www.hippischcentrumexloo.nl/evenement/jsp-lessen-2/
LOCATION:Hippisch Centrum Exloo\, Valtherweg 27A\, Exloo\, Drenthe\, 7875 TA\, Nederland
ORGANIZER;CN="Hippisch Centrum Exloo":MAILTO:info@hippischcentrumexloo.nl
END:VEVENT
BEGIN:VEVENT
DTSTART;TZID=Europe/Amsterdam:20200213T190000
DTEND;TZID=Europe/Amsterdam:20200213T210000
DTSTAMP:20260421T081434
CREATED:20191017T104056Z
LAST-MODIFIED:20191017T104056Z
UID:8251-1581620400-1581627600@www.hippischcentrumexloo.nl
SUMMARY:Lessen Ina Beuving
DESCRIPTION:Bezetting binnen bak
URL:https://www.hippischcentrumexloo.nl/evenement/lessen-ina-beuving-3-2020-02-13/
LOCATION:Hippisch Centrum Exloo\, Valtherweg 27A\, Exloo\, Drenthe\, 7875 TA\, Nederland
ORGANIZER;CN="Hippisch Centrum Exloo":MAILTO:info@hippischcentrumexloo.nl
END:VEVENT
BEGIN:VEVENT
DTSTART;TZID=Europe/Amsterdam:20200215T180000
DTEND;TZID=Europe/Amsterdam:20200215T210000
DTSTAMP:20260421T081434
CREATED:20200108T082130Z
LAST-MODIFIED:20200108T082130Z
UID:8492-1581789600-1581800400@www.hippischcentrumexloo.nl
SUMMARY:Wilde Wedstrijd IJRN
DESCRIPTION:Voor meer info: Anne van Staveren     a.staaveren@kpnplanet.nl \n 
URL:https://www.hippischcentrumexloo.nl/evenement/wilde-wedstrijd-ijrn/
LOCATION:Hippisch Centrum Exloo\, Valtherweg 27A\, Exloo\, Drenthe\, 7875 TA\, Nederland
ORGANIZER;CN="Hippisch Centrum Exloo":MAILTO:info@hippischcentrumexloo.nl
END:VEVENT
BEGIN:VEVENT
DTSTART;VALUE=DATE:20200216
DTEND;VALUE=DATE:20200217
DTSTAMP:20260421T081434
CREATED:20191220T120908Z
LAST-MODIFIED:20191220T120908Z
UID:8452-1581811200-1581897599@www.hippischcentrumexloo.nl
SUMMARY:Training van Loes Corsel
DESCRIPTION:training van Loes Corsel \nTijden nog niet bekend \nopgave en info: Meranda 0645438995
URL:https://www.hippischcentrumexloo.nl/evenement/training-van-loes-corsel-2020-02-16/
LOCATION:Hippisch Centrum Exloo\, Valtherweg 27A\, Exloo\, Drenthe\, 7875 TA\, Nederland
ORGANIZER;CN="Hippisch Centrum Exloo":MAILTO:info@hippischcentrumexloo.nl
END:VEVENT
BEGIN:VEVENT
DTSTART;TZID=Europe/Amsterdam:20200217T080000
DTEND;TZID=Europe/Amsterdam:20200217T170000
DTSTAMP:20260421T081434
CREATED:20191209T095238Z
LAST-MODIFIED:20191209T095238Z
UID:8372-1581926400-1581958800@www.hippischcentrumexloo.nl
SUMMARY:Springles Marleen Meijer
DESCRIPTION:bezetting grote bak 19.00 uur tot 21.00 uur
URL:https://www.hippischcentrumexloo.nl/evenement/springles-marleen-meijer-4-2020-02-17/
LOCATION:Hippisch Centrum Exloo\, Valtherweg 27A\, Exloo\, Drenthe\, 7875 TA\, Nederland
ORGANIZER;CN="Hippisch Centrum Exloo":MAILTO:info@hippischcentrumexloo.nl
END:VEVENT
BEGIN:VEVENT
DTSTART;TZID=Europe/Amsterdam:20200218T180000
DTEND;TZID=Europe/Amsterdam:20200218T190000
DTSTAMP:20260421T081434
CREATED:20191209T102321Z
LAST-MODIFIED:20191209T102530Z
UID:8395-1582048800-1582052400@www.hippischcentrumexloo.nl
SUMMARY:JSP lessen Floor Vos
DESCRIPTION:bezetting kleine hal 18.00 uur tot 19.00 uur
URL:https://www.hippischcentrumexloo.nl/evenement/jsp-lessen-floor-vos-2020-02-18/
LOCATION:Hippisch Centrum Exloo\, Valtherweg 27A\, Exloo\, Drenthe\, 7875 TA\, Nederland
ORGANIZER;CN="Hippisch Centrum Exloo":MAILTO:info@hippischcentrumexloo.nl
END:VEVENT
BEGIN:VEVENT
DTSTART;TZID=Europe/Amsterdam:20200218T190000
DTEND;TZID=Europe/Amsterdam:20200218T210000
DTSTAMP:20260421T081434
CREATED:20190118T093246Z
LAST-MODIFIED:20190118T093246Z
UID:8243-1582052400-1582059600@www.hippischcentrumexloo.nl
SUMMARY:Lessen Ina beuving
DESCRIPTION:Lessen Ina Beuving \nbezet 1 binnen bak
URL:https://www.hippischcentrumexloo.nl/evenement/lessen-ina-beuving-2-2019-02-07-2020-02-18/
LOCATION:Hippisch Centrum Exloo\, Valtherweg 27A\, Exloo\, Drenthe\, 7875 TA\, Nederland
ORGANIZER;CN="Hippisch Centrum Exloo":MAILTO:info@hippischcentrumexloo.nl
END:VEVENT
BEGIN:VEVENT
DTSTART;TZID=Europe/Amsterdam:20200218T190000
DTEND;TZID=Europe/Amsterdam:20200218T210000
DTSTAMP:20260421T081434
CREATED:20191209T102450Z
LAST-MODIFIED:20191209T102450Z
UID:8409-1582052400-1582059600@www.hippischcentrumexloo.nl
SUMMARY:Dressuur les Floor Vos
DESCRIPTION:bezetting kleine hal van 19.00 uur to 21.00 uur
URL:https://www.hippischcentrumexloo.nl/evenement/dressuur-les-floor-vos-2020-02-18/
LOCATION:Hippisch Centrum Exloo\, Valtherweg 27A\, Exloo\, Drenthe\, 7875 TA\, Nederland
ORGANIZER;CN="Hippisch Centrum Exloo":MAILTO:info@hippischcentrumexloo.nl
END:VEVENT
BEGIN:VEVENT
DTSTART;TZID=Europe/Amsterdam:20200219T090000
DTEND;TZID=Europe/Amsterdam:20200219T210000
DTSTAMP:20260421T081434
CREATED:20180924T141414Z
LAST-MODIFIED:20180924T141414Z
UID:8079-1582102800-1582146000@www.hippischcentrumexloo.nl
SUMMARY:Springwedstrijd
DESCRIPTION:Springwedstrijd!! \nVan BB to ZZ voor paarden en pony’s! \nBezette hallen: Alle twee de hallen. \nopgave via Diny Blom: wedstrijdenexloo@gmail.com
URL:https://www.hippischcentrumexloo.nl/evenement/springwedstrijd-2018-12-19-2020-02-19/
LOCATION:Hippisch Centrum Exloo\, Valtherweg 27A\, Exloo\, Drenthe\, 7875 TA\, Nederland
CATEGORIES:Springen
ORGANIZER;CN="Hippisch Centrum Exloo":MAILTO:info@hippischcentrumexloo.nl
END:VEVENT
BEGIN:VEVENT
DTSTART;VALUE=DATE:20200220
DTEND;VALUE=DATE:20200221
DTSTAMP:20260421T081434
CREATED:20190916T090714Z
LAST-MODIFIED:20200124T143339Z
UID:8338-1582156800-1582243199@www.hippischcentrumexloo.nl
SUMMARY:Dressuurwedstrijd!
DESCRIPTION:2 proeven rijden op Top bodem! \nvan BB tm ZZL voor paarden en pony’s \nvoor de tijden zie startlijsten! \nopgave via: dressuurexloo@gmail.com
URL:https://www.hippischcentrumexloo.nl/evenement/dressuurwedstrijd-2-2019-10-17-2020-02-20/
LOCATION:Hippisch Centrum Exloo\, Valtherweg 27A\, Exloo\, Drenthe\, 7875 TA\, Nederland
ORGANIZER;CN="Hippisch Centrum Exloo":MAILTO:info@hippischcentrumexloo.nl
END:VEVENT
BEGIN:VEVENT
DTSTART;TZID=Europe/Amsterdam:20200221T103000
DTEND;TZID=Europe/Amsterdam:20200221T133000
DTSTAMP:20260421T081434
CREATED:20200219T081402Z
LAST-MODIFIED:20200219T081402Z
UID:8643-1582281000-1582291800@www.hippischcentrumexloo.nl
SUMMARY:Prive training
DESCRIPTION:grote hal bezet van 10.30 tm 12.30 \nivm prive training
URL:https://www.hippischcentrumexloo.nl/evenement/prive-training/
LOCATION:Hippisch Centrum Exloo\, Valtherweg 27A\, Exloo\, Drenthe\, 7875 TA\, Nederland
ORGANIZER;CN="Hippisch Centrum Exloo":MAILTO:info@hippischcentrumexloo.nl
END:VEVENT
BEGIN:VEVENT
DTSTART;VALUE=DATE:20200222
DTEND;VALUE=DATE:20200223
DTSTAMP:20260421T081434
CREATED:20200107T085201Z
LAST-MODIFIED:20200107T085201Z
UID:8480-1582329600-1582415999@www.hippischcentrumexloo.nl
SUMMARY:Proefgerichte training Floor Vos
DESCRIPTION:de kleine hal bezet en inrijden in de grote hal \n(voor andere ruiters ook toegankelijk) \n  \nopgave via info@dressuurstalfloorvos.nl \n 
URL:https://www.hippischcentrumexloo.nl/evenement/proefgerichte-training-floor-vos-5/
LOCATION:Hippisch Centrum Exloo\, Valtherweg 27A\, Exloo\, Drenthe\, 7875 TA\, Nederland
CATEGORIES:Dressuur
ORGANIZER;CN="Hippisch Centrum Exloo":MAILTO:info@hippischcentrumexloo.nl
END:VEVENT
BEGIN:VEVENT
DTSTART;TZID=Europe/Amsterdam:20200223T080000
DTEND;TZID=Europe/Amsterdam:20200223T170000
DTSTAMP:20260421T081434
CREATED:20190717T102903Z
LAST-MODIFIED:20191220T122828Z
UID:7943-1582444800-1582477200@www.hippischcentrumexloo.nl
SUMMARY:Open Dressuur wedstrijd PSV HCE Ruiters
DESCRIPTION:dressuur paarden en pony’s B tm ZZL  tw \nDressuur zondag 23 februari 2020\, paarden klasse B t/m ZZL en pony’s klasse B t/m Z2\, inschrijving is voor 2 proeven. \nInschrijven voor deze wedstrijd e-mail: hcewedstrijden@gmail.com  \n  \nBinnen bakken bezet \n 
URL:https://www.hippischcentrumexloo.nl/evenement/kringkampioenschappen-dressuur/
LOCATION:Hippisch Centrum Exloo\, Valtherweg 27A\, Exloo\, Drenthe\, 7875 TA\, Nederland
CATEGORIES:Dressuur
ORGANIZER;CN="Hippisch Centrum Exloo":MAILTO:info@hippischcentrumexloo.nl
END:VEVENT
BEGIN:VEVENT
DTSTART;TZID=Europe/Amsterdam:20200224T080000
DTEND;TZID=Europe/Amsterdam:20200224T170000
DTSTAMP:20260421T081434
CREATED:20191209T095238Z
LAST-MODIFIED:20191209T095238Z
UID:8373-1582531200-1582563600@www.hippischcentrumexloo.nl
SUMMARY:Springles Marleen Meijer
DESCRIPTION:bezetting grote bak 19.00 uur tot 21.00 uur
URL:https://www.hippischcentrumexloo.nl/evenement/springles-marleen-meijer-4-2020-02-24/
LOCATION:Hippisch Centrum Exloo\, Valtherweg 27A\, Exloo\, Drenthe\, 7875 TA\, Nederland
ORGANIZER;CN="Hippisch Centrum Exloo":MAILTO:info@hippischcentrumexloo.nl
END:VEVENT
BEGIN:VEVENT
DTSTART;TZID=Europe/Amsterdam:20200225T180000
DTEND;TZID=Europe/Amsterdam:20200225T190000
DTSTAMP:20260421T081434
CREATED:20191209T102321Z
LAST-MODIFIED:20191209T102530Z
UID:8396-1582653600-1582657200@www.hippischcentrumexloo.nl
SUMMARY:JSP lessen Floor Vos
DESCRIPTION:bezetting kleine hal 18.00 uur tot 19.00 uur
URL:https://www.hippischcentrumexloo.nl/evenement/jsp-lessen-floor-vos-2020-02-25/
LOCATION:Hippisch Centrum Exloo\, Valtherweg 27A\, Exloo\, Drenthe\, 7875 TA\, Nederland
ORGANIZER;CN="Hippisch Centrum Exloo":MAILTO:info@hippischcentrumexloo.nl
END:VEVENT
BEGIN:VEVENT
DTSTART;TZID=Europe/Amsterdam:20200225T190000
DTEND;TZID=Europe/Amsterdam:20200225T210000
DTSTAMP:20260421T081434
CREATED:20190118T093246Z
LAST-MODIFIED:20190118T093246Z
UID:8244-1582657200-1582664400@www.hippischcentrumexloo.nl
SUMMARY:Lessen Ina beuving
DESCRIPTION:Lessen Ina Beuving \nbezet 1 binnen bak
URL:https://www.hippischcentrumexloo.nl/evenement/lessen-ina-beuving-2-2019-02-07-2020-02-25/
LOCATION:Hippisch Centrum Exloo\, Valtherweg 27A\, Exloo\, Drenthe\, 7875 TA\, Nederland
ORGANIZER;CN="Hippisch Centrum Exloo":MAILTO:info@hippischcentrumexloo.nl
END:VEVENT
END:VCALENDAR