BEGIN:VCALENDAR
VERSION:2.0
PRODID:-//Hippisch Centrum Exloo - ECPv6.15.17.1//NONSGML v1.0//EN
CALSCALE:GREGORIAN
METHOD:PUBLISH
X-WR-CALNAME:Hippisch Centrum Exloo
X-ORIGINAL-URL:https://www.hippischcentrumexloo.nl
X-WR-CALDESC:Evenementen voor Hippisch Centrum Exloo
REFRESH-INTERVAL;VALUE=DURATION:PT1H
X-Robots-Tag:noindex
X-PUBLISHED-TTL:PT1H
BEGIN:VTIMEZONE
TZID:Europe/Amsterdam
BEGIN:DAYLIGHT
TZOFFSETFROM:+0100
TZOFFSETTO:+0200
TZNAME:CEST
DTSTART:20180325T010000
END:DAYLIGHT
BEGIN:STANDARD
TZOFFSETFROM:+0200
TZOFFSETTO:+0100
TZNAME:CET
DTSTART:20181028T010000
END:STANDARD
BEGIN:DAYLIGHT
TZOFFSETFROM:+0100
TZOFFSETTO:+0200
TZNAME:CEST
DTSTART:20190331T010000
END:DAYLIGHT
BEGIN:STANDARD
TZOFFSETFROM:+0200
TZOFFSETTO:+0100
TZNAME:CET
DTSTART:20191027T010000
END:STANDARD
BEGIN:DAYLIGHT
TZOFFSETFROM:+0100
TZOFFSETTO:+0200
TZNAME:CEST
DTSTART:20200329T010000
END:DAYLIGHT
BEGIN:STANDARD
TZOFFSETFROM:+0200
TZOFFSETTO:+0100
TZNAME:CET
DTSTART:20201025T010000
END:STANDARD
BEGIN:DAYLIGHT
TZOFFSETFROM:+0100
TZOFFSETTO:+0200
TZNAME:CEST
DTSTART:20210328T010000
END:DAYLIGHT
BEGIN:STANDARD
TZOFFSETFROM:+0200
TZOFFSETTO:+0100
TZNAME:CET
DTSTART:20211031T010000
END:STANDARD
END:VTIMEZONE
BEGIN:VEVENT
DTSTART;VALUE=DATE:20191130
DTEND;VALUE=DATE:20191202
DTSTAMP:20260421T081437
CREATED:20190815T143827Z
LAST-MODIFIED:20191124T115921Z
UID:7986-1575072000-1575244799@www.hippischcentrumexloo.nl
SUMMARY:Winter Eventing Internationaal
DESCRIPTION:Informatie zie Hoofdpagina \nopgave via indooreventing@gmail.com
URL:https://www.hippischcentrumexloo.nl/evenement/winter-eventing-internationaal/
LOCATION:Hippisch Centrum Exloo\, Valtherweg 27A\, Exloo\, Drenthe\, 7875 TA\, Nederland
CATEGORIES:Evenement
ORGANIZER;CN="Hippisch Centrum Exloo":MAILTO:info@hippischcentrumexloo.nl
END:VEVENT
BEGIN:VEVENT
DTSTART;TZID=Europe/Amsterdam:20191202T190000
DTEND;TZID=Europe/Amsterdam:20191202T210000
DTSTAMP:20260421T081437
CREATED:20190826T071417Z
LAST-MODIFIED:20190826T071417Z
UID:8014-1575313200-1575320400@www.hippischcentrumexloo.nl
SUMMARY:Spring les Marleen Meijer
DESCRIPTION:Er is spring les van 19.00 tot 21.00 in de piste of als het slecht weer is in een van de binnen bakken.
URL:https://www.hippischcentrumexloo.nl/evenement/spring-les-marleen-meijer-2019-12-02/
LOCATION:Hippisch Centrum Exloo\, Valtherweg 27A\, Exloo\, Drenthe\, 7875 TA\, Nederland
CATEGORIES:Springtraining
ORGANIZER;CN="Hippisch Centrum Exloo":MAILTO:info@hippischcentrumexloo.nl
END:VEVENT
BEGIN:VEVENT
DTSTART;TZID=Europe/Amsterdam:20191203T180000
DTEND;TZID=Europe/Amsterdam:20191203T190000
DTSTAMP:20260421T081437
CREATED:20181010T071051Z
LAST-MODIFIED:20181010T071051Z
UID:8167-1575396000-1575399600@www.hippischcentrumexloo.nl
SUMMARY:JSP lessen
DESCRIPTION:JSP lessen van Floor Vos \nbezette bak: grote hal
URL:https://www.hippischcentrumexloo.nl/evenement/jsp-lessen-24-2019-12-03/
LOCATION:Hippisch Centrum Exloo\, Valtherweg 27A\, Exloo\, Drenthe\, 7875 TA\, Nederland
ORGANIZER;CN="Hippisch Centrum Exloo":MAILTO:info@hippischcentrumexloo.nl
END:VEVENT
BEGIN:VEVENT
DTSTART;TZID=Europe/Amsterdam:20191203T190000
DTEND;TZID=Europe/Amsterdam:20191203T210000
DTSTAMP:20260421T081437
CREATED:20190118T093246Z
LAST-MODIFIED:20190118T093246Z
UID:8232-1575399600-1575406800@www.hippischcentrumexloo.nl
SUMMARY:Lessen Ina beuving
DESCRIPTION:Lessen Ina Beuving \nbezet 1 binnen bak
URL:https://www.hippischcentrumexloo.nl/evenement/lessen-ina-beuving-2-2019-02-07-2019-12-03/
LOCATION:Hippisch Centrum Exloo\, Valtherweg 27A\, Exloo\, Drenthe\, 7875 TA\, Nederland
ORGANIZER;CN="Hippisch Centrum Exloo":MAILTO:info@hippischcentrumexloo.nl
END:VEVENT
BEGIN:VEVENT
DTSTART;TZID=Europe/Amsterdam:20191203T190000
DTEND;TZID=Europe/Amsterdam:20191203T210000
DTSTAMP:20260421T081437
CREATED:20190814T130608Z
LAST-MODIFIED:20190923T083111Z
UID:7978-1575399600-1575406800@www.hippischcentrumexloo.nl
SUMMARY:Lessen Floor Vos
DESCRIPTION:er is les in de middelste binnen hal. \n  \n19.00 uur tot 21.00 uur.
URL:https://www.hippischcentrumexloo.nl/evenement/lessen-floor-vos-2-2019-12-03/
LOCATION:Hippisch Centrum Exloo\, Valtherweg 27A\, Exloo\, Drenthe\, 7875 TA\, Nederland
ORGANIZER;CN="Hippisch Centrum Exloo":MAILTO:info@hippischcentrumexloo.nl
END:VEVENT
BEGIN:VEVENT
DTSTART;TZID=Europe/Amsterdam:20191204T090000
DTEND;TZID=Europe/Amsterdam:20191204T210000
DTSTAMP:20260421T081437
CREATED:20180924T141414Z
LAST-MODIFIED:20180924T141414Z
UID:8068-1575450000-1575493200@www.hippischcentrumexloo.nl
SUMMARY:Springwedstrijd
DESCRIPTION:Springwedstrijd!! \nVan BB to ZZ voor paarden en pony’s! \nBezette hallen: Alle twee de hallen. \nopgave via Diny Blom: wedstrijdenexloo@gmail.com
URL:https://www.hippischcentrumexloo.nl/evenement/springwedstrijd-2018-12-19-2019-12-04/
LOCATION:Hippisch Centrum Exloo\, Valtherweg 27A\, Exloo\, Drenthe\, 7875 TA\, Nederland
CATEGORIES:Springen
ORGANIZER;CN="Hippisch Centrum Exloo":MAILTO:info@hippischcentrumexloo.nl
END:VEVENT
BEGIN:VEVENT
DTSTART;TZID=Europe/Amsterdam:20191205T180000
DTEND;TZID=Europe/Amsterdam:20191205T200000
DTSTAMP:20260421T081437
CREATED:20181010T071051Z
LAST-MODIFIED:20181010T071051Z
UID:8168-1575568800-1575576000@www.hippischcentrumexloo.nl
SUMMARY:JSP lessen
DESCRIPTION:JSP lessen van Floor Vos \nbezette bak: grote hal
URL:https://www.hippischcentrumexloo.nl/evenement/jsp-lessen-24-2019-12-05/
LOCATION:Hippisch Centrum Exloo\, Valtherweg 27A\, Exloo\, Drenthe\, 7875 TA\, Nederland
ORGANIZER;CN="Hippisch Centrum Exloo":MAILTO:info@hippischcentrumexloo.nl
END:VEVENT
BEGIN:VEVENT
DTSTART;TZID=Europe/Amsterdam:20191205T190000
DTEND;TZID=Europe/Amsterdam:20191205T210000
DTSTAMP:20260421T081437
CREATED:20191017T104056Z
LAST-MODIFIED:20191017T104056Z
UID:8247-1575572400-1575579600@www.hippischcentrumexloo.nl
SUMMARY:Lessen Ina Beuving
DESCRIPTION:Bezetting binnen bak
URL:https://www.hippischcentrumexloo.nl/evenement/lessen-ina-beuving-3-2019-12-05/
LOCATION:Hippisch Centrum Exloo\, Valtherweg 27A\, Exloo\, Drenthe\, 7875 TA\, Nederland
ORGANIZER;CN="Hippisch Centrum Exloo":MAILTO:info@hippischcentrumexloo.nl
END:VEVENT
BEGIN:VEVENT
DTSTART;TZID=Europe/Amsterdam:20191207T133000
DTEND;TZID=Europe/Amsterdam:20191207T163000
DTSTAMP:20260421T081437
CREATED:20191104T150116Z
LAST-MODIFIED:20191120T082044Z
UID:8305-1575725400-1575736200@www.hippischcentrumexloo.nl
SUMMARY:Trainingsdag Talentenplan Floor Vos
DESCRIPTION:de grote bak is gereserveerd voor een training voor de talenten van Floor Vos \nde gehele dag. \n 
URL:https://www.hippischcentrumexloo.nl/evenement/trainingsdag-talentenplan-floor-vos/
LOCATION:Hippisch Centrum Exloo\, Valtherweg 27A\, Exloo\, Drenthe\, 7875 TA\, Nederland
CATEGORIES:Dressuur
ORGANIZER;CN="Hippisch Centrum Exloo":MAILTO:info@hippischcentrumexloo.nl
END:VEVENT
BEGIN:VEVENT
DTSTART;VALUE=DATE:20191208
DTEND;VALUE=DATE:20191209
DTSTAMP:20260421T081437
CREATED:20190717T103352Z
LAST-MODIFIED:20200124T142213Z
UID:7949-1575763200-1575849599@www.hippischcentrumexloo.nl
SUMMARY:Hippisch Actief Subtop wedstrijd
DESCRIPTION:Subtop wedstrijd \nvoor opgave en info startlijsten.nl
URL:https://www.hippischcentrumexloo.nl/evenement/subtop-wedstrijd-2019-12-08/
LOCATION:Valtherweg 27A\, Exloo\, Drenthe\, 7875 TA\, Nederland
CATEGORIES:Subtop
END:VEVENT
BEGIN:VEVENT
DTSTART;TZID=Europe/Amsterdam:20191209T190000
DTEND;TZID=Europe/Amsterdam:20191209T210000
DTSTAMP:20260421T081437
CREATED:20190826T071417Z
LAST-MODIFIED:20190826T071417Z
UID:8015-1575918000-1575925200@www.hippischcentrumexloo.nl
SUMMARY:Spring les Marleen Meijer
DESCRIPTION:Er is spring les van 19.00 tot 21.00 in de piste of als het slecht weer is in een van de binnen bakken.
URL:https://www.hippischcentrumexloo.nl/evenement/spring-les-marleen-meijer-2019-12-09/
LOCATION:Hippisch Centrum Exloo\, Valtherweg 27A\, Exloo\, Drenthe\, 7875 TA\, Nederland
CATEGORIES:Springtraining
ORGANIZER;CN="Hippisch Centrum Exloo":MAILTO:info@hippischcentrumexloo.nl
END:VEVENT
BEGIN:VEVENT
DTSTART;TZID=Europe/Amsterdam:20191210T190000
DTEND;TZID=Europe/Amsterdam:20191210T210000
DTSTAMP:20260421T081437
CREATED:20190118T093246Z
LAST-MODIFIED:20190118T093246Z
UID:8233-1576004400-1576011600@www.hippischcentrumexloo.nl
SUMMARY:Lessen Ina beuving
DESCRIPTION:Lessen Ina Beuving \nbezet 1 binnen bak
URL:https://www.hippischcentrumexloo.nl/evenement/lessen-ina-beuving-2-2019-02-07-2019-12-10/
LOCATION:Hippisch Centrum Exloo\, Valtherweg 27A\, Exloo\, Drenthe\, 7875 TA\, Nederland
ORGANIZER;CN="Hippisch Centrum Exloo":MAILTO:info@hippischcentrumexloo.nl
END:VEVENT
BEGIN:VEVENT
DTSTART;TZID=Europe/Amsterdam:20191210T190000
DTEND;TZID=Europe/Amsterdam:20191210T210000
DTSTAMP:20260421T081437
CREATED:20190814T130608Z
LAST-MODIFIED:20190923T083112Z
UID:7979-1576004400-1576011600@www.hippischcentrumexloo.nl
SUMMARY:Lessen Floor Vos
DESCRIPTION:er is les in de middelste binnen hal. \n  \n19.00 uur tot 21.00 uur.
URL:https://www.hippischcentrumexloo.nl/evenement/lessen-floor-vos-2-2019-12-10/
LOCATION:Hippisch Centrum Exloo\, Valtherweg 27A\, Exloo\, Drenthe\, 7875 TA\, Nederland
ORGANIZER;CN="Hippisch Centrum Exloo":MAILTO:info@hippischcentrumexloo.nl
END:VEVENT
BEGIN:VEVENT
DTSTART;TZID=Europe/Amsterdam:20191211T090000
DTEND;TZID=Europe/Amsterdam:20191211T210000
DTSTAMP:20260421T081437
CREATED:20180924T141414Z
LAST-MODIFIED:20180924T141414Z
UID:8069-1576054800-1576098000@www.hippischcentrumexloo.nl
SUMMARY:Springwedstrijd
DESCRIPTION:Springwedstrijd!! \nVan BB to ZZ voor paarden en pony’s! \nBezette hallen: Alle twee de hallen. \nopgave via Diny Blom: wedstrijdenexloo@gmail.com
URL:https://www.hippischcentrumexloo.nl/evenement/springwedstrijd-2018-12-19-2019-12-11/
LOCATION:Hippisch Centrum Exloo\, Valtherweg 27A\, Exloo\, Drenthe\, 7875 TA\, Nederland
CATEGORIES:Springen
ORGANIZER;CN="Hippisch Centrum Exloo":MAILTO:info@hippischcentrumexloo.nl
END:VEVENT
BEGIN:VEVENT
DTSTART;TZID=Europe/Amsterdam:20191212T080000
DTEND;TZID=Europe/Amsterdam:20191214T213000
DTSTAMP:20260421T081437
CREATED:20190315T132130Z
LAST-MODIFIED:20191104T153458Z
UID:7661-1576137600-1576359000@www.hippischcentrumexloo.nl
SUMMARY:Nationaal Springen!
DESCRIPTION:nationaal springen! \nDonderdagmiddag L en M \nVrijdag M\, Z en 1.40 \nZaterdagochtend M en Z en daarna de Finalewedstrijd van de Roelofsen Horsetrucks Winter Classics (onze competitiewedstrijd over 1.40\, 1.35 en 1.45 GP) \nInschrijvingen kunnen via mijnknhs.nl en annemijn@eventanations.com
URL:https://www.hippischcentrumexloo.nl/evenement/nationaal-springen/
LOCATION:Hippisch Centrum Exloo\, Valtherweg 27A\, Exloo\, Drenthe\, 7875 TA\, Nederland
CATEGORIES:Springen
ORGANIZER;CN="Hippisch Centrum Exloo":MAILTO:info@hippischcentrumexloo.nl
END:VEVENT
BEGIN:VEVENT
DTSTART;TZID=Europe/Amsterdam:20191216T190000
DTEND;TZID=Europe/Amsterdam:20191216T210000
DTSTAMP:20260421T081437
CREATED:20191209T095055Z
LAST-MODIFIED:20191209T095055Z
UID:8363-1576522800-1576530000@www.hippischcentrumexloo.nl
SUMMARY:Springles Marleen Meijer
DESCRIPTION:bezetting grote bak 19.00 uur tot 21.00 uur
URL:https://www.hippischcentrumexloo.nl/evenement/springles-marleen-meijer-3/
LOCATION:Hippisch Centrum Exloo\, Valtherweg 27A\, Exloo\, Drenthe\, 7875 TA\, Nederland
ORGANIZER;CN="Hippisch Centrum Exloo":MAILTO:info@hippischcentrumexloo.nl
END:VEVENT
BEGIN:VEVENT
DTSTART;TZID=Europe/Amsterdam:20191217T180000
DTEND;TZID=Europe/Amsterdam:20191217T190000
DTSTAMP:20260421T081437
CREATED:20181010T071051Z
LAST-MODIFIED:20181010T071051Z
UID:8169-1576605600-1576609200@www.hippischcentrumexloo.nl
SUMMARY:JSP lessen
DESCRIPTION:JSP lessen van Floor Vos \nbezette bak: grote hal
URL:https://www.hippischcentrumexloo.nl/evenement/jsp-lessen-24-2019-12-17/
LOCATION:Hippisch Centrum Exloo\, Valtherweg 27A\, Exloo\, Drenthe\, 7875 TA\, Nederland
ORGANIZER;CN="Hippisch Centrum Exloo":MAILTO:info@hippischcentrumexloo.nl
END:VEVENT
BEGIN:VEVENT
DTSTART;TZID=Europe/Amsterdam:20191217T190000
DTEND;TZID=Europe/Amsterdam:20191217T210000
DTSTAMP:20260421T081437
CREATED:20190814T130608Z
LAST-MODIFIED:20190923T083112Z
UID:7980-1576609200-1576616400@www.hippischcentrumexloo.nl
SUMMARY:Lessen Floor Vos
DESCRIPTION:er is les in de middelste binnen hal. \n  \n19.00 uur tot 21.00 uur.
URL:https://www.hippischcentrumexloo.nl/evenement/lessen-floor-vos-2-2019-12-17/
LOCATION:Hippisch Centrum Exloo\, Valtherweg 27A\, Exloo\, Drenthe\, 7875 TA\, Nederland
ORGANIZER;CN="Hippisch Centrum Exloo":MAILTO:info@hippischcentrumexloo.nl
END:VEVENT
BEGIN:VEVENT
DTSTART;TZID=Europe/Amsterdam:20191218T090000
DTEND;TZID=Europe/Amsterdam:20191218T210000
DTSTAMP:20260421T081437
CREATED:20180924T141414Z
LAST-MODIFIED:20180924T141414Z
UID:8070-1576659600-1576702800@www.hippischcentrumexloo.nl
SUMMARY:Springwedstrijd
DESCRIPTION:Springwedstrijd!! \nVan BB to ZZ voor paarden en pony’s! \nBezette hallen: Alle twee de hallen. \nopgave via Diny Blom: wedstrijdenexloo@gmail.com
URL:https://www.hippischcentrumexloo.nl/evenement/springwedstrijd-2018-12-19-2019-12-18/
LOCATION:Hippisch Centrum Exloo\, Valtherweg 27A\, Exloo\, Drenthe\, 7875 TA\, Nederland
CATEGORIES:Springen
ORGANIZER;CN="Hippisch Centrum Exloo":MAILTO:info@hippischcentrumexloo.nl
END:VEVENT
BEGIN:VEVENT
DTSTART;TZID=Europe/Amsterdam:20191219T080000
DTEND;TZID=Europe/Amsterdam:20191222T170000
DTSTAMP:20260421T081437
CREATED:20190513T075316Z
LAST-MODIFIED:20190513T075316Z
UID:7830-1576742400-1577034000@www.hippischcentrumexloo.nl
SUMMARY:KERST SHOW!!
DESCRIPTION:Grote mega Kerst show voor ouderen \n  \nDe show is 21 en 22 december maar ivm opbouwen de datum zoals aangegeven. \nInfo volgt
URL:https://www.hippischcentrumexloo.nl/evenement/kerst-show/
LOCATION:Hippisch Centrum Exloo\, Valtherweg 27A\, Exloo\, Drenthe\, 7875 TA\, Nederland
CATEGORIES:Show
ORGANIZER;CN="Hippisch Centrum Exloo":MAILTO:info@hippischcentrumexloo.nl
END:VEVENT
BEGIN:VEVENT
DTSTART;TZID=Europe/Amsterdam:20191219T180000
DTEND;TZID=Europe/Amsterdam:20191219T200000
DTSTAMP:20260421T081437
CREATED:20181010T071051Z
LAST-MODIFIED:20181010T071051Z
UID:8170-1576778400-1576785600@www.hippischcentrumexloo.nl
SUMMARY:JSP lessen
DESCRIPTION:JSP lessen van Floor Vos \nbezette bak: grote hal
URL:https://www.hippischcentrumexloo.nl/evenement/jsp-lessen-24-2019-12-19/
LOCATION:Hippisch Centrum Exloo\, Valtherweg 27A\, Exloo\, Drenthe\, 7875 TA\, Nederland
ORGANIZER;CN="Hippisch Centrum Exloo":MAILTO:info@hippischcentrumexloo.nl
END:VEVENT
BEGIN:VEVENT
DTSTART;TZID=Europe/Amsterdam:20191225T090000
DTEND;TZID=Europe/Amsterdam:20191225T210000
DTSTAMP:20260421T081437
CREATED:20180924T141414Z
LAST-MODIFIED:20180924T141414Z
UID:8071-1577264400-1577307600@www.hippischcentrumexloo.nl
SUMMARY:Springwedstrijd
DESCRIPTION:Springwedstrijd!! \nVan BB to ZZ voor paarden en pony’s! \nBezette hallen: Alle twee de hallen. \nopgave via Diny Blom: wedstrijdenexloo@gmail.com
URL:https://www.hippischcentrumexloo.nl/evenement/springwedstrijd-2018-12-19-2019-12-25/
LOCATION:Hippisch Centrum Exloo\, Valtherweg 27A\, Exloo\, Drenthe\, 7875 TA\, Nederland
CATEGORIES:Springen
ORGANIZER;CN="Hippisch Centrum Exloo":MAILTO:info@hippischcentrumexloo.nl
END:VEVENT
BEGIN:VEVENT
DTSTART;TZID=Europe/Amsterdam:20200101T090000
DTEND;TZID=Europe/Amsterdam:20200101T210000
DTSTAMP:20260421T081437
CREATED:20180924T141414Z
LAST-MODIFIED:20180924T141414Z
UID:8072-1577869200-1577912400@www.hippischcentrumexloo.nl
SUMMARY:Springwedstrijd
DESCRIPTION:Springwedstrijd!! \nVan BB to ZZ voor paarden en pony’s! \nBezette hallen: Alle twee de hallen. \nopgave via Diny Blom: wedstrijdenexloo@gmail.com
URL:https://www.hippischcentrumexloo.nl/evenement/springwedstrijd-2018-12-19-2020-01-01/
LOCATION:Hippisch Centrum Exloo\, Valtherweg 27A\, Exloo\, Drenthe\, 7875 TA\, Nederland
CATEGORIES:Springen
ORGANIZER;CN="Hippisch Centrum Exloo":MAILTO:info@hippischcentrumexloo.nl
END:VEVENT
BEGIN:VEVENT
DTSTART;VALUE=DATE:20200103
DTEND;VALUE=DATE:20200104
DTSTAMP:20260421T081437
CREATED:20191207T155636Z
LAST-MODIFIED:20191207T155636Z
UID:8361-1578009600-1578095999@www.hippischcentrumexloo.nl
SUMMARY:Trainingsdag Loes Corsel
DESCRIPTION:Opgave via Loes 0653965388 \nBak bezetting Grote bak.
URL:https://www.hippischcentrumexloo.nl/evenement/trainingsdag-loes-corsel/
LOCATION:Hippisch Centrum Exloo\, Valtherweg 27A\, Exloo\, Drenthe\, 7875 TA\, Nederland
ORGANIZER;CN="Hippisch Centrum Exloo":MAILTO:info@hippischcentrumexloo.nl
END:VEVENT
BEGIN:VEVENT
DTSTART;TZID=Europe/Amsterdam:20200106T080000
DTEND;TZID=Europe/Amsterdam:20200106T170000
DTSTAMP:20260421T081437
CREATED:20191209T095238Z
LAST-MODIFIED:20191209T095238Z
UID:8365-1578297600-1578330000@www.hippischcentrumexloo.nl
SUMMARY:Springles Marleen Meijer
DESCRIPTION:bezetting grote bak 19.00 uur tot 21.00 uur
URL:https://www.hippischcentrumexloo.nl/evenement/springles-marleen-meijer-4/
LOCATION:Hippisch Centrum Exloo\, Valtherweg 27A\, Exloo\, Drenthe\, 7875 TA\, Nederland
ORGANIZER;CN="Hippisch Centrum Exloo":MAILTO:info@hippischcentrumexloo.nl
END:VEVENT
BEGIN:VEVENT
DTSTART;TZID=Europe/Amsterdam:20200107T180000
DTEND;TZID=Europe/Amsterdam:20200107T190000
DTSTAMP:20260421T081437
CREATED:20191209T102321Z
LAST-MODIFIED:20191209T102529Z
UID:8388-1578420000-1578423600@www.hippischcentrumexloo.nl
SUMMARY:JSP lessen Floor Vos
DESCRIPTION:bezetting kleine hal 18.00 uur tot 19.00 uur
URL:https://www.hippischcentrumexloo.nl/evenement/jsp-lessen-floor-vos/
LOCATION:Hippisch Centrum Exloo\, Valtherweg 27A\, Exloo\, Drenthe\, 7875 TA\, Nederland
ORGANIZER;CN="Hippisch Centrum Exloo":MAILTO:info@hippischcentrumexloo.nl
END:VEVENT
BEGIN:VEVENT
DTSTART;TZID=Europe/Amsterdam:20200107T190000
DTEND;TZID=Europe/Amsterdam:20200107T210000
DTSTAMP:20260421T081437
CREATED:20190118T093246Z
LAST-MODIFIED:20190118T093246Z
UID:8237-1578423600-1578430800@www.hippischcentrumexloo.nl
SUMMARY:Lessen Ina beuving
DESCRIPTION:Lessen Ina Beuving \nbezet 1 binnen bak
URL:https://www.hippischcentrumexloo.nl/evenement/lessen-ina-beuving-2-2019-02-07-2020-01-07/
LOCATION:Hippisch Centrum Exloo\, Valtherweg 27A\, Exloo\, Drenthe\, 7875 TA\, Nederland
ORGANIZER;CN="Hippisch Centrum Exloo":MAILTO:info@hippischcentrumexloo.nl
END:VEVENT
BEGIN:VEVENT
DTSTART;TZID=Europe/Amsterdam:20200107T190000
DTEND;TZID=Europe/Amsterdam:20200107T210000
DTSTAMP:20260421T081437
CREATED:20191209T102450Z
LAST-MODIFIED:20191209T102450Z
UID:8402-1578423600-1578430800@www.hippischcentrumexloo.nl
SUMMARY:Dressuur les Floor Vos
DESCRIPTION:bezetting kleine hal van 19.00 uur to 21.00 uur
URL:https://www.hippischcentrumexloo.nl/evenement/dressuur-les-floor-vos/
LOCATION:Hippisch Centrum Exloo\, Valtherweg 27A\, Exloo\, Drenthe\, 7875 TA\, Nederland
ORGANIZER;CN="Hippisch Centrum Exloo":MAILTO:info@hippischcentrumexloo.nl
END:VEVENT
BEGIN:VEVENT
DTSTART;VALUE=DATE:20200110
DTEND;VALUE=DATE:20200111
DTSTAMP:20260421T081437
CREATED:20191209T100858Z
LAST-MODIFIED:20191209T100858Z
UID:8386-1578614400-1578700799@www.hippischcentrumexloo.nl
SUMMARY:trainingsdag Loes Corsel
DESCRIPTION:bezetting binnenbak \nopgave: corsel.loes@gmail.com
URL:https://www.hippischcentrumexloo.nl/evenement/trainingsdag-loes-corsel-2/
LOCATION:Hippisch Centrum Exloo\, Valtherweg 27A\, Exloo\, Drenthe\, 7875 TA\, Nederland
ORGANIZER;CN="Hippisch Centrum Exloo":MAILTO:info@hippischcentrumexloo.nl
END:VEVENT
BEGIN:VEVENT
DTSTART;VALUE=DATE:20200111
DTEND;VALUE=DATE:20200112
DTSTAMP:20260421T081437
CREATED:20191010T093349Z
LAST-MODIFIED:20191209T095823Z
UID:8139-1578700800-1578787199@www.hippischcentrumexloo.nl
SUMMARY:Proefgerichte training Corrie Rave
DESCRIPTION:Op zaterdag 11 januari komt Corrie Rave naar het Hippisch Centrum Exloo om proefgerichte trainingen te geven in de wedstrijdbaan. \nJe kunt kiezen uit een half uur les\, of je rijdt je proef en gaat daarna gericht met Corrie bezig om de onderdelen technisch te verbeteren. \nDe kosten bedragen voor leden van RV Exloo €25\,-  Niet leden €30\,- \nWe geven de eigen leden eerst de kans om zich op te geven. \nDus reageer snel\, want daarna kunnen ook niet leden zich aanmelden voor deze clinic! \nOpgeven kan door te mailen naar: rvexloo-activiteiten@hotmail.com
URL:https://www.hippischcentrumexloo.nl/evenement/proefgerichte-training-corrie-rave/
LOCATION:Hippisch Centrum Exloo\, Valtherweg 27A\, Exloo\, Drenthe\, 7875 TA\, Nederland
ORGANIZER;CN="Hippisch Centrum Exloo":MAILTO:info@hippischcentrumexloo.nl
END:VEVENT
END:VCALENDAR