BEGIN:VCALENDAR
VERSION:2.0
PRODID:-//Hippisch Centrum Exloo - ECPv6.15.17.1//NONSGML v1.0//EN
CALSCALE:GREGORIAN
METHOD:PUBLISH
X-ORIGINAL-URL:https://www.hippischcentrumexloo.nl
X-WR-CALDESC:Evenementen voor Hippisch Centrum Exloo
REFRESH-INTERVAL;VALUE=DURATION:PT1H
X-Robots-Tag:noindex
X-PUBLISHED-TTL:PT1H
BEGIN:VTIMEZONE
TZID:Europe/Amsterdam
BEGIN:DAYLIGHT
TZOFFSETFROM:+0100
TZOFFSETTO:+0200
TZNAME:CEST
DTSTART:20200329T010000
END:DAYLIGHT
BEGIN:STANDARD
TZOFFSETFROM:+0200
TZOFFSETTO:+0100
TZNAME:CET
DTSTART:20201025T010000
END:STANDARD
BEGIN:DAYLIGHT
TZOFFSETFROM:+0100
TZOFFSETTO:+0200
TZNAME:CEST
DTSTART:20210328T010000
END:DAYLIGHT
BEGIN:STANDARD
TZOFFSETFROM:+0200
TZOFFSETTO:+0100
TZNAME:CET
DTSTART:20211031T010000
END:STANDARD
BEGIN:DAYLIGHT
TZOFFSETFROM:+0100
TZOFFSETTO:+0200
TZNAME:CEST
DTSTART:20220327T010000
END:DAYLIGHT
BEGIN:STANDARD
TZOFFSETFROM:+0200
TZOFFSETTO:+0100
TZNAME:CET
DTSTART:20221030T010000
END:STANDARD
END:VTIMEZONE
BEGIN:VEVENT
DTSTART;TZID=Europe/Amsterdam:20211012T080000
DTEND;TZID=Europe/Amsterdam:20211012T130000
DTSTAMP:20260419T160423
CREATED:20210621T121613Z
LAST-MODIFIED:20210621T121613Z
UID:10014-1634025600-1634043600@www.hippischcentrumexloo.nl
SUMMARY:KFPS Voorlopige cijfers vastgesteld
DESCRIPTION:bezetting binnen bak
URL:https://www.hippischcentrumexloo.nl/evenement/kfps-voorlopige-cijfers-vastgesteld/
END:VEVENT
BEGIN:VEVENT
DTSTART;TZID=Europe/Amsterdam:20211012T193000
DTEND;TZID=Europe/Amsterdam:20211012T220000
DTSTAMP:20260419T160423
CREATED:20210719T090318Z
LAST-MODIFIED:20210719T090318Z
UID:10043-1634067000-1634076000@www.hippischcentrumexloo.nl
SUMMARY:KNHS opleiding Jury Springen
DESCRIPTION:Theorie ruimte bezet
URL:https://www.hippischcentrumexloo.nl/evenement/knhs-opleiding-jury-springen-3/
END:VEVENT
END:VCALENDAR