BEGIN:VCALENDAR
VERSION:2.0
PRODID:-//Hippisch Centrum Exloo - ECPv6.15.17.1//NONSGML v1.0//EN
CALSCALE:GREGORIAN
METHOD:PUBLISH
X-WR-CALNAME:Hippisch Centrum Exloo
X-ORIGINAL-URL:https://www.hippischcentrumexloo.nl
X-WR-CALDESC:Evenementen voor Hippisch Centrum Exloo
REFRESH-INTERVAL;VALUE=DURATION:PT1H
X-Robots-Tag:noindex
X-PUBLISHED-TTL:PT1H
BEGIN:VTIMEZONE
TZID:Europe/Amsterdam
BEGIN:DAYLIGHT
TZOFFSETFROM:+0100
TZOFFSETTO:+0200
TZNAME:CEST
DTSTART:20200329T010000
END:DAYLIGHT
BEGIN:STANDARD
TZOFFSETFROM:+0200
TZOFFSETTO:+0100
TZNAME:CET
DTSTART:20201025T010000
END:STANDARD
BEGIN:DAYLIGHT
TZOFFSETFROM:+0100
TZOFFSETTO:+0200
TZNAME:CEST
DTSTART:20210328T010000
END:DAYLIGHT
BEGIN:STANDARD
TZOFFSETFROM:+0200
TZOFFSETTO:+0100
TZNAME:CET
DTSTART:20211031T010000
END:STANDARD
BEGIN:DAYLIGHT
TZOFFSETFROM:+0100
TZOFFSETTO:+0200
TZNAME:CEST
DTSTART:20220327T010000
END:DAYLIGHT
BEGIN:STANDARD
TZOFFSETFROM:+0200
TZOFFSETTO:+0100
TZNAME:CET
DTSTART:20221030T010000
END:STANDARD
END:VTIMEZONE
BEGIN:VEVENT
DTSTART;TZID=Europe/Amsterdam:20211006T080000
DTEND;TZID=Europe/Amsterdam:20211006T130000
DTSTAMP:20260419T162013
CREATED:20210621T121433Z
LAST-MODIFIED:20210830T081745Z
UID:10010-1633507200-1633525200@www.hippischcentrumexloo.nl
SUMMARY:KFPS eigen ruiters
DESCRIPTION:bezetting binnen bak
URL:https://www.hippischcentrumexloo.nl/evenement/kfps-eigen-ruiters/
END:VEVENT
END:VCALENDAR