BEGIN:VCALENDAR
VERSION:2.0
PRODID:-//Hippisch Centrum Exloo - ECPv6.15.17.1//NONSGML v1.0//EN
CALSCALE:GREGORIAN
METHOD:PUBLISH
X-WR-CALNAME:Hippisch Centrum Exloo
X-ORIGINAL-URL:https://www.hippischcentrumexloo.nl
X-WR-CALDESC:Evenementen voor Hippisch Centrum Exloo
REFRESH-INTERVAL;VALUE=DURATION:PT1H
X-Robots-Tag:noindex
X-PUBLISHED-TTL:PT1H
BEGIN:VTIMEZONE
TZID:Europe/Amsterdam
BEGIN:DAYLIGHT
TZOFFSETFROM:+0100
TZOFFSETTO:+0200
TZNAME:CEST
DTSTART:20200329T010000
END:DAYLIGHT
BEGIN:STANDARD
TZOFFSETFROM:+0200
TZOFFSETTO:+0100
TZNAME:CET
DTSTART:20201025T010000
END:STANDARD
BEGIN:DAYLIGHT
TZOFFSETFROM:+0100
TZOFFSETTO:+0200
TZNAME:CEST
DTSTART:20210328T010000
END:DAYLIGHT
BEGIN:STANDARD
TZOFFSETFROM:+0200
TZOFFSETTO:+0100
TZNAME:CET
DTSTART:20211031T010000
END:STANDARD
BEGIN:DAYLIGHT
TZOFFSETFROM:+0100
TZOFFSETTO:+0200
TZNAME:CEST
DTSTART:20220327T010000
END:DAYLIGHT
BEGIN:STANDARD
TZOFFSETFROM:+0200
TZOFFSETTO:+0100
TZNAME:CET
DTSTART:20221030T010000
END:STANDARD
END:VTIMEZONE
BEGIN:VEVENT
DTSTART;TZID=Europe/Amsterdam:20211001T080000
DTEND;TZID=Europe/Amsterdam:20211001T130000
DTSTAMP:20260419T160338
CREATED:20210621T121353Z
LAST-MODIFIED:20210830T081558Z
UID:10008-1633075200-1633093200@www.hippischcentrumexloo.nl
SUMMARY:KFPS Observatie gastruiters
DESCRIPTION:bezetting binnen bak
URL:https://www.hippischcentrumexloo.nl/evenement/kfps-observatie-gastruiters-2/
END:VEVENT
BEGIN:VEVENT
DTSTART;TZID=Europe/Amsterdam:20211001T080000
DTEND;TZID=Europe/Amsterdam:20211003T170000
DTSTAMP:20260419T160338
CREATED:20210519T124910Z
LAST-MODIFIED:20210519T124910Z
UID:9953-1633075200-1633280400@www.hippischcentrumexloo.nl
SUMMARY:Hippisch Actief Subtop
DESCRIPTION:1 oktober B tm M2 \n2 Oktober Z1 tm ZZZwaar \n3 oktober TT en ZT inclusief jeugd rubrieken. \n  \nOpgave via mijn KNHS.nl of wedstrijden@hippischactief.nl
URL:https://www.hippischcentrumexloo.nl/evenement/hippisch-actief-subtop/
CATEGORIES:Dressuur
END:VEVENT
END:VCALENDAR