BEGIN:VCALENDAR
VERSION:2.0
PRODID:-//Hippisch Centrum Exloo - ECPv6.15.17.1//NONSGML v1.0//EN
CALSCALE:GREGORIAN
METHOD:PUBLISH
X-WR-CALNAME:Hippisch Centrum Exloo
X-ORIGINAL-URL:https://www.hippischcentrumexloo.nl
X-WR-CALDESC:Evenementen voor Hippisch Centrum Exloo
REFRESH-INTERVAL;VALUE=DURATION:PT1H
X-Robots-Tag:noindex
X-PUBLISHED-TTL:PT1H
BEGIN:VTIMEZONE
TZID:Europe/Amsterdam
BEGIN:DAYLIGHT
TZOFFSETFROM:+0100
TZOFFSETTO:+0200
TZNAME:CEST
DTSTART:20200329T010000
END:DAYLIGHT
BEGIN:STANDARD
TZOFFSETFROM:+0200
TZOFFSETTO:+0100
TZNAME:CET
DTSTART:20201025T010000
END:STANDARD
BEGIN:DAYLIGHT
TZOFFSETFROM:+0100
TZOFFSETTO:+0200
TZNAME:CEST
DTSTART:20210328T010000
END:DAYLIGHT
BEGIN:STANDARD
TZOFFSETFROM:+0200
TZOFFSETTO:+0100
TZNAME:CET
DTSTART:20211031T010000
END:STANDARD
BEGIN:DAYLIGHT
TZOFFSETFROM:+0100
TZOFFSETTO:+0200
TZNAME:CEST
DTSTART:20220327T010000
END:DAYLIGHT
BEGIN:STANDARD
TZOFFSETFROM:+0200
TZOFFSETTO:+0100
TZNAME:CET
DTSTART:20221030T010000
END:STANDARD
END:VTIMEZONE
BEGIN:VEVENT
DTSTART;TZID=Europe/Amsterdam:20210918T080000
DTEND;TZID=Europe/Amsterdam:20210919T170000
DTSTAMP:20260419T180536
CREATED:20201026T134431Z
LAST-MODIFIED:20210406T103451Z
UID:9465-1631952000-1632070800@www.hippischcentrumexloo.nl
SUMMARY:Hippisch Actief Subtop en Basiswedstrijd
DESCRIPTION:Zaterdag: \npaarden Z tm ZZ zwaar \nZondag: \nChildren\, Junioren\, Young Riders\, U25\, Lichte Tour\, Zware Tour \n  \nvoor opgave via mijnknhs.nl en voor info: wedstrijden@hippischactief.nl
URL:https://www.hippischcentrumexloo.nl/evenement/hippisch-actief-subtop-en-basiswedstrijd-2021-09-18/
LOCATION:Hippisch Centrum Exloo\, Valtherweg 27A\, Exloo\, Drenthe\, 7875 TA\, Nederland
ORGANIZER;CN="Hippisch Centrum Exloo":MAILTO:info@hippischcentrumexloo.nl
END:VEVENT
BEGIN:VEVENT
DTSTART;TZID=Europe/Amsterdam:20210919T080000
DTEND;TZID=Europe/Amsterdam:20210919T170000
DTSTAMP:20260419T180536
CREATED:20201208T101607Z
LAST-MODIFIED:20201208T101607Z
UID:9576-1632038400-1632070800@www.hippischcentrumexloo.nl
SUMMARY:Veulen keuring YRN
DESCRIPTION:binnen in de grote piste veulen keuring
URL:https://www.hippischcentrumexloo.nl/evenement/veulen-keuring-yrn/
LOCATION:Hippisch Centrum Exloo\, Valtherweg 27A\, Exloo\, Drenthe\, 7875 TA\, Nederland
CATEGORIES:IJRN
ORGANIZER;CN="Hippisch Centrum Exloo":MAILTO:info@hippischcentrumexloo.nl
END:VEVENT
END:VCALENDAR