BEGIN:VCALENDAR
VERSION:2.0
PRODID:-//Hippisch Centrum Exloo - ECPv6.15.17.1//NONSGML v1.0//EN
CALSCALE:GREGORIAN
METHOD:PUBLISH
X-ORIGINAL-URL:https://www.hippischcentrumexloo.nl
X-WR-CALDESC:Evenementen voor Hippisch Centrum Exloo
REFRESH-INTERVAL;VALUE=DURATION:PT1H
X-Robots-Tag:noindex
X-PUBLISHED-TTL:PT1H
BEGIN:VTIMEZONE
TZID:Europe/Amsterdam
BEGIN:DAYLIGHT
TZOFFSETFROM:+0100
TZOFFSETTO:+0200
TZNAME:CEST
DTSTART:20200329T010000
END:DAYLIGHT
BEGIN:STANDARD
TZOFFSETFROM:+0200
TZOFFSETTO:+0100
TZNAME:CET
DTSTART:20201025T010000
END:STANDARD
BEGIN:DAYLIGHT
TZOFFSETFROM:+0100
TZOFFSETTO:+0200
TZNAME:CEST
DTSTART:20210328T010000
END:DAYLIGHT
BEGIN:STANDARD
TZOFFSETFROM:+0200
TZOFFSETTO:+0100
TZNAME:CET
DTSTART:20211031T010000
END:STANDARD
BEGIN:DAYLIGHT
TZOFFSETFROM:+0100
TZOFFSETTO:+0200
TZNAME:CEST
DTSTART:20220327T010000
END:DAYLIGHT
BEGIN:STANDARD
TZOFFSETFROM:+0200
TZOFFSETTO:+0100
TZNAME:CET
DTSTART:20221030T010000
END:STANDARD
END:VTIMEZONE
BEGIN:VEVENT
DTSTART;TZID=Europe/Amsterdam:20210722T080000
DTEND;TZID=Europe/Amsterdam:20210724T170000
DTSTAMP:20260419T213925
CREATED:20200917T074425Z
LAST-MODIFIED:20200917T074425Z
UID:9288-1626940800-1627146000@www.hippischcentrumexloo.nl
SUMMARY:Regiokampioenschappen Drenthe dressuur
DESCRIPTION:dressuur kampioenschappen
URL:https://www.hippischcentrumexloo.nl/evenement/regiokampioenschappen-drenthe-dressuur/
LOCATION:Hippisch Centrum Exloo\, Valtherweg 27A\, Exloo\, Drenthe\, 7875 TA\, Nederland
CATEGORIES:Dressuur
ORGANIZER;CN="Hippisch Centrum Exloo":MAILTO:info@hippischcentrumexloo.nl
END:VEVENT
END:VCALENDAR