BEGIN:VCALENDAR
VERSION:2.0
PRODID:-//Hippisch Centrum Exloo - ECPv6.15.17.1//NONSGML v1.0//EN
CALSCALE:GREGORIAN
METHOD:PUBLISH
X-WR-CALNAME:Hippisch Centrum Exloo
X-ORIGINAL-URL:https://www.hippischcentrumexloo.nl
X-WR-CALDESC:Evenementen voor Hippisch Centrum Exloo
REFRESH-INTERVAL;VALUE=DURATION:PT1H
X-Robots-Tag:noindex
X-PUBLISHED-TTL:PT1H
BEGIN:VTIMEZONE
TZID:Europe/Amsterdam
BEGIN:DAYLIGHT
TZOFFSETFROM:+0100
TZOFFSETTO:+0200
TZNAME:CEST
DTSTART:20200329T010000
END:DAYLIGHT
BEGIN:STANDARD
TZOFFSETFROM:+0200
TZOFFSETTO:+0100
TZNAME:CET
DTSTART:20201025T010000
END:STANDARD
BEGIN:DAYLIGHT
TZOFFSETFROM:+0100
TZOFFSETTO:+0200
TZNAME:CEST
DTSTART:20210328T010000
END:DAYLIGHT
BEGIN:STANDARD
TZOFFSETFROM:+0200
TZOFFSETTO:+0100
TZNAME:CET
DTSTART:20211031T010000
END:STANDARD
BEGIN:DAYLIGHT
TZOFFSETFROM:+0100
TZOFFSETTO:+0200
TZNAME:CEST
DTSTART:20220327T010000
END:DAYLIGHT
BEGIN:STANDARD
TZOFFSETFROM:+0200
TZOFFSETTO:+0100
TZNAME:CET
DTSTART:20221030T010000
END:STANDARD
END:VTIMEZONE
BEGIN:VEVENT
DTSTART;TZID=Europe/Amsterdam:20210618T080000
DTEND;TZID=Europe/Amsterdam:20210620T170000
DTSTAMP:20260419T232608
CREATED:20210416T134119Z
LAST-MODIFIED:20210416T134119Z
UID:9774-1624003200-1624208400@www.hippischcentrumexloo.nl
SUMMARY:YRN WK Kader
DESCRIPTION:ovaal terrein en deel buitenterrein
URL:https://www.hippischcentrumexloo.nl/evenement/yrn-wk-kader/
CATEGORIES:IJRN
END:VEVENT
BEGIN:VEVENT
DTSTART;TZID=Europe/Amsterdam:20210618T130000
DTEND;TZID=Europe/Amsterdam:20210618T163000
DTSTAMP:20260419T232608
CREATED:20210416T133233Z
LAST-MODIFIED:20210416T133233Z
UID:9771-1624021200-1624033800@www.hippischcentrumexloo.nl
SUMMARY:De weg naar Gp bov’n Grunn
DESCRIPTION:Bezetting binnen baan
URL:https://www.hippischcentrumexloo.nl/evenement/de-weg-naar-gp-bovn-grunn-2/
END:VEVENT
END:VCALENDAR