BEGIN:VCALENDAR
VERSION:2.0
PRODID:-//Hippisch Centrum Exloo - ECPv6.15.17.1//NONSGML v1.0//EN
CALSCALE:GREGORIAN
METHOD:PUBLISH
X-WR-CALNAME:Hippisch Centrum Exloo
X-ORIGINAL-URL:https://www.hippischcentrumexloo.nl
X-WR-CALDESC:Evenementen voor Hippisch Centrum Exloo
REFRESH-INTERVAL;VALUE=DURATION:PT1H
X-Robots-Tag:noindex
X-PUBLISHED-TTL:PT1H
BEGIN:VTIMEZONE
TZID:Europe/Amsterdam
BEGIN:DAYLIGHT
TZOFFSETFROM:+0100
TZOFFSETTO:+0200
TZNAME:CEST
DTSTART:20190331T010000
END:DAYLIGHT
BEGIN:STANDARD
TZOFFSETFROM:+0200
TZOFFSETTO:+0100
TZNAME:CET
DTSTART:20191027T010000
END:STANDARD
BEGIN:DAYLIGHT
TZOFFSETFROM:+0100
TZOFFSETTO:+0200
TZNAME:CEST
DTSTART:20200329T010000
END:DAYLIGHT
BEGIN:STANDARD
TZOFFSETFROM:+0200
TZOFFSETTO:+0100
TZNAME:CET
DTSTART:20201025T010000
END:STANDARD
BEGIN:DAYLIGHT
TZOFFSETFROM:+0100
TZOFFSETTO:+0200
TZNAME:CEST
DTSTART:20210328T010000
END:DAYLIGHT
BEGIN:STANDARD
TZOFFSETFROM:+0200
TZOFFSETTO:+0100
TZNAME:CET
DTSTART:20211031T010000
END:STANDARD
END:VTIMEZONE
BEGIN:VEVENT
DTSTART;VALUE=DATE:20200924
DTEND;VALUE=DATE:20200925
DTSTAMP:20260420T172138
CREATED:20200217T101442Z
LAST-MODIFIED:20200217T101442Z
UID:8623-1600905600-1600991999@www.hippischcentrumexloo.nl
SUMMARY:Observatie gastruiters KFPS Friese Hengsten
DESCRIPTION:
URL:https://www.hippischcentrumexloo.nl/evenement/observatie-gastruiters-kfps-friese-hengsten/
LOCATION:Hippisch Centrum Exloo\, Valtherweg 27A\, Exloo\, Drenthe\, 7875 TA\, Nederland
ORGANIZER;CN="Hippisch Centrum Exloo":MAILTO:info@hippischcentrumexloo.nl
END:VEVENT
BEGIN:VEVENT
DTSTART;VALUE=DATE:20200924
DTEND;VALUE=DATE:20200925
DTSTAMP:20260420T172138
CREATED:20200716T084902Z
LAST-MODIFIED:20200716T084902Z
UID:8960-1600905600-1600991999@www.hippischcentrumexloo.nl
SUMMARY:Dressuur wedstrijd
DESCRIPTION:2 proeven rijden op Top bodem! \nvan BB tm ZZL voor paarden en pony’s \nopgave via: dressuurexloo@gmail.com
URL:https://www.hippischcentrumexloo.nl/evenement/dressuur-wedstrijd-3-2020-09-24/
LOCATION:Hippisch Centrum Exloo\, Valtherweg 27A\, Exloo\, Drenthe\, 7875 TA\, Nederland
CATEGORIES:Dressuur
ORGANIZER;CN="Hippisch Centrum Exloo":MAILTO:info@hippischcentrumexloo.nl
END:VEVENT
END:VCALENDAR