BEGIN:VCALENDAR
VERSION:2.0
PRODID:-//Hippisch Centrum Exloo - ECPv6.15.17.1//NONSGML v1.0//EN
CALSCALE:GREGORIAN
METHOD:PUBLISH
X-WR-CALNAME:Hippisch Centrum Exloo
X-ORIGINAL-URL:https://www.hippischcentrumexloo.nl
X-WR-CALDESC:Evenementen voor Hippisch Centrum Exloo
REFRESH-INTERVAL;VALUE=DURATION:PT1H
X-Robots-Tag:noindex
X-PUBLISHED-TTL:PT1H
BEGIN:VTIMEZONE
TZID:Europe/Amsterdam
BEGIN:DAYLIGHT
TZOFFSETFROM:+0100
TZOFFSETTO:+0200
TZNAME:CEST
DTSTART:20190331T010000
END:DAYLIGHT
BEGIN:STANDARD
TZOFFSETFROM:+0200
TZOFFSETTO:+0100
TZNAME:CET
DTSTART:20191027T010000
END:STANDARD
BEGIN:DAYLIGHT
TZOFFSETFROM:+0100
TZOFFSETTO:+0200
TZNAME:CEST
DTSTART:20200329T010000
END:DAYLIGHT
BEGIN:STANDARD
TZOFFSETFROM:+0200
TZOFFSETTO:+0100
TZNAME:CET
DTSTART:20201025T010000
END:STANDARD
BEGIN:DAYLIGHT
TZOFFSETFROM:+0100
TZOFFSETTO:+0200
TZNAME:CEST
DTSTART:20210328T010000
END:DAYLIGHT
BEGIN:STANDARD
TZOFFSETFROM:+0200
TZOFFSETTO:+0100
TZNAME:CET
DTSTART:20211031T010000
END:STANDARD
END:VTIMEZONE
BEGIN:VEVENT
DTSTART;VALUE=DATE:20200908
DTEND;VALUE=DATE:20200909
DTSTAMP:20260420T153355
CREATED:20190212T091612Z
LAST-MODIFIED:20200124T145614Z
UID:7534-1599523200-1599609599@www.hippischcentrumexloo.nl
SUMMARY:Aanlevering friezen KFPS
DESCRIPTION:Het binnen komen van de Friezen voor de keuringen \nbezetting \nbinnen hallen
URL:https://www.hippischcentrumexloo.nl/evenement/aanlevering-friezen-kfps/
LOCATION:Hippisch Centrum Exloo\, Valtherweg 27A\, Exloo\, Drenthe\, 7875 TA\, Nederland
ORGANIZER;CN="Hippisch Centrum Exloo":MAILTO:info@hippischcentrumexloo.nl
END:VEVENT
BEGIN:VEVENT
DTSTART;TZID=Europe/Amsterdam:20200908T190000
DTEND;TZID=Europe/Amsterdam:20200908T210000
DTSTAMP:20260420T153355
CREATED:20200907T132639Z
LAST-MODIFIED:20200907T132639Z
UID:9121-1599591600-1599598800@www.hippischcentrumexloo.nl
SUMMARY:Groepslessen Floor Vos
DESCRIPTION:Bezetting de kleine bak!
URL:https://www.hippischcentrumexloo.nl/evenement/groepslessen-floor-vos-2020-09-08/
LOCATION:Hippisch Centrum Exloo\, Valtherweg 27A\, Exloo\, Drenthe\, 7875 TA\, Nederland
CATEGORIES:Dressuur
ORGANIZER;CN="Hippisch Centrum Exloo":MAILTO:info@hippischcentrumexloo.nl
END:VEVENT
END:VCALENDAR