BEGIN:VCALENDAR
VERSION:2.0
PRODID:-//Hippisch Centrum Exloo - ECPv6.15.17.1//NONSGML v1.0//EN
CALSCALE:GREGORIAN
METHOD:PUBLISH
X-ORIGINAL-URL:https://www.hippischcentrumexloo.nl
X-WR-CALDESC:Evenementen voor Hippisch Centrum Exloo
REFRESH-INTERVAL;VALUE=DURATION:PT1H
X-Robots-Tag:noindex
X-PUBLISHED-TTL:PT1H
BEGIN:VTIMEZONE
TZID:Europe/Amsterdam
BEGIN:DAYLIGHT
TZOFFSETFROM:+0100
TZOFFSETTO:+0200
TZNAME:CEST
DTSTART:20190331T010000
END:DAYLIGHT
BEGIN:STANDARD
TZOFFSETFROM:+0200
TZOFFSETTO:+0100
TZNAME:CET
DTSTART:20191027T010000
END:STANDARD
BEGIN:DAYLIGHT
TZOFFSETFROM:+0100
TZOFFSETTO:+0200
TZNAME:CEST
DTSTART:20200329T010000
END:DAYLIGHT
BEGIN:STANDARD
TZOFFSETFROM:+0200
TZOFFSETTO:+0100
TZNAME:CET
DTSTART:20201025T010000
END:STANDARD
BEGIN:DAYLIGHT
TZOFFSETFROM:+0100
TZOFFSETTO:+0200
TZNAME:CEST
DTSTART:20210328T010000
END:DAYLIGHT
BEGIN:STANDARD
TZOFFSETFROM:+0200
TZOFFSETTO:+0100
TZNAME:CET
DTSTART:20211031T010000
END:STANDARD
END:VTIMEZONE
BEGIN:VEVENT
DTSTART;VALUE=DATE:20200425
DTEND;VALUE=DATE:20200426
DTSTAMP:20260421T002607
CREATED:20191218T134406Z
LAST-MODIFIED:20200303T122014Z
UID:8447-1587772800-1587859199@www.hippischcentrumexloo.nl
SUMMARY:PSV HCE Ruiters Konings Concours
DESCRIPTION:.Koningsconcours dressuur en springen voor paarden en pony’s.\nDressuur paarden klasse B t/m ZZL en pony’s klasse B t/m Z2\,\nSpringen paarden en pony’s klasse BB t/m ZZ.\nInschrijven voor deze wedstrijd e-mail: hcewedstrijden@gmail.com \nKoningsconcours 2020 dressuur en springen\, paarden en pony’s \n  \nZaterdag 25 april\, dressuur: \npaarden klasse B t/m ZZL\, \npony’s klasse B t/m Z2. \nAlle klassen worden verreden op de zandpiste. \nAanmelden is voor twee proeven. \n  \nMaandag 27 april\, springen: \npaarden en pony’s klasse BB t/m ZZ. \nEr kunnen twee parcoursen verreden worden die naast mekaar in de piste staan. Dus zo van het ene parcours door naar het andere parcours. \n  \nAanmelden door je combinatie gegevens te mailen naar: hcewedstrijden@gmail.com \n  \nDe wedstrijdlocatie is; \n  \nHippisch Centrum Exloo \nValtherweg 27A \n7875 TA  EXLOO
URL:https://www.hippischcentrumexloo.nl/evenement/konings-concours-2/
LOCATION:Hippisch Centrum Exloo\, Valtherweg 27A\, Exloo\, Drenthe\, 7875 TA\, Nederland
ORGANIZER;CN="Hippisch Centrum Exloo":MAILTO:info@hippischcentrumexloo.nl
END:VEVENT
END:VCALENDAR