BEGIN:VCALENDAR
VERSION:2.0
PRODID:-//Hippisch Centrum Exloo - ECPv6.15.17.1//NONSGML v1.0//EN
CALSCALE:GREGORIAN
METHOD:PUBLISH
X-ORIGINAL-URL:https://www.hippischcentrumexloo.nl
X-WR-CALDESC:Evenementen voor Hippisch Centrum Exloo
REFRESH-INTERVAL;VALUE=DURATION:PT1H
X-Robots-Tag:noindex
X-PUBLISHED-TTL:PT1H
BEGIN:VTIMEZONE
TZID:Europe/Amsterdam
BEGIN:DAYLIGHT
TZOFFSETFROM:+0100
TZOFFSETTO:+0200
TZNAME:CEST
DTSTART:20190331T010000
END:DAYLIGHT
BEGIN:STANDARD
TZOFFSETFROM:+0200
TZOFFSETTO:+0100
TZNAME:CET
DTSTART:20191027T010000
END:STANDARD
BEGIN:DAYLIGHT
TZOFFSETFROM:+0100
TZOFFSETTO:+0200
TZNAME:CEST
DTSTART:20200329T010000
END:DAYLIGHT
BEGIN:STANDARD
TZOFFSETFROM:+0200
TZOFFSETTO:+0100
TZNAME:CET
DTSTART:20201025T010000
END:STANDARD
BEGIN:DAYLIGHT
TZOFFSETFROM:+0100
TZOFFSETTO:+0200
TZNAME:CEST
DTSTART:20210328T010000
END:DAYLIGHT
BEGIN:STANDARD
TZOFFSETFROM:+0200
TZOFFSETTO:+0100
TZNAME:CET
DTSTART:20211031T010000
END:STANDARD
END:VTIMEZONE
BEGIN:VEVENT
DTSTART;VALUE=DATE:20200405
DTEND;VALUE=DATE:20200406
DTSTAMP:20260421T002526
CREATED:20200225T084217Z
LAST-MODIFIED:20200225T084217Z
UID:8688-1586044800-1586131199@www.hippischcentrumexloo.nl
SUMMARY:Oefendag Subtop proeven
DESCRIPTION:Sta jij op het punt om de overstap te maken naar het ZZ-zwaar of naar een vervolg rubriek binnen de subtop óf loop je steeds tegen uitslagen aan die niet overeenkomen met jouw gevoel over de proef\, dan hebben we nu een interessant aanbod voor je. \nOp 5 april kun je één of meerdere proeven rijden op het niveau van ZZ-zwaar t/m Grand Prix. Je hoeft niet startgerechtigd te zijn om deze proeven te kunnen rijden. Het is ook geen officiële wedstrijd van de KNHS\, maar een oefendag om te kijken waar je staat\, wat je kunt verbeteren of om te kijken of je klaar bent voor een volgende stap. \nJe proef/proeven wordt/worden gejureerd door een Grand Prix jurylid en na afloop van de proef gaat het jurylid met je aan de slag met de onderdelen die verbetering behoeven. Eventueel kun je aansluitend nog een keer de proef rijden. Totale beschikbare tijd per combinatie is een half uur. Je krijgt je ingevulde protocol(len) mee naar huis\, zodat je de uitslag ook later nog eens terug kunt lezen. De bedoeling is natuurlijk dat er progressie zit door de aanwijzingen die je hebt gekregen. \nDe kosten bedragen € 50 per combinatie. Omdat het outdoor seizoen weer voor de deur staat hebben we buiten twee ringen klaar liggen om te gebruiken. We kunnen op dit moment 20 combinaties de gelegenheid geven om deel te nemen. Als de vraag het aanbod overstijgt\, dan gaan we op zoek naar extra juryleden en kan het zijn dat we een splitsing maken in Lichte Tour en Zware Tour. \nBen je niet zelf geïnteresseerd maar ken je wel mensen die baat kunnen hebben wij deelname aan deze oefendag\, deel dit bericht dan gerust\n.\nOpgeven kan door een mail te sturen naar wedstrijden@hippischactief.nl.\nWe willen graag van je weten:\nnaam deelnemer\nnaam paard(en)\nhuidige klassering(en)\nproef/proeven die je wilt rijden (ZZ-Zwaar (proefnummer vermelden)\, Prix St George\, Inter I\, Inter II\, Inter A\, Inter B\, Grand Prix\, Junioren (landen en/of individueel) Young Riders (landen en/of individueel) en U25.\nDe sluitingsdatum is 29 maart 2020. Dan gaan we de startlijst maken sturen die naar je toe. Het inschrijfgeld kan betaald worden op 5 april op het secretariaat. Mocht je je afmelden na de sluitingsdatum dan blijf je het inschrijfgeld verschuldigd\, net als bij reguliere wedstrijden. \nMet vriendelijke groet\nGerda Kamps en Wilmer Lanning \ntel.nr. 06 579 247 46/06 204 523 46
URL:https://www.hippischcentrumexloo.nl/evenement/oefendag-subtop-proeven/
LOCATION:Hippisch Centrum Exloo\, Valtherweg 27A\, Exloo\, Drenthe\, 7875 TA\, Nederland
ORGANIZER;CN="Hippisch Centrum Exloo":MAILTO:info@hippischcentrumexloo.nl
END:VEVENT
END:VCALENDAR