BEGIN:VCALENDAR
VERSION:2.0
PRODID:-//Hippisch Centrum Exloo - ECPv6.15.17.1//NONSGML v1.0//EN
CALSCALE:GREGORIAN
METHOD:PUBLISH
X-ORIGINAL-URL:https://www.hippischcentrumexloo.nl
X-WR-CALDESC:Evenementen voor Hippisch Centrum Exloo
REFRESH-INTERVAL;VALUE=DURATION:PT1H
X-Robots-Tag:noindex
X-PUBLISHED-TTL:PT1H
BEGIN:VTIMEZONE
TZID:Europe/Amsterdam
BEGIN:DAYLIGHT
TZOFFSETFROM:+0100
TZOFFSETTO:+0200
TZNAME:CEST
DTSTART:20190331T010000
END:DAYLIGHT
BEGIN:STANDARD
TZOFFSETFROM:+0200
TZOFFSETTO:+0100
TZNAME:CET
DTSTART:20191027T010000
END:STANDARD
BEGIN:DAYLIGHT
TZOFFSETFROM:+0100
TZOFFSETTO:+0200
TZNAME:CEST
DTSTART:20200329T010000
END:DAYLIGHT
BEGIN:STANDARD
TZOFFSETFROM:+0200
TZOFFSETTO:+0100
TZNAME:CET
DTSTART:20201025T010000
END:STANDARD
BEGIN:DAYLIGHT
TZOFFSETFROM:+0100
TZOFFSETTO:+0200
TZNAME:CEST
DTSTART:20210328T010000
END:DAYLIGHT
BEGIN:STANDARD
TZOFFSETFROM:+0200
TZOFFSETTO:+0100
TZNAME:CET
DTSTART:20211031T010000
END:STANDARD
END:VTIMEZONE
BEGIN:VEVENT
DTSTART;VALUE=DATE:20200320
DTEND;VALUE=DATE:20200321
DTSTAMP:20260421T021451
CREATED:20200106T123515Z
LAST-MODIFIED:20200114T140230Z
UID:8478-1584662400-1584748799@www.hippischcentrumexloo.nl
SUMMARY:Gezamelijke Hengste Show Gert Jan van Olst en Reini Tewis
DESCRIPTION:Zaterdagavond begint de show \nnadere info volgt \nde manege is de gehele dag bezet hierdoor.
URL:https://www.hippischcentrumexloo.nl/evenement/gezamelijke-hengste-show-gert-jan-van-olst-en-reini-tewis/
LOCATION:Hippisch Centrum Exloo\, Valtherweg 27A\, Exloo\, Drenthe\, 7875 TA\, Nederland
ORGANIZER;CN="Hippisch Centrum Exloo":MAILTO:info@hippischcentrumexloo.nl
END:VEVENT
END:VCALENDAR