BEGIN:VCALENDAR
VERSION:2.0
PRODID:-//Hippisch Centrum Exloo - ECPv6.15.17.1//NONSGML v1.0//EN
CALSCALE:GREGORIAN
METHOD:PUBLISH
X-WR-CALNAME:Hippisch Centrum Exloo
X-ORIGINAL-URL:https://www.hippischcentrumexloo.nl
X-WR-CALDESC:Evenementen voor Hippisch Centrum Exloo
REFRESH-INTERVAL;VALUE=DURATION:PT1H
X-Robots-Tag:noindex
X-PUBLISHED-TTL:PT1H
BEGIN:VTIMEZONE
TZID:Europe/Amsterdam
BEGIN:DAYLIGHT
TZOFFSETFROM:+0100
TZOFFSETTO:+0200
TZNAME:CEST
DTSTART:20190331T010000
END:DAYLIGHT
BEGIN:STANDARD
TZOFFSETFROM:+0200
TZOFFSETTO:+0100
TZNAME:CET
DTSTART:20191027T010000
END:STANDARD
BEGIN:DAYLIGHT
TZOFFSETFROM:+0100
TZOFFSETTO:+0200
TZNAME:CEST
DTSTART:20200329T010000
END:DAYLIGHT
BEGIN:STANDARD
TZOFFSETFROM:+0200
TZOFFSETTO:+0100
TZNAME:CET
DTSTART:20201025T010000
END:STANDARD
BEGIN:DAYLIGHT
TZOFFSETFROM:+0100
TZOFFSETTO:+0200
TZNAME:CEST
DTSTART:20210328T010000
END:DAYLIGHT
BEGIN:STANDARD
TZOFFSETFROM:+0200
TZOFFSETTO:+0100
TZNAME:CET
DTSTART:20211031T010000
END:STANDARD
END:VTIMEZONE
BEGIN:VEVENT
DTSTART;TZID=Europe/Amsterdam:20200229T080000
DTEND;TZID=Europe/Amsterdam:20200301T170000
DTSTAMP:20260421T021315
CREATED:20191220T123040Z
LAST-MODIFIED:20200206T134033Z
UID:8460-1582963200-1583082000@www.hippischcentrumexloo.nl
SUMMARY:Oefencross!
DESCRIPTION:OUTDOOR OEFENCROSS PAARDEN & PONY’S \nzaterdag 29 februari & zondag 1 maart 2020 \nPaarden klasse BB – B – L – M\, Pony’s klasse B – L – M\, \nKosten per combinatie: 1e rondje € 17\,50 2e rondje €   7\,50 \nVerplicht zijn een: Bodyprotector\, Cap\, Rijlaarzen of Jodhpurs met Chaps\, Rugnummerhouder\, Beenbescherming paarden en pony’s. \nDe oefencross gaat over zowel een zandbodem\, grasland en door de waterpartij. Leuke start om weer goed voorbereid aan het SGW seizoen te beginnen. Parcours lopen kan tijdens de oefencross. \nAanmelden kan door je combinatie gegevens\, klasse en dag van deelname te mailen naar: indooreventing@gmail.com
URL:https://www.hippischcentrumexloo.nl/evenement/oefencross/
LOCATION:Hippisch Centrum Exloo\, Valtherweg 27A\, Exloo\, Drenthe\, 7875 TA\, Nederland
ORGANIZER;CN="Hippisch Centrum Exloo":MAILTO:info@hippischcentrumexloo.nl
END:VEVENT
END:VCALENDAR