BEGIN:VCALENDAR
VERSION:2.0
PRODID:-//Hippisch Centrum Exloo - ECPv6.15.17.1//NONSGML v1.0//EN
CALSCALE:GREGORIAN
METHOD:PUBLISH
X-ORIGINAL-URL:https://www.hippischcentrumexloo.nl
X-WR-CALDESC:Evenementen voor Hippisch Centrum Exloo
REFRESH-INTERVAL;VALUE=DURATION:PT1H
X-Robots-Tag:noindex
X-PUBLISHED-TTL:PT1H
BEGIN:VTIMEZONE
TZID:Europe/Amsterdam
BEGIN:DAYLIGHT
TZOFFSETFROM:+0100
TZOFFSETTO:+0200
TZNAME:CEST
DTSTART:20180325T010000
END:DAYLIGHT
BEGIN:STANDARD
TZOFFSETFROM:+0200
TZOFFSETTO:+0100
TZNAME:CET
DTSTART:20181028T010000
END:STANDARD
BEGIN:DAYLIGHT
TZOFFSETFROM:+0100
TZOFFSETTO:+0200
TZNAME:CEST
DTSTART:20190331T010000
END:DAYLIGHT
BEGIN:STANDARD
TZOFFSETFROM:+0200
TZOFFSETTO:+0100
TZNAME:CET
DTSTART:20191027T010000
END:STANDARD
BEGIN:DAYLIGHT
TZOFFSETFROM:+0100
TZOFFSETTO:+0200
TZNAME:CEST
DTSTART:20200329T010000
END:DAYLIGHT
BEGIN:STANDARD
TZOFFSETFROM:+0200
TZOFFSETTO:+0100
TZNAME:CET
DTSTART:20201025T010000
END:STANDARD
END:VTIMEZONE
BEGIN:VEVENT
DTSTART;TZID=Europe/Amsterdam:20190706T080000
DTEND;TZID=Europe/Amsterdam:20190707T170000
DTSTAMP:20260421T171054
CREATED:20190123T112637Z
LAST-MODIFIED:20190123T113529Z
UID:7486-1562400000-1562518800@www.hippischcentrumexloo.nl
SUMMARY:Horses2Go Young Talent
DESCRIPTION:Begin zaterdag 6 juli 09.00 uur\nEinde zaterdag 6 juli 17:00 uur\n\n\nBegin zondag 7 juli 09.00 uur\nEinde zondag 7 juli 17:00 uur\n\nEvenement Categorie: Jeugd (zaterdag)\, Volwassen (zondag)\n\nOrganisator\n\nHorses2Go\n\nContactpersonen:\nKelly Jefferson      06- 10 80 67 66\nDenise Beijeman 06- 52 28 59 79\n\nEmail:\ninfo@horses2go.nl
URL:https://www.hippischcentrumexloo.nl/evenement/gereserveerd/
LOCATION:Hippisch Centrum Exloo\, Valtherweg 27A\, Exloo\, Drenthe\, 7875 TA\, Nederland
ORGANIZER;CN="Hippisch Centrum Exloo":MAILTO:info@hippischcentrumexloo.nl
END:VEVENT
END:VCALENDAR